Workbook

Sheet 報表程式
A1: 公 開 類 | O1: 編製機關 | P1: 臺中市海岸資源漁業發展所
A2: 年 報 | B2: 次年2月底前編報 | O2: 表 號 | P2: 20343-02-01-2
A3: 臺中市現有動力漁船數─按漁業別分
Q4: 艘數：艘
H5: 中華民國114年底 | P5: 單位： | Q5: 噸數：噸
Q6: 馬力數：馬力
A7: 漁業別 | B7: 總計 | I7: 單 船 拖 網 | P7: 刺 網
C8: 艘 數 | I8: 艘 數 | O8: 艘 數
A9: 噸位別 | B9: 總 計 | C9: 木 殼 | D9: 鋼 殼 | E9: 塑鋼殼 | F9: 噸數 | G9: 馬力數 | H9: 合 計 | I9: 木 殼 | J9: 鋼 殼 | K9: 塑鋼殼 | L9: 噸數 | M9: 馬力數 | N9: 合 計 | O9: 木 殼 | P9: 鋼 殼 | Q9: 塑鋼殼 | R9: 噸數 | S9: 馬力數
A10: 總 計 | B10: =SUBTOTAL(9,B11:B22) -> 265 | C10: =SUBTOTAL(9,C11:C22) -> 6 | D10: =SUBTOTAL(9,D11:D22) -> 0 | E10: =SUBTOTAL(9,E11:E22) -> 259 | F10: =SUBTOTAL(9,F11:F22) -> 4583.58 | G10: =SUBTOTAL(9,G11:G22) -> 80753 | H10: =SUBTOTAL(9,H11:H22) -> 52 | I10: =SUBTOTAL(9,I11:I22) -> 0 | ... S10: =SUBTOTAL(9,S11:S22) -> 7798
A11: 計 | B11: =SUBTOTAL(9,B12:B16) -> 246 | C11: =SUBTOTAL(9,C12:C16) -> 6 | D11: =SUBTOTAL(9,D12:D16) -> 0 | E11: =SUBTOTAL(9,E12:E16) -> 240 | F11: =SUBTOTAL(9,F12:F16) -> 2652.35 | G11: =SUBTOTAL(9,G12:G16) -> 64218 | H11: =SUBTOTAL(9,H12:H16) -> 35 | I11: =SUBTOTAL(9,I12:I16) -> 0 | ... S11: =SUBTOTAL(9,S12:S16) -> 7048
A12: 動 力 舢 舨 | B12: =SUM(H12+N12+續一!B12+續一!H12+續一!N12) -> 105 | C12: =SUM(I12+O12+續一!C12+續一!I12+續一!O12) -> 0 | D12: =SUM(J12+P12+續一!D12+續一!J12+續一!P12) -> 0 | E12: =SUM(K12+Q12+續一!E12+續一!K12+續一!Q12) -> 105 | F12: =SUM(L12+R12+續一!F12+續一!L12+續一!R12) -> 145.18 | G12: =SUM(M12+S12+續一!G12+續一!M12+續一!S12) -> 13789 | H12: =SUM(I12:K12) -> 0 | I12: 0 | J12: 0 | K12: 0 | L12: 0 | M12: 0 | N12: =SUM(O12:Q12) -> 27 | O12: 0 | P12: 0 | Q12: 27 | R12: 35.41 | S12: 2895
A13: 未 滿 五 噸 | B13: =SUM(H13+N13+續一!B13+續一!H13+續一!N13) -> 62 | C13: =SUM(I13+O13+續一!C13+續一!I13+續一!O13) -> 0 | D13: =SUM(J13+P13+續一!D13+續一!J13+續一!P13) -> 0 | E13: =SUM(K13+Q13+續一!E13+續一!K13+續一!Q13) -> 62 | F13: =SUM(L13+R13+續一!F13+續一!L13+續一!R13) -> 174.88 | G13: =SUM(M13+S13+續一!G13+續一!M13+續一!S13) -> 11379 | H13: =SUM(I13:K13) -> 0 | I13: 0 | J13: 0 | K13: 0 | L13: 0 | M13: 0 | N13: =SUM(O13:Q13) -> 9 | O13: 0 | P13: 0 | Q13: 9 | R13: 24.7 | S13: 2325
A14: 五噸以上 未 滿 十 噸 | B14: =SUM(H14+N14+續一!B14+續一!H14+續一!N14) -> 16 | C14: =SUM(I14+O14+續一!C14+續一!I14+續一!O14) -> 3 | D14: =SUM(J14+P14+續一!D14+續一!J14+續一!P14) -> 0 | E14: =SUM(K14+Q14+續一!E14+續一!K14+續一!Q14) -> 13 | F14: =SUM(L14+R14+續一!F14+續一!L14+續一!R14) -> 114.41 | G14: =SUM(M14+S14+續一!G14+續一!M14+續一!S14) -> 2918 | H14: =SUM(I14:K14) -> 1 | I14: 0 | J14: 0 | K14: 1 | L14: 5.35 | M14: 200 | N14: =SUM(O14:Q14) -> 2 | O14: 0 | P14: 0 | Q14: 2 | R14: 15.8 | S14: 255
A15: 十噸以上 未 滿 二十 噸 | B15: =SUM(H15+N15+續一!B15+續一!H15+續一!N15) -> 22 | C15: =SUM(I15+O15+續一!C15+續一!I15+續一!O15) -> 3 | D15: =SUM(J15+P15+續一!D15+續一!J15+續一!P15) -> 0 | E15: =SUM(K15+Q15+續一!E15+續一!K15+續一!Q15) -> 19 | F15: =SUM(L15+R15+續一!F15+續一!L15+續一!R15) -> 375.36 | G15: =SUM(M15+S15+續一!G15+續一!M15+續一!S15) -> 7483 | H15: =SUM(I15:K15) -> 3 | I15: 0 | J15: 0 | K15: 3 | L15: 52 | M15: 1310 | N15: =SUM(O15:Q15) -> 4 | O15: 2 | P15: 0 | Q15: 2 | R15: 61.04 | S15: 973
A16: 二十噸以上 未 滿五十噸 | B16: =SUM(H16+N16+續一!B16+續一!H16+續一!N16) -> 41 | C16: =SUM(I16+O16+續一!C16+續一!I16+續一!O16) -> 0 | D16: =SUM(J16+P16+續一!D16+續一!J16+續一!P16) -> 0 | E16: =SUM(K16+Q16+續一!E16+續一!K16+續一!Q16) -> 41 | F16: =SUM(L16+R16+續一!F16+續一!L16+續一!R16) -> 1842.52 | G16: =SUM(M16+S16+續一!G16+續一!M16+續一!S16) -> 28649 | H16: =SUM(I16:K16) -> 31 | I16: 0 | J16: 0 | K16: 31 | L16: 1427.58 | M16: 22608 | N16: =SUM(O16:Q16) -> 1 | O16: 0 | P16: 0 | Q16: 1 | R16: 45.02 | S16: 600
A17: 計 | B17: =SUBTOTAL(9,B18:B22) -> 19 | C17: =SUBTOTAL(9,C18:C22) -> 0 | D17: =SUBTOTAL(9,D18:D22) -> 0 | E17: =SUBTOTAL(9,E18:E22) -> 19 | F17: =SUBTOTAL(9,F18:F22) -> 1931.23 | G17: =SUBTOTAL(9,G18:G22) -> 16535 | H17: =SUBTOTAL(9,H18:H22) -> 17 | I17: =SUBTOTAL(9,I18:I22) -> 0 | ... N17: =SUBTOTAL(9,N18:N22) -> 1 | O17: 0 | P17: 0 | Q17: =SUBTOTAL(9,Q18:Q22) -> 1 | R17: =SUBTOTAL(9,R18:R22) -> 76.28 | S17: =SUBTOTAL(9,S18:S22) -> 750
A18: 五十噸以上 未 滿一百噸 | B18: =SUM(H18+N18+續一!B18+續一!H18+續一!N18) -> 15 | C18: =SUM(I18+O18+續一!C18+續一!I18+續一!O18) -> 0 | D18: =SUM(J18+P18+續一!D18+續一!J18+續一!P18) -> 0 | E18: =SUM(K18+Q18+續一!E18+續一!K18+續一!Q18) -> 15 | F18: =SUM(L18+R18+續一!F18+續一!L18+續一!R18) -> 1246.9 | G18: =SUM(M18+S18+續一!G18+續一!M18+續一!S18) -> 12233 | H18: =SUM(I18:K18) -> 13 | I18: 0 | J18: 0 | K18: 13 | L18: 1095.09 | M18: 10733 | N18: =SUM(O18:Q18) -> 1 | O18: 0 | P18: 0 | Q18: 1 | R18: 76.28 | S18: 750
A19: 一百噸以上 未 滿二百噸 | B19: =SUM(H19+N19+續一!B19+續一!H19+續一!N19) -> 4 | C19: =SUM(I19+O19+續一!C19+續一!I19+續一!O19) -> 0 | D19: =SUM(J19+P19+續一!D19+續一!J19+續一!P19) -> 0 | E19: =SUM(K19+Q19+續一!E19+續一!K19+續一!Q19) -> 4 | F19: =SUM(L19+R19+續一!F19+續一!L19+續一!R19) -> 684.33 | G19: =SUM(M19+S19+續一!G19+續一!M19+續一!S19) -> 4302 | H19: =SUM(I19:K19) -> 4 | I19: 0 | J19: 0 | K19: 4 | L19: 684.33 | M19: 4302 | N19: =SUM(O19:Q19) -> 0 | O19: 0 | P19: 0 | Q19: 0 | R19: 0 | S19: 0
A20: 二百噸以上 未 滿五百噸 | B20: =SUM(H20+N20+續一!B20+續一!H20+續一!N20) -> 0 | C20: =SUM(I20+O20+續一!C20+續一!I20+續一!O20) -> 0 | D20: =SUM(J20+P20+續一!D20+續一!J20+續一!P20) -> 0 | E20: =SUM(K20+Q20+續一!E20+續一!K20+續一!Q20) -> 0 | F20: =SUM(L20+R20+續一!F20+續一!L20+續一!R20) -> 0 | G20: =SUM(M20+S20+續一!G20+續一!M20+續一!S20) -> 0 | H20: =SUM(I20:K20) -> 0 | I20: 0 | J20: 0 | K20: 0 | L20: 0 | M20: 0 | N20: =SUM(O20:Q20) -> 0 | O20: 0 | P20: 0 | Q20: 0 | R20: 0 | S20: 0
A21: 五百噸以上 未 滿一千噸 | B21: =SUM(H21+N21+續一!B21+續一!H21+續一!N21) -> 0 | C21: =SUM(I21+O21+續一!C21+續一!I21+續一!O21) -> 0 | D21: =SUM(J21+P21+續一!D21+續一!J21+續一!P21) -> 0 | E21: =SUM(K21+Q21+續一!E21+續一!K21+續一!Q21) -> 0 | F21: =SUM(L21+R21+續一!F21+續一!L21+續一!R21) -> 0 | G21: =SUM(M21+S21+續一!G21+續一!M21+續一!S21) -> 0 | H21: =SUM(I21:K21) -> 0 | I21: 0 | J21: 0 | K21: 0 | L21: 0 | M21: 0 | N21: =SUM(O21:Q21) -> 0 | O21: 0 | P21: 0 | Q21: 0 | R21: 0 | S21: 0
A22: 一千噸以上 | B22: =SUM(H22+N22+續一!B22+續一!H22+續一!N22) -> 0 | C22: =SUM(I22+O22+續一!C22+續一!I22+續一!O22) -> 0 | D22: =SUM(J22+P22+續一!D22+續一!J22+續一!P22) -> 0 | E22: =SUM(K22+Q22+續一!E22+續一!K22+續一!Q22) -> 0 | F22: =SUM(L22+R22+續一!F22+續一!L22+續一!R22) -> 0 | G22: =SUM(M22+S22+續一!G22+續一!M22+續一!S22) -> 0 | H22: =SUM(I22:K22) -> 0 | I22: 0 | J22: 0 | K22: 0 | L22: 0 | M22: 0 | N22: =SUM(O22:Q22) -> 0 | O22: 0 | P22: 0 | Q22: 0 | R22: 0 | S22: 0

Sheet 續一
A1: 公 開 類 | O1: 編製機關 | P1: 臺中市海岸資源漁業發展所
A2: 年 報 | B2: 次年2月底前編報 | O2: 表 號 | P2: 20343-02-01-2
A3: 臺中市現有動力漁船數─按漁業別分(續一完)
Q4: 艘數：艘
H5: 中華民國114年底 | P5: 單位： | Q5: 噸數：噸
Q6: 馬力數：馬力
A7: 漁業別 | C7: 雜 魚 延 繩 釣 | I7: 一 支 釣 | P7: 其 他
C8: 艘 數 | I8: 艘 數 | O8: 艘 數
A9: 噸位別 | B9: 合 計 | C9: 木 殼 | D9: 鋼 殼 | E9: 塑鋼殼 | F9: 噸數 | G9: 馬力數 | H9: 合 計 | I9: 木 殼 | J9: 鋼 殼 | K9: 塑鋼殼 | L9: 噸數 | M9: 馬力數 | N9: 合 計 | O9: 木 殼 | P9: 鋼 殼 | Q9: 塑鋼殼 | R9: 噸數 | S9: 馬力數
A10: 總 計 | B10: =SUBTOTAL(9,B11:B22) -> 77 | C10: =SUBTOTAL(9,C11:C22) -> 4 | D10: =SUBTOTAL(9,D11:D22) -> 0 | E10: =SUBTOTAL(9,E11:E22) -> 73 | F10: =SUBTOTAL(9,F11:F22) -> 763.53 | G10: =SUBTOTAL(9,G11:G22) -> 19124 | H10: =SUBTOTAL(9,H11:H22) -> 72 | I10: =SUBTOTAL(9,I11:I22) -> 0 | ... S10: =SUBTOTAL(9,S11:S22) -> 3780
A11: 計 | B11: =SUBTOTAL(9,B12:B16) -> 76 | C11: =SUBTOTAL(9,C12:C16) -> 4 | D11: =SUBTOTAL(9,D12:D16) -> 0 | E11: =SUBTOTAL(9,E12:E16) -> 72 | F11: =SUBTOTAL(9,F12:F16) -> 688 | G11: =SUBTOTAL(9,G12:G16) -> 18374 | H11: =SUBTOTAL(9,H12:H16) -> 72 | I11: =SUBTOTAL(9,I12:I16) -> 0 | ... S11: =SUBTOTAL(9,S12:S16) -> 3780
A12: 動 力 舢 舨 | B12: =SUM(C12:E12) -> 25 | C12: 0 | D12: 0 | E12: 25 | F12: 37.19 | G12: 4454 | H12: =SUM(I12:K12) -> 42 | I12: 0 | J12: 0 | K12: 42 | L12: 53.97 | M12: 4765 | N12: =SUM(O12:Q12) -> 11 | O12: 0 | P12: 0 | Q12: 11 | R12: 18.61 | S12: 1675
A13: 未 滿 五 噸 | B13: =SUM(C13:E13) -> 24 | C13: 0 | D13: 0 | E13: 24 | F13: 69.8 | G13: 3944 | H13: =SUM(I13:K13) -> 24 | I13: 0 | J13: 0 | K13: 24 | L13: 66.33 | M13: 4190 | N13: =SUM(O13:Q13) -> 5 | O13: 0 | P13: 0 | Q13: 5 | R13: 14.05 | S13: 920
A14: 五噸以上 未 滿 十 噸 | B14: =SUM(C14:E14) -> 8 | C14: 3 | D14: 0 | E14: 5 | F14: 60.69 | G14: 1370 | H14: =SUM(I14:K14) -> 3 | I14: 0 | J14: 0 | K14: 3 | L14: 21.61 | M14: 728 | N14: =SUM(O14:Q14) -> 2 | O14: 0 | P14: 0 | Q14: 2 | R14: 10.96 | S14: 365
A15: 十噸以上 未 滿 二十 噸 | B15: =SUM(C15:E15) -> 11 | C15: 1 | D15: 0 | E15: 10 | F15: 200.27 | G15: 3915 | H15: =SUM(I15:K15) -> 3 | I15: 0 | J15: 0 | K15: 3 | L15: 46.62 | M15: 1215 | N15: =SUM(O15:Q15) -> 1 | O15: 0 | P15: 0 | Q15: 1 | R15: 15.43 | S15: 70
A16: 二十噸以上 未 滿五十噸 | B16: =SUM(C16:E16) -> 8 | C16: 0 | D16: 0 | E16: 8 | F16: 320.05 | G16: 4691 | H16: =SUM(I16:K16) -> 0 | I16: 0 | J16: 0 | K16: 0 | L16: 0 | M16: 0 | N16: =SUM(O16:Q16) -> 1 | O16: 0 | P16: 0 | Q16: 1 | R16: 49.87 | S16: 750
A17: 計 | B17: =SUBTOTAL(9,B18:B22) -> 1 | C17: =SUBTOTAL(9,C18:C22) -> 0 | D17: =SUBTOTAL(9,D18:D22) -> 0 | E17: =SUBTOTAL(9,E18:E22) -> 1 | F17: =SUBTOTAL(9,F18:F22) -> 75.53 | G17: =SUBTOTAL(9,G18:G22) -> 750 | H17: =SUBTOTAL(9,H18:H22) -> 0 | I17: =SUBTOTAL(9,I18:I22) -> 0 | ... S17: =SUBTOTAL(9,S18:S22) -> 0
A18: 五十噸以上 未 滿一百噸 | B18: =SUM(C18:E18) -> 1 | C18: 0 | D18: 0 | E18: 1 | F18: 75.53 | G18: 750 | H18: =SUM(I18:K18) -> 0 | I18: 0 | J18: 0 | K18: 0 | L18: 0 | M18: 0 | N18: =SUM(O18:Q18) -> 0 | O18: 0 | P18: 0 | Q18: 0 | R18: 0 | S18: 0
A19: 一百噸以上 未 滿二百噸 | B19: =SUM(C19:E19) -> 0 | C19: 0 | D19: 0 | E19: 0 | F19: 0 | G19: 0 | H19: =SUM(I19:K19) -> 0 | I19: 0 | J19: 0 | K19: 0 | L19: 0 | M19: 0 | N19: =SUM(O19:Q19) -> 0 | O19: 0 | P19: 0 | Q19: 0 | R19: 0 | S19: 0
A20: 二百噸以上 未 滿五百噸 | B20: =SUM(C20:E20) -> 0 | C20: 0 | D20: 0 | E20: 0 | F20: 0 | G20: 0 | H20: =SUM(I20:K20) -> 0 | I20: 0 | J20: 0 | K20: 0 | L20: 0 | M20: 0 | N20: =SUM(O20:Q20) -> 0 | O20: 0 | P20: 0 | Q20: 0 | R20: 0 | S20: 0
A21: 五百噸以上 未 滿一千噸 | B21: =SUM(C21:E21) -> 0 | C21: 0 | D21: 0 | E21: 0 | F21: 0 | G21: 0 | H21: =SUM(I21:K21) -> 0 | I21: 0 | J21: 0 | K21: 0 | L21: 0 | M21: 0 | N21: =SUM(O21:Q21) -> 0 | O21: 0 | P21: 0 | Q21: 0 | R21: 0 | S21: 0
A22: 一千噸以上 | B22: =SUM(C22:E22) -> 0 | C22: 0 | D22: 0 | E22: 0 | F22: 0 | G22: 0 | H22: =SUM(I22:K22) -> 0 | I22: 0 | J22: 0 | K22: 0 | L22: 0 | M22: 0 | N22: =SUM(O22:Q22) -> 0 | O22: 0 | P22: 0 | Q22: 0 | R22: 0 | S22: 0
O24: 中華民國115年2月24日編製
A26: 填表 | C26: 審核 | G26: 業務主管人員 | M26: 機關首長
G27: 主辦統計人員
A28: 資料來源：由本所漁業行政課依據漁業管理資訊系統登記資料彙編。
A29: 填表說明：1.漁業執照(證)雖尚未申請註銷，但實際上漁船已出售他縣市或報廢完全不能使用者應予除外。
A30: 2.漁業別項目得由農業部漁業署依實際情形酌予增減之。
A31: 3.本表編製1份，並依統計法規定永久保存，資料透過網際網路上傳至「臺中市公務統計行政管理系統」及農業部漁業署「漁業統計資料查詢系統」。
