Workbook

Sheet 報表程式
A1: 公 開 類 | O1: 編製機關 | P1: 臺中市海岸資源漁業發展所
A2: 年 報 | B2: 次年2月底前編報 | O2: 表 號 | P2: 20341－02－01－2
A4: 臺中市近海、沿岸漁業、海面養殖、內陸漁撈、內陸養殖漁業生產量(修正表)
P5: 單位：次；公噸；千尾(觀賞魚)
A6: 中華民國114年
A8: 魚類別 | C8: 航 次 | D8: 產量總計 | E8: 吳郭魚類 | F8: 日本真鱸 | G8: 尖吻鱸 | H8: 虱目魚 | I8: 鮃鰈類 | J8: 嘉鱲魚 | K8: 黃背牙鯛 | L8: 魬鯛 | M8: 黑鯛 | N8: 黃錫鯛 | O8: 黃鰭鯛 | P8: 其他鯛 | Q8: 花身鯻 | R8: 大黃魚
A9: 漁業種類
A10: 總計 | C10: =SUBTOTAL(9, C11:C59) -> 0 | D10: =SUBTOTAL(9, D11:D59) -> 450.34811 | E10: =SUBTOTAL(9, E11:E59) -> 2.22 | F10: =SUBTOTAL(9, F11:F59) -> 0.72 | G10: =SUBTOTAL(9, G11:G59) -> 0.0877 | H10: =SUBTOTAL(9, H11:H59) -> 0.08 | I10: =SUBTOTAL(9, I11:I59) -> 6.3406 | J10: =SUBTOTAL(9, J11:J59) -> 0.15179 | ... R10: =SUBTOTAL(9, R11:R59) -> 0
A11: 近海漁業 | B11: 合計 | C11: =SUBTOTAL(9, C12:C27) -> 0 | D11: =SUBTOTAL(9, D12:D27) -> 421.78011 | E11: =SUBTOTAL(9, E12:E27) -> 0.26 | F11: =SUBTOTAL(9, F12:F27) -> 0.72 | G11: =SUBTOTAL(9, G12:G27) -> 0.0877 | H11: =SUBTOTAL(9, H12:H27) -> 0.08 | I11: =SUBTOTAL(9, I12:I27) -> 6.3406 | J11: =SUBTOTAL(9, J12:J27) -> 0.15179 | ... R11: =SUBTOTAL(9, R12:R27) -> 0
B12: 巾著網 | C12: 0 | D12: =SUM(E12:R12)+SUM('1'!C12:S12)+SUM('2'!C12:S12)+SUM('3'!C12:S12)+SUM('4'!C12:R12)+SUM('5'!C12:O12) -> 0 | E12: 0 | F12: 0 | G12: 0 | H12: 0 | I12: 0 | J12: 0 | K12: 0 | L12: 0 | M12: 0 | N12: 0 | O12: 0 | P12: 0 | Q12: 0 | R12: 0
B13: 鯖鰺圍網 | C13: 0 | D13: =SUM(E13:R13)+SUM('1'!C13:S13)+SUM('2'!C13:S13)+SUM('3'!C13:S13)+SUM('4'!C13:R13)+SUM('5'!C13:O13) -> 0 | E13: 0 | F13: 0 | G13: 0 | H13: 0 | I13: 0 | J13: 0 | K13: 0 | L13: 0 | M13: 0 | N13: 0 | O13: 0 | P13: 0 | Q13: 0 | R13: 0
B14: 棒受網 | C14: 0 | D14: =SUM(E14:R14)+SUM('1'!C14:S14)+SUM('2'!C14:S14)+SUM('3'!C14:S14)+SUM('4'!C14:R14)+SUM('5'!C14:O14) -> 0 | E14: 0 | F14: 0 | G14: 0 | H14: 0 | I14: 0 | J14: 0 | K14: 0 | L14: 0 | M14: 0 | N14: 0 | O14: 0 | P14: 0 | Q14: 0 | R14: 0
B15: 中小拖網 | C15: 0 | D15: =SUM(E15:R15)+SUM('1'!C15:S15)+SUM('2'!C15:S15)+SUM('3'!C15:S15)+SUM('4'!C15:R15)+SUM('5'!C15:O15) -> 236.9663 | E15: 0.26 | F15: 0 | G15: 0 | H15: 0.08 | I15: 6.3406 | J15: 0.08197 | K15: 0.19494 | L15: 0.93497 | M15: 2.00017 | N15: 0.99027 | O15: 1.66991 | P15: 0.65536 | Q15: 0.31322 | R15: 0
B16: 刺網 | C16: 0 | D16: =SUM(E16:R16)+SUM('1'!C16:S16)+SUM('2'!C16:S16)+SUM('3'!C16:S16)+SUM('4'!C16:R16)+SUM('5'!C16:O16) -> 153.25958 | E16: 0 | F16: 0.36 | G16: 0.04385 | H16: 0 | I16: 0 | J16: 0.06072 | K16: 0.1444 | L16: 0.6926 | M16: 1.48164 | N16: 0.73356 | O16: 1.237 | P16: 0.48548 | Q16: 0.23204 | R16: 0
B17: 扒網 | C17: 0 | D17: =SUM(E17:R17)+SUM('1'!C17:S17)+SUM('2'!C17:S17)+SUM('3'!C17:S17)+SUM('4'!C17:R17)+SUM('5'!C17:O17) -> 0.33385 | E17: 0 | F17: 0.29 | G17: 0.04385 | H17: 0 | I17: 0 | J17: 0 | K17: 0 | L17: 0 | M17: 0 | N17: 0 | O17: 0 | P17: 0 | Q17: 0 | R17: 0
B18: 其他網 | C18: 0 | D18: =SUM(E18:R18)+SUM('1'!C18:S18)+SUM('2'!C18:S18)+SUM('3'!C18:S18)+SUM('4'!C18:R18)+SUM('5'!C18:O18) -> 0 | E18: 0 | F18: 0 | G18: 0 | H18: 0 | I18: 0 | J18: 0 | K18: 0 | L18: 0 | M18: 0 | N18: 0 | O18: 0 | P18: 0 | Q18: 0 | R18: 0
B19: 鮪延繩釣 | C19: 0 | D19: =SUM(E19:R19)+SUM('1'!C19:S19)+SUM('2'!C19:S19)+SUM('3'!C19:S19)+SUM('4'!C19:R19)+SUM('5'!C19:O19) -> 0 | E19: 0 | F19: 0 | G19: 0 | H19: 0 | I19: 0 | J19: 0 | K19: 0 | L19: 0 | M19: 0 | N19: 0 | O19: 0 | P19: 0 | Q19: 0 | R19: 0
B20: 雜魚延繩釣 | C20: 0 | D20: =SUM(E20:R20)+SUM('1'!C20:S20)+SUM('2'!C20:S20)+SUM('3'!C20:S20)+SUM('4'!C20:R20)+SUM('5'!C20:O20) -> 29.05641 | E20: 0 | F20: 0 | G20: 0 | H20: 0 | I20: 0 | J20: 0.0091 | K20: 0.02166 | L20: 0.10385 | M20: 0.2222 | N20: 0.11 | O20: 0.18552 | P20: 0.07279 | Q20: 0.03476 | R20: 0
B21: 曳繩釣 | C21: 0 | D21: =SUM(E21:R21)+SUM('1'!C21:S21)+SUM('2'!C21:S21)+SUM('3'!C21:S21)+SUM('4'!C21:R21)+SUM('5'!C21:O21) -> 0 | E21: 0 | F21: 0 | G21: 0 | H21: 0 | I21: 0 | J21: 0 | K21: 0 | L21: 0 | M21: 0 | N21: 0 | O21: 0 | P21: 0 | Q21: 0 | R21: 0
B22: 一支釣 | C22: 0 | D22: =SUM(E22:R22)+SUM('1'!C22:S22)+SUM('2'!C22:S22)+SUM('3'!C22:S22)+SUM('4'!C22:R22)+SUM('5'!C22:O22) -> 2.16397 | E22: 0 | F22: 0.07 | G22: 0 | H22: 0 | I22: 0 | J22: 0 | K22: 0 | L22: 0 | M22: 0 | N22: 0 | O22: 0 | P22: 0 | Q22: 0 | R22: 0
B23: 其他釣 | C23: 0 | D23: =SUM(E23:R23)+SUM('1'!C23:S23)+SUM('2'!C23:S23)+SUM('3'!C23:S23)+SUM('4'!C23:R23)+SUM('5'!C23:O23) -> 0 | E23: 0 | F23: 0 | G23: 0 | H23: 0 | I23: 0 | J23: 0 | K23: 0 | L23: 0 | M23: 0 | N23: 0 | O23: 0 | P23: 0 | Q23: 0 | R23: 0
... B27: 其他 | C27: 0 | D27: =SUM(E27:R27)+SUM('1'!C27:S27)+SUM('2'!C27:S27)+SUM('3'!C27:S27)+SUM('4'!C27:R27)+SUM('5'!C27:O27) -> 0 | E27: 0 | F27: 0 | G27: 0 | H27: 0 | I27: 0 | J27: 0 | K27: 0 | L27: 0 | M27: 0 | N27: 0 | O27: 0 | P27: 0 | Q27: 0 | R27: 0
A28: 沿岸漁業 | B28: 合計 | C28: =SUBTOTAL(9, C29:C45) -> 0 | D28: =SUBTOTAL(9, D29:D45) -> 20.886 | E28: =SUBTOTAL(9, E29:E45) -> 0 | F28: =SUBTOTAL(9, F29:F45) -> 0 | G28: =SUBTOTAL(9, G29:G45) -> 0 | H28: =SUBTOTAL(9, H29:H45) -> 0 | I28: =SUBTOTAL(9, I29:I45) -> 0 | J28: =SUBTOTAL(9, J29:J45) -> 0 | ... R28: =SUBTOTAL(9, R29:R45) -> 0
B29: 定置漁具 | C29: 0 | D29: =SUM(E29:R29)+SUM('1'!C29:S29)+SUM('2'!C29:S29)+SUM('3'!C29:S29)+SUM('4'!C29:R29)+SUM('5'!C29:O29) -> 0 | E29: 0 | F29: 0 | G29: 0 | H29: 0 | I29: 0 | J29: 0 | K29: 0 | L29: 0 | M29: 0 | N29: 0 | O29: 0 | P29: 0 | Q29: 0 | R29: 0
B30: 地曳網 | C30: 0 | D30: =SUM(E30:R30)+SUM('1'!C30:S30)+SUM('2'!C30:S30)+SUM('3'!C30:S30)+SUM('4'!C30:R30)+SUM('5'!C30:O30) -> 0 | E30: 0 | F30: 0 | G30: 0 | H30: 0 | I30: 0 | J30: 0 | K30: 0 | L30: 0 | M30: 0 | N30: 0 | O30: 0 | P30: 0 | Q30: 0 | R30: 0
B31: 焚寄網 | C31: 0 | D31: =SUM(E31:R31)+SUM('1'!C31:S31)+SUM('2'!C31:S31)+SUM('3'!C31:S31)+SUM('4'!C31:R31)+SUM('5'!C31:O31) -> 0 | E31: 0 | F31: 0 | G31: 0 | H31: 0 | I31: 0 | J31: 0 | K31: 0 | L31: 0 | M31: 0 | N31: 0 | O31: 0 | P31: 0 | Q31: 0 | R31: 0
B32: 刺網 | C32: 0 | D32: =SUM(E32:R32)+SUM('1'!C32:S32)+SUM('2'!C32:S32)+SUM('3'!C32:S32)+SUM('4'!C32:R32)+SUM('5'!C32:O32) -> 0 | E32: 0 | F32: 0 | G32: 0 | H32: 0 | I32: 0 | J32: 0 | K32: 0 | L32: 0 | M32: 0 | N32: 0 | O32: 0 | P32: 0 | Q32: 0 | R32: 0
B33: 追逐網 | C33: 0 | D33: =SUM(E33:R33)+SUM('1'!C33:S33)+SUM('2'!C33:S33)+SUM('3'!C33:S33)+SUM('4'!C33:R33)+SUM('5'!C33:O33) -> 0 | E33: 0 | F33: 0 | G33: 0 | H33: 0 | I33: 0 | J33: 0 | K33: 0 | L33: 0 | M33: 0 | N33: 0 | O33: 0 | P33: 0 | Q33: 0 | R33: 0
B34: 流袋網 | C34: 0 | D34: =SUM(E34:R34)+SUM('1'!C34:S34)+SUM('2'!C34:S34)+SUM('3'!C34:S34)+SUM('4'!C34:R34)+SUM('5'!C34:O34) -> 0 | E34: 0 | F34: 0 | G34: 0 | H34: 0 | I34: 0 | J34: 0 | K34: 0 | L34: 0 | M34: 0 | N34: 0 | O34: 0 | P34: 0 | Q34: 0 | R34: 0
B35: 魩鱙漁業 | C35: 0 | D35: =SUM(E35:R35)+SUM('1'!C35:S35)+SUM('2'!C35:S35)+SUM('3'!C35:S35)+SUM('4'!C35:R35)+SUM('5'!C35:O35) -> 20.886 | E35: 0 | F35: 0 | G35: 0 | H35: 0 | I35: 0 | J35: 0 | K35: 0 | L35: 0 | M35: 0 | N35: 0 | O35: 0 | P35: 0 | Q35: 0 | R35: 0
B36: 櫻花蝦漁業 | C36: 0 | D36: =SUM(E36:R36)+SUM('1'!C36:S36)+SUM('2'!C36:S36)+SUM('3'!C36:S36)+SUM('4'!C36:R36)+SUM('5'!C36:O36) -> 0 | E36: 0 | F36: 0 | G36: 0 | H36: 0 | I36: 0 | J36: 0 | K36: 0 | L36: 0 | M36: 0 | N36: 0 | O36: 0 | P36: 0 | Q36: 0 | R36: 0
B37: 赤尾青蝦漁業 | C37: 0 | D37: =SUM(E37:R37)+SUM('1'!C37:S37)+SUM('2'!C37:S37)+SUM('3'!C37:S37)+SUM('4'!C37:R37)+SUM('5'!C37:O37) -> 0 | E37: 0 | F37: 0 | G37: 0 | H37: 0 | I37: 0 | J37: 0 | K37: 0 | L37: 0 | M37: 0 | N37: 0 | O37: 0 | P37: 0 | Q37: 0 | R37: 0
B38: 其他網 | C38: 0 | D38: =SUM(E38:R38)+SUM('1'!C38:S38)+SUM('2'!C38:S38)+SUM('3'!C38:S38)+SUM('4'!C38:R38)+SUM('5'!C38:O38) -> 0 | E38: 0 | F38: 0 | G38: 0 | H38: 0 | I38: 0 | J38: 0 | K38: 0 | L38: 0 | M38: 0 | N38: 0 | O38: 0 | P38: 0 | Q38: 0 | R38: 0
B39: 一支釣 | C39: 0 | D39: =SUM(E39:R39)+SUM('1'!C39:S39)+SUM('2'!C39:S39)+SUM('3'!C39:S39)+SUM('4'!C39:R39)+SUM('5'!C39:O39) -> 0 | E39: 0 | F39: 0 | G39: 0 | H39: 0 | I39: 0 | J39: 0 | K39: 0 | L39: 0 | M39: 0 | N39: 0 | O39: 0 | P39: 0 | Q39: 0 | R39: 0
B40: 雜魚延繩釣 | C40: 0 | D40: =SUM(E40:R40)+SUM('1'!C40:S40)+SUM('2'!C40:S40)+SUM('3'!C40:S40)+SUM('4'!C40:R40)+SUM('5'!C40:O40) -> 0 | E40: 0 | F40: 0 | G40: 0 | H40: 0 | I40: 0 | J40: 0 | K40: 0 | L40: 0 | M40: 0 | N40: 0 | O40: 0 | P40: 0 | Q40: 0 | R40: 0
... B45: 其他 | C45: 0 | D45: =SUM(E45:R45)+SUM('1'!C45:S45)+SUM('2'!C45:S45)+SUM('3'!C45:S45)+SUM('4'!C45:R45)+SUM('5'!C45:O45) -> 0 | E45: 0 | F45: 0 | G45: 0 | H45: 0 | I45: 0 | J45: 0 | K45: 0 | L45: 0 | M45: 0 | N45: 0 | O45: 0 | P45: 0 | Q45: 0 | R45: 0
A46: 海面養殖 | B46: 合計 | C46: =SUBTOTAL(9, C47:C49) -> 0 | D46: =SUBTOTAL(9, D47:D49) -> 0 | E46: =SUBTOTAL(9, E47:E49) -> 0 | F46: =SUBTOTAL(9, F47:F49) -> 0 | G46: =SUBTOTAL(9, G47:G49) -> 0 | H46: =SUBTOTAL(9, H47:H49) -> 0 | I46: =SUBTOTAL(9, I47:I49) -> 0 | J46: =SUBTOTAL(9, J47:J49) -> 0 | ... R46: =SUBTOTAL(9, R47:R49) -> 0
B47: 淺海養殖 | C47: 0 | D47: =SUM(E47:R47)+SUM('1'!C47:S47)+SUM('2'!C47:S47)+SUM('3'!C47:S47)+SUM('4'!C47:R47)+SUM('5'!C47:O47) -> 0 | E47: 0 | F47: 0 | G47: 0 | H47: 0 | I47: 0 | J47: 0 | K47: 0 | L47: 0 | M47: 0 | N47: 0 | O47: 0 | P47: 0 | Q47: 0 | R47: 0
B48: 箱網養殖 | C48: 0 | D48: =SUM(E48:R48)+SUM('1'!C48:S48)+SUM('2'!C48:S48)+SUM('3'!C48:S48)+SUM('4'!C48:R48)+SUM('5'!C48:O48) -> 0 | E48: 0 | F48: 0 | G48: 0 | H48: 0 | I48: 0 | J48: 0 | K48: 0 | L48: 0 | M48: 0 | N48: 0 | O48: 0 | P48: 0 | Q48: 0 | R48: 0
B49: 其他 | C49: 0 | D49: =SUM(E49:R49)+SUM('1'!C49:S49)+SUM('2'!C49:S49)+SUM('3'!C49:S49)+SUM('4'!C49:R49)+SUM('5'!C49:O49) -> 0 | E49: 0 | F49: 0 | G49: 0 | H49: 0 | I49: 0 | J49: 0 | K49: 0 | L49: 0 | M49: 0 | N49: 0 | O49: 0 | P49: 0 | Q49: 0 | R49: 0
A50: 內陸漁撈 | B50: 合計 | C50: =SUBTOTAL(9, C51:C53) -> 0 | D50: =SUBTOTAL(9, D51:D53) -> 0 | E50: =SUBTOTAL(9, E51:E53) -> 0 | F50: =SUBTOTAL(9, F51:F53) -> 0 | G50: =SUBTOTAL(9, G51:G53) -> 0 | H50: =SUBTOTAL(9, H51:H53) -> 0 | I50: =SUBTOTAL(9, I51:I53) -> 0 | J50: =SUBTOTAL(9, J51:J53) -> 0 | ... R50: =SUBTOTAL(9, R51:R53) -> 0
B51: 河川漁撈 | C51: 0 | D51: =SUM(E51:R51)+SUM('1'!C51:S51)+SUM('2'!C51:S51)+SUM('3'!C51:S51)+SUM('4'!C51:R51)+SUM('5'!C51:O51) -> 0 | E51: 0 | F51: 0 | G51: 0 | H51: 0 | I51: 0 | J51: 0 | K51: 0 | L51: 0 | M51: 0 | N51: 0 | O51: 0 | P51: 0 | Q51: 0 | R51: 0
B52: 水庫漁撈 | C52: 0 | D52: =SUM(E52:R52)+SUM('1'!C52:S52)+SUM('2'!C52:S52)+SUM('3'!C52:S52)+SUM('4'!C52:R52)+SUM('5'!C52:O52) -> 0 | E52: 0 | F52: 0 | G52: 0 | H52: 0 | I52: 0 | J52: 0 | K52: 0 | L52: 0 | M52: 0 | N52: 0 | O52: 0 | P52: 0 | Q52: 0 | R52: 0
B53: 其他 | C53: 0 | D53: =SUM(E53:R53)+SUM('1'!C53:S53)+SUM('2'!C53:S53)+SUM('3'!C53:S53)+SUM('4'!C53:R53)+SUM('5'!C53:O53) -> 0 | E53: 0 | F53: 0 | G53: 0 | H53: 0 | I53: 0 | J53: 0 | K53: 0 | L53: 0 | M53: 0 | N53: 0 | O53: 0 | P53: 0 | Q53: 0 | R53: 0
A54: 內陸養殖 | B54: 合計 | C54: =SUBTOTAL(9, D54:H54) -> 0 | D54: =SUBTOTAL(9, D55:D59) -> 7.682 | E54: =SUBTOTAL(9, E55:E59) -> 1.96 | F54: =SUBTOTAL(9, F55:F59) -> 0 | G54: =SUBTOTAL(9, G55:G59) -> 0 | H54: =SUBTOTAL(9, H55:H59) -> 0 | I54: =SUBTOTAL(9, I55:I59) -> 0 | J54: =SUBTOTAL(9, J55:J59) -> 0 | K54: =SUBTOTAL(9, K55:K59) -> 0 | ... R54: =SUBTOTAL(9, R55:R59) -> 0
B55: 鹹水魚塭 | C55: 0 | D55: =SUM(E55:R55)+SUM('1'!C55:S55)+SUM('2'!C55:S55)+SUM('3'!C55:S55)+SUM('4'!C55:R55)+SUM('5'!C55:O55) -> 0 | E55: 0 | F55: 0 | G55: 0 | H55: 0 | I55: 0 | J55: 0 | K55: 0 | L55: 0 | M55: 0 | N55: 0 | O55: 0 | P55: 0 | Q55: 0 | R55: 0
B56: 淡水魚塭 | C56: 0 | D56: =SUM(E56:R56)+SUM('1'!C56:S56)+SUM('2'!C56:S56)+SUM('3'!C56:S56)+SUM('4'!C56:R56)+SUM('5'!C56:O56) -> 7.682 | E56: 1.96 | F56: 0 | G56: 0 | H56: 0 | I56: 0 | J56: 0 | K56: 0 | L56: 0 | M56: 0 | N56: 0 | O56: 0 | P56: 0 | Q56: 0 | R56: 0
B57: 箱網養殖 | C57: 0 | D57: =SUM(E57:R57)+SUM('1'!C57:S57)+SUM('2'!C57:S57)+SUM('3'!C57:S57)+SUM('4'!C57:R57)+SUM('5'!C57:O57) -> 0 | E57: 0 | F57: 0 | G57: 0 | H57: 0 | I57: 0 | J57: 0 | K57: 0 | L57: 0 | M57: 0 | N57: 0 | O57: 0 | P57: 0 | Q57: 0 | R57: 0
B58: 觀賞魚養殖 | C58: 0 | D58: =SUM(E58:R58)+SUM('1'!C58:S58)+SUM('2'!C58:S58)+SUM('3'!C58:S58)+SUM('4'!C58:R58)+SUM('5'!C58:O58) -> 0 | E58: 0 | F58: 0 | G58: 0 | H58: 0 | I58: 0 | J58: 0 | K58: 0 | L58: 0 | M58: 0 | N58: 0 | O58: 0 | P58: 0 | Q58: 0 | R58: 0
B59: 其他 | C59: 0 | D59: =SUM(E59:R59)+SUM('1'!C59:S59)+SUM('2'!C59:S59)+SUM('3'!C59:S59)+SUM('4'!C59:R59)+SUM('5'!C59:O59) -> 0 | E59: 0 | F59: 0 | G59: 0 | H59: 0 | I59: 0 | J59: 0 | K59: 0 | L59: 0 | M59: 0 | N59: 0 | O59: 0 | P59: 0 | Q59: 0 | R59: 0

Sheet 1
A1: 公 開 類 | P1: 編製機關 | Q1: 臺中市海岸資源漁業發展所
A2: 年 報 | B2: 次年2月底前編報 | P2: 表 號 | Q2: 20341－02－01－2
A4: 臺中市近海、沿岸漁業、海面養殖、內陸漁撈、內陸養殖漁業生產量(續一)(修正表)
Q5: 單位：次；公噸；千尾(觀賞魚)
A6: 中華民國114年
A8: 魚類別 | C8: 小黃魚 | D8: 黑(魚或) | E8: 白姑魚 | F8: 鮸魚 | G8: 金線魚 | H8: 馬頭魚 | I8: 龍占魚科 | J8: 赤鰭笛鯛 | K8: 鬚鯛科 | L8: 鸚哥魚科 | M8: 大眼鯛 | N8: 其他石斑 | O8: 合齒魚科 | P8: 鯙科 | Q8: 海鰻科 | R8: 斑海鯰 | S8: 眼眶魚
A9: 漁業種類
A10: 總計 | C10: =SUBTOTAL(9, C11:C59) -> 0.00139 | D10: =SUBTOTAL(9, D11:D59) -> 1.08179 | E10: =SUBTOTAL(9, E11:E59) -> 3.38563 | F10: =SUBTOTAL(9, F11:F59) -> 0.33815 | G10: =SUBTOTAL(9, G11:G59) -> 0.0055 | H10: =SUBTOTAL(9, H11:H59) -> 0.0012 | I10: =SUBTOTAL(9, I11:I59) -> 0.0112 | J10: =SUBTOTAL(9, J11:J59) -> 0.1914 | ... S10: =SUBTOTAL(9, S11:S59) -> 0.6739
A11: 近海漁業 | B11: 合計 | C11: =SUBTOTAL(9, C12:C27) -> 0.00139 | D11: =SUBTOTAL(9, D12:D27) -> 1.08179 | E11: =SUBTOTAL(9, E12:E27) -> 3.38563 | F11: =SUBTOTAL(9, F12:F27) -> 0.33815 | G11: =SUBTOTAL(9, G12:G27) -> 0.0055 | H11: =SUBTOTAL(9, H12:H27) -> 0.0012 | I11: =SUBTOTAL(9, I12:I27) -> 0.0112 | J11: =SUBTOTAL(9, J12:J27) -> 0.1914 | ... S11: =SUBTOTAL(9, S12:S27) -> 0.6739
B12: 巾著網 | C12: 0 | D12: 0 | E12: 0 | F12: 0 | G12: 0 | H12: 0 | I12: 0 | J12: 0 | K12: 0 | L12: 0 | M12: 0 | N12: 0 | O12: 0 | P12: 0 | Q12: 0 | R12: 0 | S12: 0
B13: 鯖鰺圍網 | C13: 0 | D13: 0 | E13: 0 | F13: 0 | G13: 0 | H13: 0 | I13: 0 | J13: 0 | K13: 0 | L13: 0 | M13: 0 | N13: 0 | O13: 0 | P13: 0 | Q13: 0 | R13: 0 | S13: 0
B14: 棒受網 | C14: 0 | D14: 0 | E14: 0 | F14: 0 | G14: 0 | H14: 0 | I14: 0 | J14: 0 | K14: 0 | L14: 0 | M14: 0 | N14: 0 | O14: 0 | P14: 0 | Q14: 0 | R14: 0 | S14: 0
B15: 中小拖網 | C15: 0.00075 | D15: 0.58417 | E15: 1.82825 | F15: 0.1826 | G15: 0.00297 | H15: 0.00065 | I15: 0.00672 | J15: 0 | K15: 0.69339 | L15: 0.00668 | M15: 2.56524 | N15: 2.03301 | O15: 0.72 | P15: 0.2909 | Q15: 0 | R15: 1.4223 | S15: 0.33695
B16: 刺網 | C16: 0.00056 | D16: 0.43272 | E16: 1.35428 | F16: 0.13528 | G16: 0.0022 | H16: 0.00048 | I16: 0.00448 | J16: 0 | K16: 0.51364 | L16: 0.00496 | M16: 1.9002 | N16: 0 | O16: 0 | P16: 0 | Q16: 0 | R16: 0 | S16: 0.33695
B17: 扒網 | C17: 0 | D17: 0 | E17: 0 | F17: 0 | G17: 0 | H17: 0 | I17: 0 | J17: 0 | K17: 0 | L17: 0 | M17: 0 | N17: 0 | O17: 0 | P17: 0 | Q17: 0 | R17: 0 | S17: 0
B18: 其他網 | C18: 0 | D18: 0 | E18: 0 | F18: 0 | G18: 0 | H18: 0 | I18: 0 | J18: 0 | K18: 0 | L18: 0 | M18: 0 | N18: 0 | O18: 0 | P18: 0 | Q18: 0 | R18: 0 | S18: 0
B19: 鮪延繩釣 | C19: 0 | D19: 0 | E19: 0 | F19: 0 | G19: 0 | H19: 0 | I19: 0 | J19: 0 | K19: 0 | L19: 0 | M19: 0 | N19: 0 | O19: 0 | P19: 0 | Q19: 0 | R19: 0 | S19: 0
B20: 雜魚延繩釣 | C20: 8e-05 | D20: 0.0649 | E20: 0.2031 | F20: 0.02027 | G20: 0.00033 | H20: 7e-05 | I20: 0 | J20: 0 | K20: 0.07701 | L20: 0.00074 | M20: 0.285 | N20: 0.58086 | O20: 0 | P20: 0 | Q20: 0 | R20: 0 | S20: 0
B21: 曳繩釣 | C21: 0 | D21: 0 | E21: 0 | F21: 0 | G21: 0 | H21: 0 | I21: 0 | J21: 0 | K21: 0 | L21: 0 | M21: 0 | N21: 0 | O21: 0 | P21: 0 | Q21: 0 | R21: 0 | S21: 0
B22: 一支釣 | C22: 0 | D22: 0 | E22: 0 | F22: 0 | G22: 0 | H22: 0 | I22: 0 | J22: 0.1914 | K22: 0 | L22: 0 | M22: 0 | N22: 0.29043 | O22: 0 | P22: 0 | Q22: 0 | R22: 0 | S22: 0
B23: 其他釣 | C23: 0 | D23: 0 | E23: 0 | F23: 0 | G23: 0 | H23: 0 | I23: 0 | J23: 0 | K23: 0 | L23: 0 | M23: 0 | N23: 0 | O23: 0 | P23: 0 | Q23: 0 | R23: 0 | S23: 0
... B27: 其他 | C27: 0 | D27: 0 | E27: 0 | F27: 0 | G27: 0 | H27: 0 | I27: 0 | J27: 0 | K27: 0 | L27: 0 | M27: 0 | N27: 0 | O27: 0 | P27: 0 | Q27: 0 | R27: 0 | S27: 0
A28: 沿岸漁業 | B28: 合計 | C28: =SUBTOTAL(9, C29:C45) -> 0 | D28: =SUBTOTAL(9, D29:D45) -> 0 | E28: =SUBTOTAL(9, E29:E45) -> 0 | F28: =SUBTOTAL(9, F29:F45) -> 0 | G28: =SUBTOTAL(9, G29:G45) -> 0 | H28: =SUBTOTAL(9, H29:H45) -> 0 | I28: =SUBTOTAL(9, I29:I45) -> 0 | J28: =SUBTOTAL(9, J29:J45) -> 0 | ... S28: =SUBTOTAL(9, S29:S45) -> 0
B29: 定置漁具 | C29: 0 | D29: 0 | E29: 0 | F29: 0 | G29: 0 | H29: 0 | I29: 0 | J29: 0 | K29: 0 | L29: 0 | M29: 0 | N29: 0 | O29: 0 | P29: 0 | Q29: 0 | R29: 0 | S29: 0
B30: 地曳網 | C30: 0 | D30: 0 | E30: 0 | F30: 0 | G30: 0 | H30: 0 | I30: 0 | J30: 0 | K30: 0 | L30: 0 | M30: 0 | N30: 0 | O30: 0 | P30: 0 | Q30: 0 | R30: 0 | S30: 0
B31: 焚寄網 | C31: 0 | D31: 0 | E31: 0 | F31: 0 | G31: 0 | H31: 0 | I31: 0 | J31: 0 | K31: 0 | L31: 0 | M31: 0 | N31: 0 | O31: 0 | P31: 0 | Q31: 0 | R31: 0 | S31: 0
B32: 刺網 | C32: 0 | D32: 0 | E32: 0 | F32: 0 | G32: 0 | H32: 0 | I32: 0 | J32: 0 | K32: 0 | L32: 0 | M32: 0 | N32: 0 | O32: 0 | P32: 0 | Q32: 0 | R32: 0 | S32: 0
B33: 追逐網 | C33: 0 | D33: 0 | E33: 0 | F33: 0 | G33: 0 | H33: 0 | I33: 0 | J33: 0 | K33: 0 | L33: 0 | M33: 0 | N33: 0 | O33: 0 | P33: 0 | Q33: 0 | R33: 0 | S33: 0
B34: 流袋網 | C34: 0 | D34: 0 | E34: 0 | F34: 0 | G34: 0 | H34: 0 | I34: 0 | J34: 0 | K34: 0 | L34: 0 | M34: 0 | N34: 0 | O34: 0 | P34: 0 | Q34: 0 | R34: 0 | S34: 0
B35: 魩鱙漁業 | C35: 0 | D35: 0 | E35: 0 | F35: 0 | G35: 0 | H35: 0 | I35: 0 | J35: 0 | K35: 0 | L35: 0 | M35: 0 | N35: 0 | O35: 0 | P35: 0 | Q35: 0 | R35: 0 | S35: 0
B36: 櫻花蝦漁業 | C36: 0 | D36: 0 | E36: 0 | F36: 0 | G36: 0 | H36: 0 | I36: 0 | J36: 0 | K36: 0 | L36: 0 | M36: 0 | N36: 0 | O36: 0 | P36: 0 | Q36: 0 | R36: 0 | S36: 0
B37: 赤尾青蝦漁業 | C37: 0 | D37: 0 | E37: 0 | F37: 0 | G37: 0 | H37: 0 | I37: 0 | J37: 0 | K37: 0 | L37: 0 | M37: 0 | N37: 0 | O37: 0 | P37: 0 | Q37: 0 | R37: 0 | S37: 0
B38: 其他網 | C38: 0 | D38: 0 | E38: 0 | F38: 0 | G38: 0 | H38: 0 | I38: 0 | J38: 0 | K38: 0 | L38: 0 | M38: 0 | N38: 0 | O38: 0 | P38: 0 | Q38: 0 | R38: 0 | S38: 0
B39: 一支釣 | C39: 0 | D39: 0 | E39: 0 | F39: 0 | G39: 0 | H39: 0 | I39: 0 | J39: 0 | K39: 0 | L39: 0 | M39: 0 | N39: 0 | O39: 0 | P39: 0 | Q39: 0 | R39: 0 | S39: 0
B40: 雜魚延繩釣 | C40: 0 | D40: 0 | E40: 0 | F40: 0 | G40: 0 | H40: 0 | I40: 0 | J40: 0 | K40: 0 | L40: 0 | M40: 0 | N40: 0 | O40: 0 | P40: 0 | Q40: 0 | R40: 0 | S40: 0
... B45: 其他 | C45: 0 | D45: 0 | E45: 0 | F45: 0 | G45: 0 | H45: 0 | I45: 0 | J45: 0 | K45: 0 | L45: 0 | M45: 0 | N45: 0 | O45: 0 | P45: 0 | Q45: 0 | R45: 0 | S45: 0
A46: 海面養殖 | B46: 合計 | C46: =SUBTOTAL(9, C47:C49) -> 0 | D46: =SUBTOTAL(9, D47:D49) -> 0 | E46: =SUBTOTAL(9, E47:E49) -> 0 | F46: =SUBTOTAL(9, F47:F49) -> 0 | G46: =SUBTOTAL(9, G47:G49) -> 0 | H46: =SUBTOTAL(9, H47:H49) -> 0 | I46: =SUBTOTAL(9, I47:I49) -> 0 | J46: =SUBTOTAL(9, J47:J49) -> 0 | ... S46: =SUBTOTAL(9, S47:S49) -> 0
B47: 淺海養殖 | C47: 0 | D47: 0 | E47: 0 | F47: 0 | G47: 0 | H47: 0 | I47: 0 | J47: 0 | K47: 0 | L47: 0 | M47: 0 | N47: 0 | O47: 0 | P47: 0 | Q47: 0 | R47: 0 | S47: 0
B48: 箱網養殖 | C48: 0 | D48: 0 | E48: 0 | F48: 0 | G48: 0 | H48: 0 | I48: 0 | J48: 0 | K48: 0 | L48: 0 | M48: 0 | N48: 0 | O48: 0 | P48: 0 | Q48: 0 | R48: 0 | S48: 0
B49: 其他 | C49: 0 | D49: 0 | E49: 0 | F49: 0 | G49: 0 | H49: 0 | I49: 0 | J49: 0 | K49: 0 | L49: 0 | M49: 0 | N49: 0 | O49: 0 | P49: 0 | Q49: 0 | R49: 0 | S49: 0
A50: 內陸漁撈 | B50: 合計 | C50: =SUBTOTAL(9, C51:C53) -> 0 | D50: =SUBTOTAL(9, D51:D53) -> 0 | E50: =SUBTOTAL(9, E51:E53) -> 0 | F50: =SUBTOTAL(9, F51:F53) -> 0 | G50: =SUBTOTAL(9, G51:G53) -> 0 | H50: =SUBTOTAL(9, H51:H53) -> 0 | I50: =SUBTOTAL(9, I51:I53) -> 0 | J50: =SUBTOTAL(9, J51:J53) -> 0 | ... S50: =SUBTOTAL(9, S51:S53) -> 0
B51: 河川漁撈 | C51: 0 | D51: 0 | E51: 0 | F51: 0 | G51: 0 | H51: 0 | I51: 0 | J51: 0 | K51: 0 | L51: 0 | M51: 0 | N51: 0 | O51: 0 | P51: 0 | Q51: 0 | R51: 0 | S51: 0
B52: 水庫漁撈 | C52: 0 | D52: 0 | E52: 0 | F52: 0 | G52: 0 | H52: 0 | I52: 0 | J52: 0 | K52: 0 | L52: 0 | M52: 0 | N52: 0 | O52: 0 | P52: 0 | Q52: 0 | R52: 0 | S52: 0
B53: 其他 | C53: 0 | D53: 0 | E53: 0 | F53: 0 | G53: 0 | H53: 0 | I53: 0 | J53: 0 | K53: 0 | L53: 0 | M53: 0 | N53: 0 | O53: 0 | P53: 0 | Q53: 0 | R53: 0 | S53: 0
A54: 內陸養殖 | B54: 合計 | C54: =SUBTOTAL(9, C55:C59) -> 0 | D54: =SUBTOTAL(9, D55:D59) -> 0 | E54: =SUBTOTAL(9, E55:E59) -> 0 | F54: =SUBTOTAL(9, F55:F59) -> 0 | G54: =SUBTOTAL(9, G55:G59) -> 0 | H54: =SUBTOTAL(9, H55:H59) -> 0 | I54: =SUBTOTAL(9, I55:I59) -> 0 | J54: =SUBTOTAL(9, J55:J59) -> 0 | ... S54: =SUBTOTAL(9, S55:S59) -> 0
B55: 鹹水魚塭 | C55: 0 | D55: 0 | E55: 0 | F55: 0 | G55: 0 | H55: 0 | I55: 0 | J55: 0 | K55: 0 | L55: 0 | M55: 0 | N55: 0 | O55: 0 | P55: 0 | Q55: 0 | R55: 0 | S55: 0
B56: 淡水魚塭 | C56: 0 | D56: 0 | E56: 0 | F56: 0 | G56: 0 | H56: 0 | I56: 0 | J56: 0 | K56: 0 | L56: 0 | M56: 0 | N56: 0 | O56: 0 | P56: 0 | Q56: 0 | R56: 0 | S56: 0
B57: 箱網養殖 | C57: 0 | D57: 0 | E57: 0 | F57: 0 | G57: 0 | H57: 0 | I57: 0 | J57: 0 | K57: 0 | L57: 0 | M57: 0 | N57: 0 | O57: 0 | P57: 0 | Q57: 0 | R57: 0 | S57: 0
B58: 觀賞魚養殖 | C58: 0 | D58: 0 | E58: 0 | F58: 0 | G58: 0 | H58: 0 | I58: 0 | J58: 0 | K58: 0 | L58: 0 | M58: 0 | N58: 0 | O58: 0 | P58: 0 | Q58: 0 | R58: 0 | S58: 0
B59: 其他 | C59: 0 | D59: 0 | E59: 0 | F59: 0 | G59: 0 | H59: 0 | I59: 0 | J59: 0 | K59: 0 | L59: 0 | M59: 0 | N59: 0 | O59: 0 | P59: 0 | Q59: 0 | R59: 0 | S59: 0

Sheet 2
A1: 公 開 類 | P1: 編製機關 | Q1: 臺中市海岸資源漁業發展所
A2: 年 報 | B2: 次年2月底前編報 | P2: 表 號 | Q2: 20341－02－01－2
A4: 臺中市近海、沿岸漁業、海面養殖、內陸漁撈、內陸養殖漁業生產量(續二)(修正表)
Q5: 單位：次；公噸；千尾(觀賞魚)
A6: 中華民國114年
A8: 魚類別 | C8: 真鰺 | D8: 大甲鰺 | E8: 紅尾圓鰺 | F8: 甘仔鰺 | G8: 紅甘鰺 | H8: 其他鰺 | I8: 鯔 | J8: 銀鯧 | K8: 燕尾鯧 | L8: 刺鯧 | M8: 馬鮁科 | N8: 金梭魚科 | O8: 沙鮻科 | P8: 寶刀魚科 | Q8: 帶魚屬 | R8: 鱰 | S8: 脂眼鯡
A9: 漁業種類
A10: 總計 | C10: =SUBTOTAL(9, C11:C59) -> 6.19143 | D10: =SUBTOTAL(9, D11:D59) -> 0.106 | E10: =SUBTOTAL(9, E11:E59) -> 0.09 | F10: =SUBTOTAL(9, F11:F59) -> 7.29961 | G10: =SUBTOTAL(9, G11:G59) -> 1.3499 | H10: =SUBTOTAL(9, H11:H59) -> 0.01 | I10: =SUBTOTAL(9, I11:I59) -> 11.53592 | J10: =SUBTOTAL(9, J11:J59) -> 7.6306 | ... S10: =SUBTOTAL(9, S11:S59) -> 0.167
A11: 近海漁業 | B11: 合計 | C11: =SUBTOTAL(9, C12:C27) -> 6.19143 | D11: =SUBTOTAL(9, D12:D27) -> 0.106 | E11: =SUBTOTAL(9, E12:E27) -> 0.09 | F11: =SUBTOTAL(9, F12:F27) -> 7.29961 | G11: =SUBTOTAL(9, G12:G27) -> 1.3499 | H11: =SUBTOTAL(9, H12:H27) -> 0.01 | I11: =SUBTOTAL(9, I12:I27) -> 11.53592 | J11: =SUBTOTAL(9, J12:J27) -> 7.6306 | ... S11: =SUBTOTAL(9, S12:S27) -> 0.167
B12: 巾著網 | C12: 0 | D12: 0 | E12: 0 | F12: 0 | G12: 0 | H12: 0 | I12: 0 | J12: 0 | K12: 0 | L12: 0 | M12: 0 | N12: 0 | O12: 0 | P12: 0 | Q12: 0 | R12: 0 | S12: 0
B13: 鯖鰺圍網 | C13: 0 | D13: 0 | E13: 0 | F13: 0 | G13: 0 | H13: 0 | I13: 0 | J13: 0 | K13: 0 | L13: 0 | M13: 0 | N13: 0 | O13: 0 | P13: 0 | Q13: 0 | R13: 0 | S13: 0
B14: 棒受網 | C14: 0 | D14: 0 | E14: 0 | F14: 0 | G14: 0 | H14: 0 | I14: 0 | J14: 0 | K14: 0 | L14: 0 | M14: 0 | N14: 0 | O14: 0 | P14: 0 | Q14: 0 | R14: 0 | S14: 0
B15: 中小拖網 | C15: 3.34338 | D15: 0.053 | E15: 0.0486 | F15: 3.94179 | G15: 0.80994 | H15: 0.0054 | I15: 6.2294 | J15: 4.57836 | K15: 1.7324 | L15: 9.56525 | M15: 26.09228 | N15: 0.21766 | O15: 0.18582 | P15: 0 | Q15: 2.17963 | R15: 0.007 | S15: 0.1002
B16: 刺網 | C16: 2.4766 | D16: 0.053 | E16: 0.036 | F16: 2.91988 | G16: 0.53996 | H16: 0.004 | I16: 4.6144 | J16: 3.05224 | K16: 1.28328 | L16: 7.0854 | M16: 19.32764 | N16: 0.16124 | O16: 0.12388 | P16: 0 | Q16: 1.61456 | R16: 0.003 | S16: 0.0668
B17: 扒網 | C17: 0 | D17: 0 | E17: 0 | F17: 0 | G17: 0 | H17: 0 | I17: 0 | J17: 0 | K17: 0 | L17: 0 | M17: 0 | N17: 0 | O17: 0 | P17: 0 | Q17: 0 | R17: 0 | S17: 0
B18: 其他網 | C18: 0 | D18: 0 | E18: 0 | F18: 0 | G18: 0 | H18: 0 | I18: 0 | J18: 0 | K18: 0 | L18: 0 | M18: 0 | N18: 0 | O18: 0 | P18: 0 | Q18: 0 | R18: 0 | S18: 0
B19: 鮪延繩釣 | C19: 0 | D19: 0 | E19: 0 | F19: 0 | G19: 0 | H19: 0 | I19: 0 | J19: 0 | K19: 0 | L19: 0 | M19: 0 | N19: 0 | O19: 0 | P19: 0 | Q19: 0 | R19: 0 | S19: 0
B20: 雜魚延繩釣 | C20: 0.37145 | D20: 0 | E20: 0.0054 | F20: 0.43794 | G20: 0 | H20: 0.0006 | I20: 0.69212 | J20: 0 | K20: 0.19246 | L20: 1.06278 | M20: 2.89911 | N20: 0.02416 | O20: 0 | P20: 0 | Q20: 0.24216 | R20: 0 | S20: 0
B21: 曳繩釣 | C21: 0 | D21: 0 | E21: 0 | F21: 0 | G21: 0 | H21: 0 | I21: 0 | J21: 0 | K21: 0 | L21: 0 | M21: 0 | N21: 0 | O21: 0 | P21: 0 | Q21: 0 | R21: 0 | S21: 0
B22: 一支釣 | C22: 0 | D22: 0 | E22: 0 | F22: 0 | G22: 0 | H22: 0 | I22: 0 | J22: 0 | K22: 0 | L22: 0 | M22: 0 | N22: 0 | O22: 0 | P22: 0 | Q22: 0 | R22: 0 | S22: 0
B23: 其他釣 | C23: 0 | D23: 0 | E23: 0 | F23: 0 | G23: 0 | H23: 0 | I23: 0 | J23: 0 | K23: 0 | L23: 0 | M23: 0 | N23: 0 | O23: 0 | P23: 0 | Q23: 0 | R23: 0 | S23: 0
... B27: 其他 | C27: 0 | D27: 0 | E27: 0 | F27: 0 | G27: 0 | H27: 0 | I27: 0 | J27: 0 | K27: 0 | L27: 0 | M27: 0 | N27: 0 | O27: 0 | P27: 0 | Q27: 0 | R27: 0 | S27: 0
A28: 沿岸漁業 | B28: 合計 | C28: =SUBTOTAL(9, C29:C45) -> 0 | D28: =SUBTOTAL(9, D29:D45) -> 0 | E28: =SUBTOTAL(9, E29:E45) -> 0 | F28: =SUBTOTAL(9, F29:F45) -> 0 | G28: =SUBTOTAL(9, G29:G45) -> 0 | H28: =SUBTOTAL(9, H29:H45) -> 0 | I28: =SUBTOTAL(9, I29:I45) -> 0 | J28: =SUBTOTAL(9, J29:J45) -> 0 | ... S28: =SUBTOTAL(9, S29:S45) -> 0
B29: 定置漁具 | C29: 0 | D29: 0 | E29: 0 | F29: 0 | G29: 0 | H29: 0 | I29: 0 | J29: 0 | K29: 0 | L29: 0 | M29: 0 | N29: 0 | O29: 0 | P29: 0 | Q29: 0 | R29: 0 | S29: 0
B30: 地曳網 | C30: 0 | D30: 0 | E30: 0 | F30: 0 | G30: 0 | H30: 0 | I30: 0 | J30: 0 | K30: 0 | L30: 0 | M30: 0 | N30: 0 | O30: 0 | P30: 0 | Q30: 0 | R30: 0 | S30: 0
B31: 焚寄網 | C31: 0 | D31: 0 | E31: 0 | F31: 0 | G31: 0 | H31: 0 | I31: 0 | J31: 0 | K31: 0 | L31: 0 | M31: 0 | N31: 0 | O31: 0 | P31: 0 | Q31: 0 | R31: 0 | S31: 0
B32: 刺網 | C32: 0 | D32: 0 | E32: 0 | F32: 0 | G32: 0 | H32: 0 | I32: 0 | J32: 0 | K32: 0 | L32: 0 | M32: 0 | N32: 0 | O32: 0 | P32: 0 | Q32: 0 | R32: 0 | S32: 0
B33: 追逐網 | C33: 0 | D33: 0 | E33: 0 | F33: 0 | G33: 0 | H33: 0 | I33: 0 | J33: 0 | K33: 0 | L33: 0 | M33: 0 | N33: 0 | O33: 0 | P33: 0 | Q33: 0 | R33: 0 | S33: 0
B34: 流袋網 | C34: 0 | D34: 0 | E34: 0 | F34: 0 | G34: 0 | H34: 0 | I34: 0 | J34: 0 | K34: 0 | L34: 0 | M34: 0 | N34: 0 | O34: 0 | P34: 0 | Q34: 0 | R34: 0 | S34: 0
B35: 魩鱙漁業 | C35: 0 | D35: 0 | E35: 0 | F35: 0 | G35: 0 | H35: 0 | I35: 0 | J35: 0 | K35: 0 | L35: 0 | M35: 0 | N35: 0 | O35: 0 | P35: 0 | Q35: 0 | R35: 0 | S35: 0
B36: 櫻花蝦漁業 | C36: 0 | D36: 0 | E36: 0 | F36: 0 | G36: 0 | H36: 0 | I36: 0 | J36: 0 | K36: 0 | L36: 0 | M36: 0 | N36: 0 | O36: 0 | P36: 0 | Q36: 0 | R36: 0 | S36: 0
B37: 赤尾青蝦漁業 | C37: 0 | D37: 0 | E37: 0 | F37: 0 | G37: 0 | H37: 0 | I37: 0 | J37: 0 | K37: 0 | L37: 0 | M37: 0 | N37: 0 | O37: 0 | P37: 0 | Q37: 0 | R37: 0 | S37: 0
B38: 其他網 | C38: 0 | D38: 0 | E38: 0 | F38: 0 | G38: 0 | H38: 0 | I38: 0 | J38: 0 | K38: 0 | L38: 0 | M38: 0 | N38: 0 | O38: 0 | P38: 0 | Q38: 0 | R38: 0 | S38: 0
B39: 一支釣 | C39: 0 | D39: 0 | E39: 0 | F39: 0 | G39: 0 | H39: 0 | I39: 0 | J39: 0 | K39: 0 | L39: 0 | M39: 0 | N39: 0 | O39: 0 | P39: 0 | Q39: 0 | R39: 0 | S39: 0
B40: 雜魚延繩釣 | C40: 0 | D40: 0 | E40: 0 | F40: 0 | G40: 0 | H40: 0 | I40: 0 | J40: 0 | K40: 0 | L40: 0 | M40: 0 | N40: 0 | O40: 0 | P40: 0 | Q40: 0 | R40: 0 | S40: 0
... B45: 其他 | C45: 0 | D45: 0 | E45: 0 | F45: 0 | G45: 0 | H45: 0 | I45: 0 | J45: 0 | K45: 0 | L45: 0 | M45: 0 | N45: 0 | O45: 0 | P45: 0 | Q45: 0 | R45: 0 | S45: 0
A46: 海面養殖 | B46: 合計 | C46: =SUBTOTAL(9, C47:C49) -> 0 | D46: =SUBTOTAL(9, D47:D49) -> 0 | E46: =SUBTOTAL(9, E47:E49) -> 0 | F46: =SUBTOTAL(9, F47:F49) -> 0 | G46: =SUBTOTAL(9, G47:G49) -> 0 | H46: =SUBTOTAL(9, H47:H49) -> 0 | I46: =SUBTOTAL(9, I47:I49) -> 0 | J46: =SUBTOTAL(9, J47:J49) -> 0 | ... S46: =SUBTOTAL(9, S47:S49) -> 0
B47: 淺海養殖 | C47: 0 | D47: 0 | E47: 0 | F47: 0 | G47: 0 | H47: 0 | I47: 0 | J47: 0 | K47: 0 | L47: 0 | M47: 0 | N47: 0 | O47: 0 | P47: 0 | Q47: 0 | R47: 0 | S47: 0
B48: 箱網養殖 | C48: 0 | D48: 0 | E48: 0 | F48: 0 | G48: 0 | H48: 0 | I48: 0 | J48: 0 | K48: 0 | L48: 0 | M48: 0 | N48: 0 | O48: 0 | P48: 0 | Q48: 0 | R48: 0 | S48: 0
B49: 其他 | C49: 0 | D49: 0 | E49: 0 | F49: 0 | G49: 0 | H49: 0 | I49: 0 | J49: 0 | K49: 0 | L49: 0 | M49: 0 | N49: 0 | O49: 0 | P49: 0 | Q49: 0 | R49: 0 | S49: 0
A50: 內陸漁撈 | B50: 合計 | C50: =SUBTOTAL(9, C51:C53) -> 0 | D50: =SUBTOTAL(9, D51:D53) -> 0 | E50: =SUBTOTAL(9, E51:E53) -> 0 | F50: =SUBTOTAL(9, F51:F53) -> 0 | G50: =SUBTOTAL(9, G51:G53) -> 0 | H50: =SUBTOTAL(9, H51:H53) -> 0 | I50: =SUBTOTAL(9, I51:I53) -> 0 | J50: =SUBTOTAL(9, J51:J53) -> 0 | ... S50: =SUBTOTAL(9, S51:S53) -> 0
B51: 河川漁撈 | C51: 0 | D51: 0 | E51: 0 | F51: 0 | G51: 0 | H51: 0 | I51: 0 | J51: 0 | K51: 0 | L51: 0 | M51: 0 | N51: 0 | O51: 0 | P51: 0 | Q51: 0 | R51: 0 | S51: 0
B52: 水庫漁撈 | C52: 0 | D52: 0 | E52: 0 | F52: 0 | G52: 0 | H52: 0 | I52: 0 | J52: 0 | K52: 0 | L52: 0 | M52: 0 | N52: 0 | O52: 0 | P52: 0 | Q52: 0 | R52: 0 | S52: 0
B53: 其他 | C53: 0 | D53: 0 | E53: 0 | F53: 0 | G53: 0 | H53: 0 | I53: 0 | J53: 0 | K53: 0 | L53: 0 | M53: 0 | N53: 0 | O53: 0 | P53: 0 | Q53: 0 | R53: 0 | S53: 0
A54: 內陸養殖 | B54: 合計 | C54: =SUBTOTAL(9, C55:C59) -> 0 | D54: =SUBTOTAL(9, D55:D59) -> 0 | E54: =SUBTOTAL(9, E55:E59) -> 0 | F54: =SUBTOTAL(9, F55:F59) -> 0 | G54: =SUBTOTAL(9, G55:G59) -> 0 | H54: =SUBTOTAL(9, H55:H59) -> 0 | I54: =SUBTOTAL(9, I55:I59) -> 0 | J54: =SUBTOTAL(9, J55:J59) -> 0 | ... S54: =SUBTOTAL(9, S55:S59) -> 0
B55: 鹹水魚塭 | C55: 0 | D55: 0 | E55: 0 | F55: 0 | G55: 0 | H55: 0 | I55: 0 | J55: 0 | K55: 0 | L55: 0 | M55: 0 | N55: 0 | O55: 0 | P55: 0 | Q55: 0 | R55: 0 | S55: 0
B56: 淡水魚塭 | C56: 0 | D56: 0 | E56: 0 | F56: 0 | G56: 0 | H56: 0 | I56: 0 | J56: 0 | K56: 0 | L56: 0 | M56: 0 | N56: 0 | O56: 0 | P56: 0 | Q56: 0 | R56: 0 | S56: 0
B57: 箱網養殖 | C57: 0 | D57: 0 | E57: 0 | F57: 0 | G57: 0 | H57: 0 | I57: 0 | J57: 0 | K57: 0 | L57: 0 | M57: 0 | N57: 0 | O57: 0 | P57: 0 | Q57: 0 | R57: 0 | S57: 0
B58: 觀賞魚養殖 | C58: 0 | D58: 0 | E58: 0 | F58: 0 | G58: 0 | H58: 0 | I58: 0 | J58: 0 | K58: 0 | L58: 0 | M58: 0 | N58: 0 | O58: 0 | P58: 0 | Q58: 0 | R58: 0 | S58: 0
B59: 其他 | C59: 0 | D59: 0 | E59: 0 | F59: 0 | G59: 0 | H59: 0 | I59: 0 | J59: 0 | K59: 0 | L59: 0 | M59: 0 | N59: 0 | O59: 0 | P59: 0 | Q59: 0 | R59: 0 | S59: 0

Sheet 3
A1: 公 開 類 | P1: 編製機關 | Q1: 臺中市海岸資源漁業發展所
A2: 年 報 | B2: 次年2月底前編報 | P2: 表 號 | Q2: 20341－02－01－2
A4: 臺中市近海、沿岸漁業、海面養殖、內陸漁撈、內陸養殖漁業生產量(續三)(修正表)
Q5: 單位：次；公噸；千尾(觀賞魚)
A6: 中華民國114年
A8: 魚類別 | C8: 小沙丁屬 | D8: 其他鯡 | E8: 鱙仔 | F8: 魩仔 | G8: 花腹鯖 | H8: 白腹鯖 | I8: 正鰹 | J8: 圓花鰹 | K8: 康氏馬加鰆 | L8: 日本馬加鰆 | M8: 臺灣馬加鰆 | N8: 其他鰆類 | O8: 長鰭鮪 | P8: 黃鰭鮪 | Q8: 劍旗魚 | R8: 紅肉旗魚 | S8: 黑皮旗魚
A9: 漁業種類
A10: 總計 | C10: =SUBTOTAL(9, C11:C59) -> 0 | D10: =SUBTOTAL(9, D11:D59) -> 0 | E10: =SUBTOTAL(9, E11:E59) -> 0 | F10: =SUBTOTAL(9, F11:F59) -> 20.886 | G10: =SUBTOTAL(9, G11:G59) -> 1.4763 | H10: =SUBTOTAL(9, H11:H59) -> 0 | I10: =SUBTOTAL(9, I11:I59) -> 0 | J10: =SUBTOTAL(9, J11:J59) -> 1.5441 | ... S10: =SUBTOTAL(9, S11:S59) -> 0
A11: 近海漁業 | B11: 合計 | C11: =SUBTOTAL(9, C12:C27) -> 0 | D11: =SUBTOTAL(9, D12:D27) -> 0 | E11: =SUBTOTAL(9, E12:E27) -> 0 | F11: =SUBTOTAL(9, F12:F27) -> 0 | G11: =SUBTOTAL(9, G12:G27) -> 1.4763 | H11: =SUBTOTAL(9, H12:H27) -> 0 | I11: =SUBTOTAL(9, I12:I27) -> 0 | J11: =SUBTOTAL(9, J12:J27) -> 1.5441 | ... R11: =SUBTOTAL(9, R12:R27) -> 0 | S11: 0
B12: 巾著網 | C12: 0 | D12: 0 | E12: 0 | F12: 0 | G12: 0 | H12: 0 | I12: 0 | J12: 0 | K12: 0 | L12: 0 | M12: 0 | N12: 0 | O12: 0 | P12: 0 | Q12: 0 | R12: 0 | S12: 0
B13: 鯖鰺圍網 | C13: 0 | D13: 0 | E13: 0 | F13: 0 | G13: 0 | H13: 0 | I13: 0 | J13: 0 | K13: 0 | L13: 0 | M13: 0 | N13: 0 | O13: 0 | P13: 0 | Q13: 0 | R13: 0 | S13: 0
B14: 棒受網 | C14: 0 | D14: 0 | E14: 0 | F14: 0 | G14: 0 | H14: 0 | I14: 0 | J14: 0 | K14: 0 | L14: 0 | M14: 0 | N14: 0 | O14: 0 | P14: 0 | Q14: 0 | R14: 0 | S14: 0
B15: 中小拖網 | C15: 0 | D15: 0 | E15: 0 | F15: 0 | G15: 1.4763 | H15: 0 | I15: 0 | J15: 1.5441 | K15: 1.77009 | L15: 0.52235 | M15: 14.08048 | N15: 0.08622 | O15: 0.00702 | P15: 0 | Q15: 0 | R15: 0 | S15: 0
B16: 刺網 | C16: 0 | D16: 0 | E16: 0 | F16: 0 | G16: 0 | H16: 0 | I16: 0 | J16: 0 | K16: 2.95015 | L16: 0.41788 | M16: 10.43004 | N16: 0.05748 | O16: 0.00468 | P16: 0 | Q16: 0 | R16: 0 | S16: 0
B17: 扒網 | C17: 0 | D17: 0 | E17: 0 | F17: 0 | G17: 0 | H17: 0 | I17: 0 | J17: 0 | K17: 0 | L17: 0 | M17: 0 | N17: 0 | O17: 0 | P17: 0 | Q17: 0 | R17: 0 | S17: 0
B18: 其他網 | C18: 0 | D18: 0 | E18: 0 | F18: 0 | G18: 0 | H18: 0 | I18: 0 | J18: 0 | K18: 0 | L18: 0 | M18: 0 | N18: 0 | O18: 0 | P18: 0 | Q18: 0 | R18: 0 | S18: 0
B19: 鮪延繩釣 | C19: 0 | D19: 0 | E19: 0 | F19: 0 | G19: 0 | H19: 0 | I19: 0 | J19: 0 | K19: 0 | L19: 0 | M19: 0 | N19: 0 | O19: 0 | P19: 0 | Q19: 0 | R19: 0 | S19: 0
B20: 雜魚延繩釣 | C20: 0 | D20: 0 | E20: 0 | F20: 0 | G20: 0 | H20: 0 | I20: 0 | J20: 0 | K20: 0 | L20: 0 | M20: 1.56446 | N20: 0 | O20: 0 | P20: 0 | Q20: 0 | R20: 0 | S20: 0
B21: 曳繩釣 | C21: 0 | D21: 0 | E21: 0 | F21: 0 | G21: 0 | H21: 0 | I21: 0 | J21: 0 | K21: 0 | L21: 0 | M21: 0 | N21: 0 | O21: 0 | P21: 0 | Q21: 0 | R21: 0 | S21: 0
B22: 一支釣 | C22: 0 | D22: 0 | E22: 0 | F22: 0 | G22: 0 | H22: 0 | I22: 0 | J22: 0 | K22: 1.18006 | L22: 0.10447 | M22: 0 | N22: 0 | O22: 0 | P22: 0 | Q22: 0 | R22: 0 | S22: 0
B23: 其他釣 | C23: 0 | D23: 0 | E23: 0 | F23: 0 | G23: 0 | H23: 0 | I23: 0 | J23: 0 | K23: 0 | L23: 0 | M23: 0 | N23: 0 | O23: 0 | P23: 0 | Q23: 0 | R23: 0 | S23: 0
... B27: 其他 | C27: 0 | D27: 0 | E27: 0 | F27: 0 | G27: 0 | H27: 0 | I27: 0 | J27: 0 | K27: 0 | L27: 0 | M27: 0 | N27: 0 | O27: 0 | P27: 0 | Q27: 0 | R27: 0 | S27: 0
A28: 沿岸漁業 | B28: 合計 | C28: =SUBTOTAL(9, C29:C45) -> 0 | D28: =SUBTOTAL(9, D29:D45) -> 0 | E28: =SUBTOTAL(9, E29:E45) -> 0 | F28: =SUBTOTAL(9, F29:F45) -> 20.886 | G28: =SUBTOTAL(9, G29:G45) -> 0 | H28: =SUBTOTAL(9, H29:H45) -> 0 | I28: =SUBTOTAL(9, I29:I45) -> 0 | J28: =SUBTOTAL(9, J29:J45) -> 0 | ... S28: =SUBTOTAL(9, S29:S45) -> 0
B29: 定置漁具 | C29: 0 | D29: 0 | E29: 0 | F29: 0 | G29: 0 | H29: 0 | I29: 0 | J29: 0 | K29: 0 | L29: 0 | M29: 0 | N29: 0 | O29: 0 | P29: 0 | Q29: 0 | R29: 0 | S29: 0
B30: 地曳網 | C30: 0 | D30: 0 | E30: 0 | F30: 0 | G30: 0 | H30: 0 | I30: 0 | J30: 0 | K30: 0 | L30: 0 | M30: 0 | N30: 0 | O30: 0 | P30: 0 | Q30: 0 | R30: 0 | S30: 0
B31: 焚寄網 | C31: 0 | D31: 0 | E31: 0 | F31: 0 | G31: 0 | H31: 0 | I31: 0 | J31: 0 | K31: 0 | L31: 0 | M31: 0 | N31: 0 | O31: 0 | P31: 0 | Q31: 0 | R31: 0 | S31: 0
B32: 刺網 | C32: 0 | D32: 0 | E32: 0 | F32: 0 | G32: 0 | H32: 0 | I32: 0 | J32: 0 | K32: 0 | L32: 0 | M32: 0 | N32: 0 | O32: 0 | P32: 0 | Q32: 0 | R32: 0 | S32: 0
B33: 追逐網 | C33: 0 | D33: 0 | E33: 0 | F33: 0 | G33: 0 | H33: 0 | I33: 0 | J33: 0 | K33: 0 | L33: 0 | M33: 0 | N33: 0 | O33: 0 | P33: 0 | Q33: 0 | R33: 0 | S33: 0
B34: 流袋網 | C34: 0 | D34: 0 | E34: 0 | F34: 0 | G34: 0 | H34: 0 | I34: 0 | J34: 0 | K34: 0 | L34: 0 | M34: 0 | N34: 0 | O34: 0 | P34: 0 | Q34: 0 | R34: 0 | S34: 0
B35: 魩鱙漁業 | C35: 0 | D35: 0 | E35: 0 | F35: 20.886 | G35: 0 | H35: 0 | I35: 0 | J35: 0 | K35: 0 | L35: 0 | M35: 0 | N35: 0 | O35: 0 | P35: 0 | Q35: 0 | R35: 0 | S35: 0
B36: 櫻花蝦漁業 | C36: 0 | D36: 0 | E36: 0 | F36: 0 | G36: 0 | H36: 0 | I36: 0 | J36: 0 | K36: 0 | L36: 0 | M36: 0 | N36: 0 | O36: 0 | P36: 0 | Q36: 0 | R36: 0 | S36: 0
B37: 赤尾青蝦漁業 | C37: 0 | D37: 0 | E37: 0 | F37: 0 | G37: 0 | H37: 0 | I37: 0 | J37: 0 | K37: 0 | L37: 0 | M37: 0 | N37: 0 | O37: 0 | P37: 0 | Q37: 0 | R37: 0 | S37: 0
B38: 其他網 | C38: 0 | D38: 0 | E38: 0 | F38: 0 | G38: 0 | H38: 0 | I38: 0 | J38: 0 | K38: 0 | L38: 0 | M38: 0 | N38: 0 | O38: 0 | P38: 0 | Q38: 0 | R38: 0 | S38: 0
B39: 一支釣 | C39: 0 | D39: 0 | E39: 0 | F39: 0 | G39: 0 | H39: 0 | I39: 0 | J39: 0 | K39: 0 | L39: 0 | M39: 0 | N39: 0 | O39: 0 | P39: 0 | Q39: 0 | R39: 0 | S39: 0
B40: 雜魚延繩釣 | C40: 0 | D40: 0 | E40: 0 | F40: 0 | G40: 0 | H40: 0 | I40: 0 | J40: 0 | K40: 0 | L40: 0 | M40: 0 | N40: 0 | O40: 0 | P40: 0 | Q40: 0 | R40: 0 | S40: 0
... B45: 其他 | C45: 0 | D45: 0 | E45: 0 | F45: 0 | G45: 0 | H45: 0 | I45: 0 | J45: 0 | K45: 0 | L45: 0 | M45: 0 | N45: 0 | O45: 0 | P45: 0 | Q45: 0 | R45: 0 | S45: 0
A46: 海面養殖 | B46: 合計 | C46: =SUBTOTAL(9, C47:C49) -> 0 | D46: =SUBTOTAL(9, D47:D49) -> 0 | E46: =SUBTOTAL(9, E47:E49) -> 0 | F46: =SUBTOTAL(9, F47:F49) -> 0 | G46: =SUBTOTAL(9, G47:G49) -> 0 | H46: =SUBTOTAL(9, H47:H49) -> 0 | I46: =SUBTOTAL(9, I47:I49) -> 0 | J46: =SUBTOTAL(9, J47:J49) -> 0 | ... S46: =SUBTOTAL(9, S47:S49) -> 0
B47: 淺海養殖 | C47: 0 | D47: 0 | E47: 0 | F47: 0 | G47: 0 | H47: 0 | I47: 0 | J47: 0 | K47: 0 | L47: 0 | M47: 0 | N47: 0 | O47: 0 | P47: 0 | Q47: 0 | R47: 0 | S47: 0
B48: 箱網養殖 | C48: 0 | D48: 0 | E48: 0 | F48: 0 | G48: 0 | H48: 0 | I48: 0 | J48: 0 | K48: 0 | L48: 0 | M48: 0 | N48: 0 | O48: 0 | P48: 0 | Q48: 0 | R48: 0 | S48: 0
B49: 其他 | C49: 0 | D49: 0 | E49: 0 | F49: 0 | G49: 0 | H49: 0 | I49: 0 | J49: 0 | K49: 0 | L49: 0 | M49: 0 | N49: 0 | O49: 0 | P49: 0 | Q49: 0 | R49: 0 | S49: 0
A50: 內陸漁撈 | B50: 合計 | C50: =SUBTOTAL(9, C51:C53) -> 0 | D50: =SUBTOTAL(9, D51:D53) -> 0 | E50: =SUBTOTAL(9, E51:E53) -> 0 | F50: =SUBTOTAL(9, F51:F53) -> 0 | G50: =SUBTOTAL(9, G51:G53) -> 0 | H50: =SUBTOTAL(9, H51:H53) -> 0 | I50: =SUBTOTAL(9, I51:I53) -> 0 | J50: =SUBTOTAL(9, J51:J53) -> 0 | ... S50: =SUBTOTAL(9, S51:S53) -> 0
B51: 河川漁撈 | C51: 0 | D51: 0 | E51: 0 | F51: 0 | G51: 0 | H51: 0 | I51: 0 | J51: 0 | K51: 0 | L51: 0 | M51: 0 | N51: 0 | O51: 0 | P51: 0 | Q51: 0 | R51: 0 | S51: 0
B52: 水庫漁撈 | C52: 0 | D52: 0 | E52: 0 | F52: 0 | G52: 0 | H52: 0 | I52: 0 | J52: 0 | K52: 0 | L52: 0 | M52: 0 | N52: 0 | O52: 0 | P52: 0 | Q52: 0 | R52: 0 | S52: 0
B53: 其他 | C53: 0 | D53: 0 | E53: 0 | F53: 0 | G53: 0 | H53: 0 | I53: 0 | J53: 0 | K53: 0 | L53: 0 | M53: 0 | N53: 0 | O53: 0 | P53: 0 | Q53: 0 | R53: 0 | S53: 0
A54: 內陸養殖 | B54: 合計 | C54: =SUBTOTAL(9, C55:C59) -> 0 | D54: =SUBTOTAL(9, D55:D59) -> 0 | E54: =SUBTOTAL(9, E55:E59) -> 0 | F54: =SUBTOTAL(9, F55:F59) -> 0 | G54: =SUBTOTAL(9, G55:G59) -> 0 | H54: =SUBTOTAL(9, H55:H59) -> 0 | I54: =SUBTOTAL(9, I55:I59) -> 0 | J54: =SUBTOTAL(9, J55:J59) -> 0 | ... S54: =SUBTOTAL(9, S55:S59) -> 0
B55: 鹹水魚塭 | C55: 0 | D55: 0 | E55: 0 | F55: 0 | G55: 0 | H55: 0 | I55: 0 | J55: 0 | K55: 0 | L55: 0 | M55: 0 | N55: 0 | O55: 0 | P55: 0 | Q55: 0 | R55: 0 | S55: 0
B56: 淡水魚塭 | C56: 0 | D56: 0 | E56: 0 | F56: 0 | G56: 0 | H56: 0 | I56: 0 | J56: 0 | K56: 0 | L56: 0 | M56: 0 | N56: 0 | O56: 0 | P56: 0 | Q56: 0 | R56: 0 | S56: 0
B57: 箱網養殖 | C57: 0 | D57: 0 | E57: 0 | F57: 0 | G57: 0 | H57: 0 | I57: 0 | J57: 0 | K57: 0 | L57: 0 | M57: 0 | N57: 0 | O57: 0 | P57: 0 | Q57: 0 | R57: 0 | S57: 0
B58: 觀賞魚養殖 | C58: 0 | D58: 0 | E58: 0 | F58: 0 | G58: 0 | H58: 0 | I58: 0 | J58: 0 | K58: 0 | L58: 0 | M58: 0 | N58: 0 | O58: 0 | P58: 0 | Q58: 0 | R58: 0 | S58: 0
B59: 其他 | C59: 0 | D59: 0 | E59: 0 | F59: 0 | G59: 0 | H59: 0 | I59: 0 | J59: 0 | K59: 0 | L59: 0 | M59: 0 | N59: 0 | O59: 0 | P59: 0 | Q59: 0 | R59: 0 | S59: 0

Sheet 4
A1: 公 開 類 | O1: 編製機關 | P1: 臺中市海岸資源漁業發展所
A2: 年 報 | B2: 次年2月底前編報 | O2: 表 號 | P2: 20341－02－01－2
A4: 臺中市近海、沿岸漁業、海面養殖、內陸漁撈、內陸養殖漁業生產量(續四)(修正表)
P5: 單位：次；公噸；千尾(觀賞魚)
A6: 中華民國114年
A8: 魚類別 | C8: 雨傘旗魚 | D8: 真鯊屬 | E8: 其他鯊 | F8: 魟類 | G8: 單棘魨科 | H8: 其他海水魚類 | I8: 花枝 | J8: 烏賊 | K8: 其他魷 | L8: 鎖管 | M8: 軟翅 | N8: 章魚 | O8: 其他頭足類 | P8: 日本對蝦 | Q8: 多毛對蝦 | R8: 刀額新對蝦
A9: 漁業種類
A10: 總計 | C10: =SUBTOTAL(9, C11:C59) -> 0.1016 | D10: =SUBTOTAL(9, D11:D59) -> 110.44953 | E10: =SUBTOTAL(9, E11:E59) -> 0 | F10: =SUBTOTAL(9, F11:F59) -> 2.47802 | G10: =SUBTOTAL(9, G11:G59) -> 0.28767 | H10: =SUBTOTAL(9, H11:H59) -> 65.53199 | I10: =SUBTOTAL(9, I11:I59) -> 7.489 | J10: =SUBTOTAL(9, J11:J59) -> 0 | ... R10: =SUBTOTAL(9, R11:R59) -> 0
A11: 近海漁業 | B11: 合計 | C11: =SUBTOTAL(9, C12:C27) -> 0.1016 | D11: =SUBTOTAL(9, D12:D27) -> 110.44953 | E11: =SUBTOTAL(9, E12:E27) -> 0 | F11: =SUBTOTAL(9, F12:F27) -> 2.47802 | G11: =SUBTOTAL(9, G12:G27) -> 0.28767 | H11: =SUBTOTAL(9, H12:H27) -> 65.53199 | I11: =SUBTOTAL(9, I12:I27) -> 7.489 | J11: =SUBTOTAL(9, J12:J27) -> 0 | ... R11: =SUBTOTAL(9, R12:R27) -> 0
B12: 巾著網 | C12: 0 | D12: 0 | E12: 0 | F12: 0 | G12: 0 | H12: 0 | I12: 0 | J12: 0 | K12: 0 | L12: 0 | M12: 0 | N12: 0 | O12: 0 | P12: 0 | Q12: 0 | R12: 0
B13: 鯖鰺圍網 | C13: 0 | D13: 0 | E13: 0 | F13: 0 | G13: 0 | H13: 0 | I13: 0 | J13: 0 | K13: 0 | L13: 0 | M13: 0 | N13: 0 | O13: 0 | P13: 0 | Q13: 0 | R13: 0
B14: 棒受網 | C14: 0 | D14: 0 | E14: 0 | F14: 0 | G14: 0 | H14: 0 | I14: 0 | J14: 0 | K14: 0 | L14: 0 | M14: 0 | N14: 0 | O14: 0 | P14: 0 | Q14: 0 | R14: 0
B15: 中小拖網 | C15: 0.1016 | D15: 59.64275 | E15: 0 | F15: 1.33813 | G15: 0.15535 | H15: 32.76605 | I15: 4.4934 | J15: 0 | K15: 0 | L15: 26.79036 | M15: 0 | N15: 0.096 | O15: 0.0222 | P15: 1.9747 | Q15: 0.6634 | R15: 0
B16: 刺網 | C16: 0 | D16: 44.17984 | E16: 0 | F16: 0.99124 | G16: 0.11508 | H16: 19.65963 | I16: 2.9956 | J16: 0 | K16: 0 | L16: 17.86024 | M16: 0 | N16: 0.064 | O16: 0.0148 | P16: 0 | Q16: 0 | R16: 0
B17: 扒網 | C17: 0 | D17: 0 | E17: 0 | F17: 0 | G17: 0 | H17: 0 | I17: 0 | J17: 0 | K17: 0 | L17: 0 | M17: 0 | N17: 0 | O17: 0 | P17: 0 | Q17: 0 | R17: 0
B18: 其他網 | C18: 0 | D18: 0 | E18: 0 | F18: 0 | G18: 0 | H18: 0 | I18: 0 | J18: 0 | K18: 0 | L18: 0 | M18: 0 | N18: 0 | O18: 0 | P18: 0 | Q18: 0 | R18: 0
B19: 鮪延繩釣 | C19: 0 | D19: 0 | E19: 0 | F19: 0 | G19: 0 | H19: 0 | I19: 0 | J19: 0 | K19: 0 | L19: 0 | M19: 0 | N19: 0 | O19: 0 | P19: 0 | Q19: 0 | R19: 0
B20: 雜魚延繩釣 | C20: 0 | D20: 6.62694 | E20: 0 | F20: 0.14865 | G20: 0.01724 | H20: 12.7787 | I20: 0 | J20: 0 | K20: 0 | L20: 0 | M20: 0 | N20: 0 | O20: 0 | P20: 0 | Q20: 0 | R20: 0
B21: 曳繩釣 | C21: 0 | D21: 0 | E21: 0 | F21: 0 | G21: 0 | H21: 0 | I21: 0 | J21: 0 | K21: 0 | L21: 0 | M21: 0 | N21: 0 | O21: 0 | P21: 0 | Q21: 0 | R21: 0
B22: 一支釣 | C22: 0 | D22: 0 | E22: 0 | F22: 0 | G22: 0 | H22: 0.32761 | I22: 0 | J22: 0 | K22: 0 | L22: 0 | M22: 0 | N22: 0 | O22: 0 | P22: 0 | Q22: 0 | R22: 0
B23: 其他釣 | C23: 0 | D23: 0 | E23: 0 | F23: 0 | G23: 0 | H23: 0 | I23: 0 | J23: 0 | K23: 0 | L23: 0 | M23: 0 | N23: 0 | O23: 0 | P23: 0 | Q23: 0 | R23: 0
... B27: 其他 | C27: 0 | D27: 0 | E27: 0 | F27: 0 | G27: 0 | H27: 0 | I27: 0 | J27: 0 | K27: 0 | L27: 0 | M27: 0 | N27: 0 | O27: 0 | P27: 0 | Q27: 0 | R27: 0
A28: 沿岸漁業 | B28: 合計 | C28: =SUBTOTAL(9, C29:C45) -> 0 | D28: =SUBTOTAL(9, D29:D45) -> 0 | E28: =SUBTOTAL(9, E29:E45) -> 0 | F28: =SUBTOTAL(9, F29:F45) -> 0 | G28: =SUBTOTAL(9, G29:G45) -> 0 | H28: =SUBTOTAL(9, H29:H45) -> 0 | I28: =SUBTOTAL(9, I29:I45) -> 0 | J28: =SUBTOTAL(9, J29:J45) -> 0 | ... R28: =SUBTOTAL(9, R29:R45) -> 0
B29: 定置漁具 | C29: 0 | D29: 0 | E29: 0 | F29: 0 | G29: 0 | H29: 0 | I29: 0 | J29: 0 | K29: 0 | L29: 0 | M29: 0 | N29: 0 | O29: 0 | P29: 0 | Q29: 0 | R29: 0
B30: 地曳網 | C30: 0 | D30: 0 | E30: 0 | F30: 0 | G30: 0 | H30: 0 | I30: 0 | J30: 0 | K30: 0 | L30: 0 | M30: 0 | N30: 0 | O30: 0 | P30: 0 | Q30: 0 | R30: 0
B31: 焚寄網 | C31: 0 | D31: 0 | E31: 0 | F31: 0 | G31: 0 | H31: 0 | I31: 0 | J31: 0 | K31: 0 | L31: 0 | M31: 0 | N31: 0 | O31: 0 | P31: 0 | Q31: 0 | R31: 0
B32: 刺網 | C32: 0 | D32: 0 | E32: 0 | F32: 0 | G32: 0 | H32: 0 | I32: 0 | J32: 0 | K32: 0 | L32: 0 | M32: 0 | N32: 0 | O32: 0 | P32: 0 | Q32: 0 | R32: 0
B33: 追逐網 | C33: 0 | D33: 0 | E33: 0 | F33: 0 | G33: 0 | H33: 0 | I33: 0 | J33: 0 | K33: 0 | L33: 0 | M33: 0 | N33: 0 | O33: 0 | P33: 0 | Q33: 0 | R33: 0
B34: 流袋網 | C34: 0 | D34: 0 | E34: 0 | F34: 0 | G34: 0 | H34: 0 | I34: 0 | J34: 0 | K34: 0 | L34: 0 | M34: 0 | N34: 0 | O34: 0 | P34: 0 | Q34: 0 | R34: 0
B35: 魩鱙漁業 | C35: 0 | D35: 0 | E35: 0 | F35: 0 | G35: 0 | H35: 0 | I35: 0 | J35: 0 | K35: 0 | L35: 0 | M35: 0 | N35: 0 | O35: 0 | P35: 0 | Q35: 0 | R35: 0
B36: 櫻花蝦漁業 | C36: 0 | D36: 0 | E36: 0 | F36: 0 | G36: 0 | H36: 0 | I36: 0 | J36: 0 | K36: 0 | L36: 0 | M36: 0 | N36: 0 | O36: 0 | P36: 0 | Q36: 0 | R36: 0
B37: 赤尾青蝦漁業 | C37: 0 | D37: 0 | E37: 0 | F37: 0 | G37: 0 | H37: 0 | I37: 0 | J37: 0 | K37: 0 | L37: 0 | M37: 0 | N37: 0 | O37: 0 | P37: 0 | Q37: 0 | R37: 0
B38: 其他網 | C38: 0 | D38: 0 | E38: 0 | F38: 0 | G38: 0 | H38: 0 | I38: 0 | J38: 0 | K38: 0 | L38: 0 | M38: 0 | N38: 0 | O38: 0 | P38: 0 | Q38: 0 | R38: 0
B39: 一支釣 | C39: 0 | D39: 0 | E39: 0 | F39: 0 | G39: 0 | H39: 0 | I39: 0 | J39: 0 | K39: 0 | L39: 0 | M39: 0 | N39: 0 | O39: 0 | P39: 0 | Q39: 0 | R39: 0
B40: 雜魚延繩釣 | C40: 0 | D40: 0 | E40: 0 | F40: 0 | G40: 0 | H40: 0 | I40: 0 | J40: 0 | K40: 0 | L40: 0 | M40: 0 | N40: 0 | O40: 0 | P40: 0 | Q40: 0 | R40: 0
... B45: 其他 | C45: 0 | D45: 0 | E45: 0 | F45: 0 | G45: 0 | H45: 0 | I45: 0 | J45: 0 | K45: 0 | L45: 0 | M45: 0 | N45: 0 | O45: 0 | P45: 0 | Q45: 0 | R45: 0
A46: 海面養殖 | B46: 合計 | C46: =SUBTOTAL(9, C47:C49) -> 0 | D46: =SUBTOTAL(9, D47:D49) -> 0 | E46: =SUBTOTAL(9, E47:E49) -> 0 | F46: =SUBTOTAL(9, F47:F49) -> 0 | G46: =SUBTOTAL(9, G47:G49) -> 0 | H46: =SUBTOTAL(9, H47:H49) -> 0 | I46: =SUBTOTAL(9, I47:I49) -> 0 | J46: =SUBTOTAL(9, J47:J49) -> 0 | ... R46: =SUBTOTAL(9, R47:R49) -> 0
B47: 淺海養殖 | C47: 0 | D47: 0 | E47: 0 | F47: 0 | G47: 0 | H47: 0 | I47: 0 | J47: 0 | K47: 0 | L47: 0 | M47: 0 | N47: 0 | O47: 0 | P47: 0 | Q47: 0 | R47: 0
B48: 箱網養殖 | C48: 0 | D48: 0 | E48: 0 | F48: 0 | G48: 0 | H48: 0 | I48: 0 | J48: 0 | K48: 0 | L48: 0 | M48: 0 | N48: 0 | O48: 0 | P48: 0 | Q48: 0 | R48: 0
B49: 其他 | C49: 0 | D49: 0 | E49: 0 | F49: 0 | G49: 0 | H49: 0 | I49: 0 | J49: 0 | K49: 0 | L49: 0 | M49: 0 | N49: 0 | O49: 0 | P49: 0 | Q49: 0 | R49: 0
A50: 內陸漁撈 | B50: 合計 | C50: =SUBTOTAL(9, C51:C53) -> 0 | D50: =SUBTOTAL(9, D51:D53) -> 0 | E50: =SUBTOTAL(9, E51:E53) -> 0 | F50: =SUBTOTAL(9, F51:F53) -> 0 | G50: =SUBTOTAL(9, G51:G53) -> 0 | H50: =SUBTOTAL(9, H51:H53) -> 0 | I50: =SUBTOTAL(9, I51:I53) -> 0 | J50: =SUBTOTAL(9, J51:J53) -> 0 | ... R50: =SUBTOTAL(9, R51:R53) -> 0
B51: 河川漁撈 | C51: 0 | D51: 0 | E51: 0 | F51: 0 | G51: 0 | H51: 0 | I51: 0 | J51: 0 | K51: 0 | L51: 0 | M51: 0 | N51: 0 | O51: 0 | P51: 0 | Q51: 0 | R51: 0
B52: 水庫漁撈 | C52: 0 | D52: 0 | E52: 0 | F52: 0 | G52: 0 | H52: 0 | I52: 0 | J52: 0 | K52: 0 | L52: 0 | M52: 0 | N52: 0 | O52: 0 | P52: 0 | Q52: 0 | R52: 0
B53: 其他 | C53: 0 | D53: 0 | E53: 0 | F53: 0 | G53: 0 | H53: 0 | I53: 0 | J53: 0 | K53: 0 | L53: 0 | M53: 0 | N53: 0 | O53: 0 | P53: 0 | Q53: 0 | R53: 0
A54: 內陸養殖 | B54: 合計 | C54: =SUBTOTAL(9, C55:C59) -> 0 | D54: =SUBTOTAL(9, D55:D59) -> 0 | E54: =SUBTOTAL(9, E55:E59) -> 0 | F54: =SUBTOTAL(9, F55:F59) -> 0 | G54: =SUBTOTAL(9, G55:G59) -> 0 | H54: =SUBTOTAL(9, H55:H59) -> 0 | I54: =SUBTOTAL(9, I55:I59) -> 0 | J54: =SUBTOTAL(9, J55:J59) -> 0 | ... R54: =SUBTOTAL(9, R55:R59) -> 0
B55: 鹹水魚塭 | C55: 0 | D55: 0 | E55: 0 | F55: 0 | G55: 0 | H55: 0 | I55: 0 | J55: 0 | K55: 0 | L55: 0 | M55: 0 | N55: 0 | O55: 0 | P55: 0 | Q55: 0 | R55: 0
B56: 淡水魚塭 | C56: 0 | D56: 0 | E56: 0 | F56: 0 | G56: 0 | H56: 0 | I56: 0 | J56: 0 | K56: 0 | L56: 0 | M56: 0 | N56: 0 | O56: 0 | P56: 0 | Q56: 0 | R56: 0
B57: 箱網養殖 | C57: 0 | D57: 0 | E57: 0 | F57: 0 | G57: 0 | H57: 0 | I57: 0 | J57: 0 | K57: 0 | L57: 0 | M57: 0 | N57: 0 | O57: 0 | P57: 0 | Q57: 0 | R57: 0
B58: 觀賞魚養殖 | C58: 0 | D58: 0 | E58: 0 | F58: 0 | G58: 0 | H58: 0 | I58: 0 | J58: 0 | K58: 0 | L58: 0 | M58: 0 | N58: 0 | O58: 0 | P58: 0 | Q58: 0 | R58: 0
B59: 其他 | C59: 0 | D59: 0 | E59: 0 | F59: 0 | G59: 0 | H59: 0 | I59: 0 | J59: 0 | K59: 0 | L59: 0 | M59: 0 | N59: 0 | O59: 0 | P59: 0 | Q59: 0 | R59: 0

Sheet 5
A1: 公 開 類 | O1: 編製機關 | P1: 臺中市海岸資源漁業發展所
A2: 年 報 | B2: 次年2月底前編報 | O2: 表 號 | P2: 20341－02－01－2
A4: 臺中市近海、沿岸漁業、海面養殖、內陸漁撈、內陸養殖漁業生產量(續五完)(修正表)
O5: 單位：次；公噸；千尾(觀賞魚)
A6: 中華民國114年
A8: 魚類別 | C8: 鬚赤蝦 | D8: 其他蝦類 | E8: 龍蝦科 | F8: 鋸緣青蟹 | G8: 遠海梭子蟹 | H8: 鳳螺 | I8: 其他貝類 | J8: 文蛤 | K8: 其他蟳蟹類 | L8: 鯉魚 | M8: 鱉 | N8: 蜆 | O8: 草魚
A9: 漁業種類
A10: 總計 | C10: =SUBTOTAL(9, C11:C59) -> 0.2 | D10: =SUBTOTAL(9, D11:D59) -> 3.6699 | E10: =SUBTOTAL(9, E11:E59) -> 0.0185 | F10: =SUBTOTAL(9, F11:F59) -> 0.0591 | G10: =SUBTOTAL(9, G11:G59) -> 1.8517 | H10: =SUBTOTAL(9, H11:H59) -> 0.3161 | I10: =SUBTOTAL(9, I11:I59) -> 0.0344 | J10: =SUBTOTAL(9, J11:J59) -> 0 | ... O10: =SUBTOTAL(9, O11:O59) -> 1.812
A11: 近海漁業 | B11: 合計 | C11: =SUBTOTAL(9, C12:C27) -> 0.2 | D11: =SUBTOTAL(9, D12:D27) -> 3.6699 | E11: =SUBTOTAL(9, E12:E27) -> 0.0185 | F11: =SUBTOTAL(9, F12:F27) -> 0.0591 | G11: =SUBTOTAL(9, G12:G27) -> 1.8517 | H11: =SUBTOTAL(9, H12:H27) -> 0.3161 | I11: =SUBTOTAL(9, I12:I27) -> 0.0344 | J11: =SUBTOTAL(9, J12:J27) -> 0 | ... O11: =SUBTOTAL(9, O12:O27) -> 0
B12: 巾著網 | C12: 0 | D12: 0 | E12: 0 | F12: 0 | G12: 0 | H12: 0 | I12: 0 | J12: 0 | K12: 0 | L12: 0 | M12: 0 | N12: 0 | O12: 0
B13: 鯖鰺圍網 | C13: 0 | D13: 0 | E13: 0 | F13: 0 | G13: 0 | H13: 0 | I13: 0 | J13: 0 | K13: 0 | L13: 0 | M13: 0 | N13: 0 | O13: 0
B14: 棒受網 | C14: 0 | D14: 0 | E14: 0 | F14: 0 | G14: 0 | H14: 0 | I14: 0 | J14: 0 | K14: 0 | L14: 0 | M14: 0 | N14: 0 | O14: 0
B15: 中小拖網 | C15: 0.2 | D15: 3.6699 | E15: 0.0185 | F15: 0.0591 | G15: 1.8517 | H15: 0.3161 | I15: 0.0344 | J15: 0 | K15: 0 | L15: 0 | M15: 0 | N15: 0 | O15: 0
B16: 刺網 | C16: 0 | D16: 0 | E16: 0 | F16: 0 | G16: 0 | H16: 0 | I16: 0 | J16: 0 | K16: 0 | L16: 0 | M16: 0 | N16: 0 | O16: 0
B17: 扒網 | C17: 0 | D17: 0 | E17: 0 | F17: 0 | G17: 0 | H17: 0 | I17: 0 | J17: 0 | K17: 0 | L17: 0 | M17: 0 | N17: 0 | O17: 0
B18: 其他網 | C18: 0 | D18: 0 | E18: 0 | F18: 0 | G18: 0 | H18: 0 | I18: 0 | J18: 0 | K18: 0 | L18: 0 | M18: 0 | N18: 0 | O18: 0
B19: 鮪延繩釣 | C19: 0 | D19: 0 | E19: 0 | F19: 0 | G19: 0 | H19: 0 | I19: 0 | J19: 0 | K19: 0 | L19: 0 | M19: 0 | N19: 0 | O19: 0
B20: 雜魚延繩釣 | C20: 0 | D20: 0 | E20: 0 | F20: 0 | G20: 0 | H20: 0 | I20: 0 | J20: 0 | K20: 0 | L20: 0 | M20: 0 | N20: 0 | O20: 0
B21: 曳繩釣 | C21: 0 | D21: 0 | E21: 0 | F21: 0 | G21: 0 | H21: 0 | I21: 0 | J21: 0 | K21: 0 | L21: 0 | M21: 0 | N21: 0 | O21: 0
B22: 一支釣 | C22: 0 | D22: 0 | E22: 0 | F22: 0 | G22: 0 | H22: 0 | I22: 0 | J22: 0 | K22: 0 | L22: 0 | M22: 0 | N22: 0 | O22: 0
B23: 其他釣 | C23: 0 | D23: 0 | E23: 0 | F23: 0 | G23: 0 | H23: 0 | I23: 0 | J23: 0 | K23: 0 | L23: 0 | M23: 0 | N23: 0 | O23: 0
... B27: 其他 | C27: 0 | D27: 0 | E27: 0 | F27: 0 | G27: 0 | H27: 0 | I27: 0 | J27: 0 | K27: 0 | L27: 0 | M27: 0 | N27: 0 | O27: 0
A28: 沿岸漁業 | B28: 合計 | C28: =SUBTOTAL(9, C29:C45) -> 0 | D28: =SUBTOTAL(9, D29:D45) -> 0 | E28: =SUBTOTAL(9, E29:E45) -> 0 | F28: =SUBTOTAL(9, F29:F45) -> 0 | G28: =SUBTOTAL(9, G29:G45) -> 0 | H28: =SUBTOTAL(9, H29:H45) -> 0 | I28: =SUBTOTAL(9, I29:I45) -> 0 | J28: =SUBTOTAL(9, J29:J45) -> 0 | ... O28: =SUBTOTAL(9, O29:O45) -> 0
B29: 定置漁具 | C29: 0 | D29: 0 | E29: 0 | F29: 0 | G29: 0 | H29: 0 | I29: 0 | J29: 0 | K29: 0 | L29: 0 | M29: 0 | N29: 0 | O29: 0
B30: 地曳網 | C30: 0 | D30: 0 | E30: 0 | F30: 0 | G30: 0 | H30: 0 | I30: 0 | J30: 0 | K30: 0 | L30: 0 | M30: 0 | N30: 0 | O30: 0
B31: 焚寄網 | C31: 0 | D31: 0 | E31: 0 | F31: 0 | G31: 0 | H31: 0 | I31: 0 | J31: 0 | K31: 0 | L31: 0 | M31: 0 | N31: 0 | O31: 0
B32: 刺網 | C32: 0 | D32: 0 | E32: 0 | F32: 0 | G32: 0 | H32: 0 | I32: 0 | J32: 0 | K32: 0 | L32: 0 | M32: 0 | N32: 0 | O32: 0
B33: 追逐網 | C33: 0 | D33: 0 | E33: 0 | F33: 0 | G33: 0 | H33: 0 | I33: 0 | J33: 0 | K33: 0 | L33: 0 | M33: 0 | N33: 0 | O33: 0
B34: 流袋網 | C34: 0 | D34: 0 | E34: 0 | F34: 0 | G34: 0 | H34: 0 | I34: 0 | J34: 0 | K34: 0 | L34: 0 | M34: 0 | N34: 0 | O34: 0
B35: 魩鱙漁業 | C35: 0 | D35: 0 | E35: 0 | F35: 0 | G35: 0 | H35: 0 | I35: 0 | J35: 0 | K35: 0 | L35: 0 | M35: 0 | N35: 0 | O35: 0
B36: 櫻花蝦漁業 | C36: 0 | D36: 0 | E36: 0 | F36: 0 | G36: 0 | H36: 0 | I36: 0 | J36: 0 | K36: 0 | L36: 0 | M36: 0 | N36: 0 | O36: 0
B37: 赤尾青蝦漁業 | C37: 0 | D37: 0 | E37: 0 | F37: 0 | G37: 0 | H37: 0 | I37: 0 | J37: 0 | K37: 0 | L37: 0 | M37: 0 | N37: 0 | O37: 0
B38: 其他網 | C38: 0 | D38: 0 | E38: 0 | F38: 0 | G38: 0 | H38: 0 | I38: 0 | J38: 0 | K38: 0 | L38: 0 | M38: 0 | N38: 0 | O38: 0
B39: 一支釣 | C39: 0 | D39: 0 | E39: 0 | F39: 0 | G39: 0 | H39: 0 | I39: 0 | J39: 0 | K39: 0 | L39: 0 | M39: 0 | N39: 0 | O39: 0
B40: 雜魚延繩釣 | C40: 0 | D40: 0 | E40: 0 | F40: 0 | G40: 0 | H40: 0 | I40: 0 | J40: 0 | K40: 0 | L40: 0 | M40: 0 | N40: 0 | O40: 0
... B45: 其他 | C45: 0 | D45: 0 | E45: 0 | F45: 0 | G45: 0 | H45: 0 | I45: 0 | J45: 0 | K45: 0 | L45: 0 | M45: 0 | N45: 0 | O45: 0
A46: 海面養殖 | B46: 合計 | C46: =SUBTOTAL(9, C47:C49) -> 0 | D46: =SUBTOTAL(9, D47:D49) -> 0 | E46: =SUBTOTAL(9, E47:E49) -> 0 | F46: =SUBTOTAL(9, F47:F49) -> 0 | G46: =SUBTOTAL(9, G47:G49) -> 0 | H46: =SUBTOTAL(9, H47:H49) -> 0 | I46: =SUBTOTAL(9, I47:I49) -> 0 | J46: =SUBTOTAL(9, J47:J49) -> 0 | ... O46: =SUBTOTAL(9, O47:O49) -> 0
B47: 淺海養殖 | C47: 0 | D47: 0 | E47: 0 | F47: 0 | G47: 0 | H47: 0 | I47: 0 | J47: 0 | K47: 0 | L47: 0 | M47: 0 | N47: 0 | O47: 0
B48: 箱網養殖 | C48: 0 | D48: 0 | E48: 0 | F48: 0 | G48: 0 | H48: 0 | I48: 0 | J48: 0 | K48: 0 | L48: 0 | M48: 0 | N48: 0 | O48: 0
B49: 其他 | C49: 0 | D49: 0 | E49: 0 | F49: 0 | G49: 0 | H49: 0 | I49: 0 | J49: 0 | K49: 0 | L49: 0 | M49: 0 | N49: 0 | O49: 0
A50: 內陸漁撈 | B50: 合計 | C50: =SUBTOTAL(9, C51:C53) -> 0 | D50: =SUBTOTAL(9, D51:D53) -> 0 | E50: =SUBTOTAL(9, E51:E53) -> 0 | F50: =SUBTOTAL(9, F51:F53) -> 0 | G50: =SUBTOTAL(9, G51:G53) -> 0 | H50: =SUBTOTAL(9, H51:H53) -> 0 | I50: =SUBTOTAL(9, I51:I53) -> 0 | J50: =SUBTOTAL(9, J51:J53) -> 0 | ... O50: =SUBTOTAL(9, O51:O53) -> 0
B51: 河川漁撈 | C51: 0 | D51: 0 | E51: 0 | F51: 0 | G51: 0 | H51: 0 | I51: 0 | J51: 0 | K51: 0 | L51: 0 | M51: 0 | N51: 0 | O51: 0
B52: 水庫漁撈 | C52: 0 | D52: 0 | E52: 0 | F52: 0 | G52: 0 | H52: 0 | I52: 0 | J52: 0 | K52: 0 | L52: 0 | M52: 0 | N52: 0 | O52: 0
B53: 其他 | C53: 0 | D53: 0 | E53: 0 | F53: 0 | G53: 0 | H53: 0 | I53: 0 | J53: 0 | K53: 0 | L53: 0 | M53: 0 | N53: 0 | O53: 0
A54: 內陸養殖 | B54: 合計 | C54: =SUBTOTAL(9, C55:C59) -> 0 | D54: =SUBTOTAL(9, D55:D59) -> 0 | E54: =SUBTOTAL(9, E55:E59) -> 0 | F54: =SUBTOTAL(9, F55:F59) -> 0 | G54: =SUBTOTAL(9, G55:G59) -> 0 | H54: =SUBTOTAL(9, H55:H59) -> 0 | I54: =SUBTOTAL(9, I55:I59) -> 0 | J54: =SUBTOTAL(9, J55:J59) -> 0 | ... O54: =SUBTOTAL(9, O55:O59) -> 1.812
B55: 鹹水魚塭 | C55: 0 | D55: 0 | E55: 0 | F55: 0 | G55: 0 | H55: 0 | I55: 0 | J55: 0 | K55: 0 | L55: 0 | M55: 0 | N55: 0 | O55: 0
B56: 淡水魚塭 | C56: 0 | D56: 0 | E56: 0 | F56: 0 | G56: 0 | H56: 0 | I56: 0 | J56: 0 | K56: 0.25 | L56: 3.66 | M56: 0 | N56: 0 | O56: 1.812
B57: 箱網養殖 | C57: 0 | D57: 0 | E57: 0 | F57: 0 | G57: 0 | H57: 0 | I57: 0 | J57: 0 | K57: 0 | L57: 0 | M57: 0 | N57: 0 | O57: 0
B58: 觀賞魚養殖 | C58: 0 | D58: 0 | E58: 0 | F58: 0 | G58: 0 | H58: 0 | I58: 0 | J58: 0 | K58: 0 | L58: 0 | M58: 0 | N58: 0 | O58: 0
B59: 其他 | C59: 0 | D59: 0 | E59: 0 | F59: 0 | G59: 0 | H59: 0 | I59: 0 | J59: 0 | K59: 0 | L59: 0 | M59: 0 | N59: 0 | O59: 0
R60: 中華民國115年5月11日編製
A61: 填表 | D61: 審核 | H61: 業務主管人員 | M61: 機關首長
A62: 資料來源：由本所漁業行政課依據各區公所及臺中區漁會提報資料彙編。
A63: 填表說明：1.漁業種類及魚類別項目得由農業部漁業署依實際情形酌予增減之。
A64: 2.本表編製1份，並依統計法規定永久保存，資料透過網際網路上傳至「臺中市公務統計行政管理系統」及農業部漁業署「漁業統計資料查詢系統」。
A65: 3.因四捨五入致合計與細項不符。
A66: 修正原因：本表漏列「沿岸漁業」之漁業生產量，爰予以修正。
