Workbook

Sheet 報表
A1: 公 開 類 | R1: 編製機關 | S1: 臺中市生命禮儀管理處
A2: 年 報 | B2: 每年終了後4個月內編報 | R2: 表 號 | S2: 30294-04-02-2
A5: 臺中市骨灰(骸)存放設施概況
A6: 中華民國114年
A7: 鄉鎮市(區)別 | B7: 公私立別 | C7: 年底處數 | F7: 年底最大容量 | I7: 年底已使用量(含本年納入數量) | L7: 年底尚未使用量 | O7: 本年納入數量 | R7: 本年遷出數量
C8: 合計 | D8: 開放中 | E8: 已停用 | F8: 合計 (位) | G8: 骨骸 (位) | H8: 骨灰 (位) | I8: 合計 (位) | J8: 骨骸 (位) | K8: 骨灰 (位) | L8: 合計 (位) | M8: 骨骸 (位) | N8: 骨灰 (位) | O8: 合計 (位) | P8: 骨骸 (位) | Q8: 骨灰 (位) | R8: 合計 (位) | S8: 骨骸 (位) | T8: 骨灰 (位)
A9: 總 計 | B9: 合計 | C9: =D9+E9-E10-E11-D11-D10+C10+C11 -> 45 | D9: =D12+D15+D18+D21+D24+D27+D30+D33+D36+續1!D9+續1!D12+續1!D15+續1!D18+續1!D21+續1!D24+續1!D27+續1!D30+續1!D33+續1!D36+續2!D9+續2!D12+續2!D15+續2!D18+續2!D21+續2!D24+續2!D27+續2!D30+續2!D33+續2!D36 -> 43 | E9: =E12+E15+E18+E21+E24+E27+E30+E33+E36+續1!E9+續1!E12+續1!E15+續1!E18+續1!E21+續1!E24+續1!E27+續1!E30+續1!E33+續1!E36+續2!E9+續2!E12+續2!E15+續2!E18+續2!E21+續2!E24+續2!E27+續2!E30+續2!E33+續2!E36 -> 2 | F9: =I9+L9 -> 1309732 | G9: =J9+M9 -> 151380 | H9: =K9+N9 -> 1158352 | I9: =J9+K9-K10-K11-J11-J10+I10+I11 -> 464339 | J9: =J12+J15+J18+J21+J24+J27+J30+J33+J36+續1!J9+續1!J12+續1!J15+續1!J18+續1!J21+續1!J24+續1!J27+續1!J30+續1!J33+續1!J36+續2!J9+續2!J12+續2!J15+續2!J18+續2!J21+續2!J24+續2!J27+續2!J30+續2!J33+續2!J36 -> 93278 | K9: =K12+K15+K18+K21+K24+K27+K30+K33+K36+續1!K9+續1!K12+續1!K15+續1!K18+續1!K21+續1!K24+續1!K27+續1!K30+續1!K33+續1!K36+續2!K9+續2!K12+續2!K15+續2!K18+續2!K21+續2!K24+續2!K27+續2!K30+續2!K33+續2!K36 -> 371061 | L9: =M9+N9-N10-N11-M11-M10+L10+L11 -> 845393 | M9: =M12+M15+M18+M21+M24+M27+M30+M33+M36+續1!M9+續1!M12+續1!M15+續1!M18+續1!M21+續1!M24+續1!M27+續1!M30+續1!M33+續1!M36+續2!M9+續2!M12+續2!M15+續2!M18+續2!M21+續2!M24+續2!M27+續2!M30+續2!M33+續2!M36 -> 58102 | N9: =N12+N15+N18+N21+N24+N27+N30+N33+N36+續1!N9+續1!N12+續1!N15+續1!N18+續1!N21+續1!N24+續1!N27+續1!N30+續1!N33+續1!N36+續2!N9+續2!N12+續2!N15+續2!N18+續2!N21+續2!N24+續2!N27+續2!N30+續2!N33+續2!N36 -> 787291 | O9: =P9+Q9-Q10-Q11-P11-P10+O10+O11 -> 16363 | P9: =P12+P15+P18+P21+P24+P27+P30+P33+P36+續1!P9+續1!P12+續1!P15+續1!P18+續1!P21+續1!P24+續1!P27+續1!P30+續1!P33+續1!P36+續2!P9+續2!P12+續2!P15+續2!P18+續2!P21+續2!P24+續2!P27+續2!P30+續2!P33+續2!P36 -> 790 | Q9: =Q12+Q15+Q18+Q21+Q24+Q27+Q30+Q33+Q36+續1!Q9+續1!Q12+續1!Q15+續1!Q18+續1!Q21+續1!Q24+續1!Q27+續1!Q30+續1!Q33+續1!Q36+續2!Q9+續2!Q12+續2!Q15+續2!Q18+續2!Q21+續2!Q24+續2!Q27+續2!Q30+續2!Q33+續2!Q36 -> 15573 | R9: =S9+T9-T10-T11-S11-S10+R10+R11 -> 1864 | S9: =S12+S15+S18+S21+S24+S27+S30+S33+S36+續1!S9+續1!S12+續1!S15+續1!S18+續1!S21+續1!S24+續1!S27+續1!S30+續1!S33+續1!S36+續2!S9+續2!S12+續2!S15+續2!S18+續2!S21+續2!S24+續2!S27+續2!S30+續2!S33+續2!S36 -> 177 | T9: =T12+T15+T18+T21+T24+T27+T30+T33+T36+續1!T9+續1!T12+續1!T15+續1!T18+續1!T21+續1!T24+續1!T27+續1!T30+續1!T33+續1!T36+續2!T9+續2!T12+續2!T15+續2!T18+續2!T21+續2!T24+續2!T27+續2!T30+續2!T33+續2!T36 -> 1687
B10: 公立 | C10: =D10+E10 -> 36 | D10: =D13+D16+D19+D22+D25+D28+D31+D34+D37+續1!D10+續1!D13+續1!D16+續1!D19+續1!D22+續1!D25+續1!D28+續1!D31+續1!D34+續1!D37+續2!D10+續2!D13+續2!D16+續2!D19+續2!D22+續2!D25+續2!D28+續2!D31+續2!D34+續2!D37 -> 35 | E10: =E13+E16+E19+E22+E25+E28+E31+E34+E37+續1!E10+續1!E13+續1!E16+續1!E19+續1!E22+續1!E25+續1!E28+續1!E31+續1!E34+續1!E37+續2!E10+續2!E13+續2!E16+續2!E19+續2!E22+續2!E25+續2!E28+續2!E31+續2!E34+續2!E37 -> 1 | F10: =I10+L10 -> 401599 | G10: =J10+M10 -> 98800 | H10: =K10+N10 -> 302799 | I10: =J10+K10 -> 347103 | J10: =J13+J16+J19+J22+J25+J28+J31+J34+J37+續1!J10+續1!J13+續1!J16+續1!J19+續1!J22+續1!J25+續1!J28+續1!J31+續1!J34+續1!J37+續2!J10+續2!J13+續2!J16+續2!J19+續2!J22+續2!J25+續2!J28+續2!J31+續2!J34+續2!J37 -> 86524 | K10: =K13+K16+K19+K22+K25+K28+K31+K34+K37+續1!K10+續1!K13+續1!K16+續1!K19+續1!K22+續1!K25+續1!K28+續1!K31+續1!K34+續1!K37+續2!K10+續2!K13+續2!K16+續2!K19+續2!K22+續2!K25+續2!K28+續2!K31+續2!K34+續2!K37 -> 260579 | L10: =M10+N10 -> 54496 | M10: =M13+M16+M19+M22+M25+M28+M31+M34+M37+續1!M10+續1!M13+續1!M16+續1!M19+續1!M22+續1!M25+續1!M28+續1!M31+續1!M34+續1!M37+續2!M10+續2!M13+續2!M16+續2!M19+續2!M22+續2!M25+續2!M28+續2!M31+續2!M34+續2!M37 -> 12276 | N10: =N13+N16+N19+N22+N25+N28+N31+N34+N37+續1!N10+續1!N13+續1!N16+續1!N19+續1!N22+續1!N25+續1!N28+續1!N31+續1!N34+續1!N37+續2!N10+續2!N13+續2!N16+續2!N19+續2!N22+續2!N25+續2!N28+續2!N31+續2!N34+續2!N37 -> 42220 | O10: =P10+Q10 -> 12599 | P10: =P13+P16+P19+P22+P25+P28+P31+P34+P37+續1!P10+續1!P13+續1!P16+續1!P19+續1!P22+續1!P25+續1!P28+續1!P31+續1!P34+續1!P37+續2!P10+續2!P13+續2!P16+續2!P19+續2!P22+續2!P25+續2!P28+續2!P31+續2!P34+續2!P37 -> 723 | Q10: =Q13+Q16+Q19+Q22+Q25+Q28+Q31+Q34+Q37+續1!Q10+續1!Q13+續1!Q16+續1!Q19+續1!Q22+續1!Q25+續1!Q28+續1!Q31+續1!Q34+續1!Q37+續2!Q10+續2!Q13+續2!Q16+續2!Q19+續2!Q22+續2!Q25+續2!Q28+續2!Q31+續2!Q34+續2!Q37 -> 11876 | R10: =S10+T10 -> 1802 | S10: =S13+S16+S19+S22+S25+S28+S31+S34+S37+續1!S10+續1!S13+續1!S16+續1!S19+續1!S22+續1!S25+續1!S28+續1!S31+續1!S34+續1!S37+續2!S10+續2!S13+續2!S16+續2!S19+續2!S22+續2!S25+續2!S28+續2!S31+續2!S34+續2!S37 -> 173 | T10: =T13+T16+T19+T22+T25+T28+T31+T34+T37+續1!T10+續1!T13+續1!T16+續1!T19+續1!T22+續1!T25+續1!T28+續1!T31+續1!T34+續1!T37+續2!T10+續2!T13+續2!T16+續2!T19+續2!T22+續2!T25+續2!T28+續2!T31+續2!T34+續2!T37 -> 1629
B11: 私立 | C11: =D11+E11 -> 9 | D11: =D14+D17+D20+D23+D26+D29+D32+D35+D38+續1!D11+續1!D14+續1!D17+續1!D20+續1!D23+續1!D26+續1!D29+續1!D32+續1!D35+續1!D38+續2!D11+續2!D14+續2!D17+續2!D20+續2!D23+續2!D26+續2!D29+續2!D32+續2!D35+續2!D38 -> 8 | E11: =E14+E17+E20+E23+E26+E29+E32+E35+E38+續1!E11+續1!E14+續1!E17+續1!E20+續1!E23+續1!E26+續1!E29+續1!E32+續1!E35+續1!E38+續2!E11+續2!E14+續2!E17+續2!E20+續2!E23+續2!E26+續2!E29+續2!E32+續2!E35+續2!E38 -> 1 | F11: =I11+L11 -> 908133 | G11: =J11+M11 -> 52580 | H11: =K11+N11 -> 855553 | I11: =J11+K11 -> 117236 | J11: =J14+J17+J20+J23+J26+J29+J32+J35+J38+續1!J11+續1!J14+續1!J17+續1!J20+續1!J23+續1!J26+續1!J29+續1!J32+續1!J35+續1!J38+續2!J11+續2!J14+續2!J17+續2!J20+續2!J23+續2!J26+續2!J29+續2!J32+續2!J35+續2!J38 -> 6754 | K11: =K14+K17+K20+K23+K26+K29+K32+K35+K38+續1!K11+續1!K14+續1!K17+續1!K20+續1!K23+續1!K26+續1!K29+續1!K32+續1!K35+續1!K38+續2!K11+續2!K14+續2!K17+續2!K20+續2!K23+續2!K26+續2!K29+續2!K32+續2!K35+續2!K38 -> 110482 | L11: =M11+N11 -> 790897 | M11: =M14+M17+M20+M23+M26+M29+M32+M35+M38+續1!M11+續1!M14+續1!M17+續1!M20+續1!M23+續1!M26+續1!M29+續1!M32+續1!M35+續1!M38+續2!M11+續2!M14+續2!M17+續2!M20+續2!M23+續2!M26+續2!M29+續2!M32+續2!M35+續2!M38 -> 45826 | N11: =N14+N17+N20+N23+N26+N29+N32+N35+N38+續1!N11+續1!N14+續1!N17+續1!N20+續1!N23+續1!N26+續1!N29+續1!N32+續1!N35+續1!N38+續2!N11+續2!N14+續2!N17+續2!N20+續2!N23+續2!N26+續2!N29+續2!N32+續2!N35+續2!N38 -> 745071 | O11: =P11+Q11 -> 3764 | P11: =P14+P17+P20+P23+P26+P29+P32+P35+P38+續1!P11+續1!P14+續1!P17+續1!P20+續1!P23+續1!P26+續1!P29+續1!P32+續1!P35+續1!P38+續2!P11+續2!P14+續2!P17+續2!P20+續2!P23+續2!P26+續2!P29+續2!P32+續2!P35+續2!P38 -> 67 | Q11: =Q14+Q17+Q20+Q23+Q26+Q29+Q32+Q35+Q38+續1!Q11+續1!Q14+續1!Q17+續1!Q20+續1!Q23+續1!Q26+續1!Q29+續1!Q32+續1!Q35+續1!Q38+續2!Q11+續2!Q14+續2!Q17+續2!Q20+續2!Q23+續2!Q26+續2!Q29+續2!Q32+續2!Q35+續2!Q38 -> 3697 | R11: =S11+T11 -> 62 | S11: =S14+S17+S20+S23+S26+S29+S32+S35+S38+續1!S11+續1!S14+續1!S17+續1!S20+續1!S23+續1!S26+續1!S29+續1!S32+續1!S35+續1!S38+續2!S11+續2!S14+續2!S17+續2!S20+續2!S23+續2!S26+續2!S29+續2!S32+續2!S35+續2!S38 -> 4 | T11: =T14+T17+T20+T23+T26+T29+T32+T35+T38+續1!T11+續1!T14+續1!T17+續1!T20+續1!T23+續1!T26+續1!T29+續1!T32+續1!T35+續1!T38+續2!T11+續2!T14+續2!T17+續2!T20+續2!T23+續2!T26+續2!T29+續2!T32+續2!T35+續2!T38 -> 58
A12: 中 區 | B12: 合計 | C12: =D12+E12 -> 0 | D12: =D13+D14 -> 0 | E12: =E13+E14 -> 0 | F12: =I12+L12 -> 0 | G12: =J12+M12 -> 0 | H12: =K12+N12 -> 0 | I12: =J12+K12 -> 0 | J12: =J13+J14 -> 0 | K12: =K13+K14 -> 0 | L12: =M12+N12 -> 0 | M12: =M13+M14 -> 0 | N12: =N13+N14 -> 0 | O12: =P12+Q12 -> 0 | P12: =P13+P14 -> 0 | Q12: =Q13+Q14 -> 0 | R12: =S12+T12 -> 0 | S12: =S13+S14 -> 0 | T12: =T13+T14 -> 0
B13: 公立 | C13: =D13+E13 -> 0 | D13: 0 | E13: 0 | F13: =I13+L13 -> 0 | G13: =J13+M13 -> 0 | H13: =K13+N13 -> 0 | I13: =J13+K13 -> 0 | J13: 0 | K13: 0 | L13: =M13+N13 -> 0 | M13: 0 | N13: 0 | O13: =P13+Q13 -> 0 | P13: 0 | Q13: 0 | R13: =S13+T13 -> 0 | S13: 0 | T13: 0
B14: 私立 | C14: =D14+E14 -> 0 | D14: 0 | E14: 0 | F14: =I14+L14 -> 0 | G14: =J14+M14 -> 0 | H14: =K14+N14 -> 0 | I14: =J14+K14 -> 0 | J14: 0 | K14: 0 | L14: =M14+N14 -> 0 | M14: 0 | N14: 0 | O14: =P14+Q14 -> 0 | P14: 0 | Q14: 0 | R14: =S14+T14 -> 0 | S14: 0 | T14: 0
A15: 東 區 | B15: 合計 | C15: =D15+E15 -> 0 | D15: =D16+D17 -> 0 | E15: =E16+E17 -> 0 | F15: =I15+L15 -> 0 | G15: =J15+M15 -> 0 | H15: =K15+N15 -> 0 | I15: =J15+K15 -> 0 | J15: =J16+J17 -> 0 | K15: =K16+K17 -> 0 | L15: =M15+N15 -> 0 | M15: =M16+M17 -> 0 | N15: =N16+N17 -> 0 | O15: =P15+Q15 -> 0 | P15: =P16+P17 -> 0 | Q15: =Q16+Q17 -> 0 | R15: =S15+T15 -> 0 | S15: =S16+S17 -> 0 | T15: =T16+T17 -> 0
B16: 公立 | C16: =D16+E16 -> 0 | D16: 0 | E16: 0 | F16: =I16+L16 -> 0 | G16: =J16+M16 -> 0 | H16: =K16+N16 -> 0 | I16: =J16+K16 -> 0 | J16: 0 | K16: 0 | L16: =M16+N16 -> 0 | M16: 0 | N16: 0 | O16: =P16+Q16 -> 0 | P16: 0 | Q16: 0 | R16: =S16+T16 -> 0 | S16: 0 | T16: 0
B17: 私立 | C17: =D17+E17 -> 0 | D17: 0 | E17: 0 | F17: =I17+L17 -> 0 | G17: =J17+M17 -> 0 | H17: =K17+N17 -> 0 | I17: =J17+K17 -> 0 | J17: 0 | K17: 0 | L17: =M17+N17 -> 0 | M17: 0 | N17: 0 | O17: =P17+Q17 -> 0 | P17: 0 | Q17: 0 | R17: =S17+T17 -> 0 | S17: 0 | T17: 0
A18: 南 區 | B18: 合計 | C18: =D18+E18 -> 0 | D18: =D19+D20 -> 0 | E18: =E19+E20 -> 0 | F18: =I18+L18 -> 0 | G18: =J18+M18 -> 0 | H18: =K18+N18 -> 0 | I18: =J18+K18 -> 0 | J18: =J19+J20 -> 0 | K18: =K19+K20 -> 0 | L18: =M18+N18 -> 0 | M18: =M19+M20 -> 0 | N18: =N19+N20 -> 0 | O18: =P18+Q18 -> 0 | P18: =P19+P20 -> 0 | Q18: =Q19+Q20 -> 0 | R18: =S18+T18 -> 0 | S18: =S19+S20 -> 0 | T18: =T19+T20 -> 0
B19: 公立 | C19: =D19+E19 -> 0 | D19: 0 | E19: 0 | F19: =I19+L19 -> 0 | G19: =J19+M19 -> 0 | H19: =K19+N19 -> 0 | I19: =J19+K19 -> 0 | J19: 0 | K19: 0 | L19: =M19+N19 -> 0 | M19: 0 | N19: 0 | O19: =P19+Q19 -> 0 | P19: 0 | Q19: 0 | R19: =S19+T19 -> 0 | S19: 0 | T19: 0
B20: 私立 | C20: =D20+E20 -> 0 | D20: 0 | E20: 0 | F20: =I20+L20 -> 0 | G20: =J20+M20 -> 0 | H20: =K20+N20 -> 0 | I20: =J20+K20 -> 0 | J20: 0 | K20: 0 | L20: =M20+N20 -> 0 | M20: 0 | N20: 0 | O20: =P20+Q20 -> 0 | P20: 0 | Q20: 0 | R20: =S20+T20 -> 0 | S20: 0 | T20: 0
A21: 西 區 | B21: 合計 | C21: =D21+E21 -> 0 | D21: =D22+D23 -> 0 | E21: =E22+E23 -> 0 | F21: =I21+L21 -> 0 | G21: =J21+M21 -> 0 | H21: =K21+N21 -> 0 | I21: =J21+K21 -> 0 | J21: =J22+J23 -> 0 | K21: =K22+K23 -> 0 | L21: =M21+N21 -> 0 | M21: =M22+M23 -> 0 | N21: =N22+N23 -> 0 | O21: =P21+Q21 -> 0 | P21: =P22+P23 -> 0 | Q21: =Q22+Q23 -> 0 | R21: =S21+T21 -> 0 | S21: =S22+S23 -> 0 | T21: =T22+T23 -> 0
B22: 公立 | C22: =D22+E22 -> 0 | D22: 0 | E22: 0 | F22: =I22+L22 -> 0 | G22: =J22+M22 -> 0 | H22: =K22+N22 -> 0 | I22: =J22+K22 -> 0 | J22: 0 | K22: 0 | L22: =M22+N22 -> 0 | M22: 0 | N22: 0 | O22: =P22+Q22 -> 0 | P22: 0 | Q22: 0 | R22: =S22+T22 -> 0 | S22: 0 | T22: 0
B23: 私立 | C23: =D23+E23 -> 0 | D23: 0 | E23: 0 | F23: =I23+L23 -> 0 | G23: =J23+M23 -> 0 | H23: =K23+N23 -> 0 | I23: =J23+K23 -> 0 | J23: 0 | K23: 0 | L23: =M23+N23 -> 0 | M23: 0 | N23: 0 | O23: =P23+Q23 -> 0 | P23: 0 | Q23: 0 | R23: =S23+T23 -> 0 | S23: 0 | T23: 0
A24: 北 區 | B24: 合計 | C24: =D24+E24 -> 0 | D24: =D25+D26 -> 0 | E24: =E25+E26 -> 0 | F24: =I24+L24 -> 0 | G24: =J24+M24 -> 0 | H24: =K24+N24 -> 0 | I24: =J24+K24 -> 0 | J24: =J25+J26 -> 0 | K24: =K25+K26 -> 0 | L24: =M24+N24 -> 0 | M24: =M25+M26 -> 0 | N24: =N25+N26 -> 0 | O24: =P24+Q24 -> 0 | P24: =P25+P26 -> 0 | Q24: =Q25+Q26 -> 0 | R24: =S24+T24 -> 0 | S24: =S25+S26 -> 0 | T24: =T25+T26 -> 0
B25: 公立 | C25: =D25+E25 -> 0 | D25: 0 | E25: 0 | F25: =I25+L25 -> 0 | G25: =J25+M25 -> 0 | H25: =K25+N25 -> 0 | I25: =J25+K25 -> 0 | J25: 0 | K25: 0 | L25: =M25+N25 -> 0 | M25: 0 | N25: 0 | O25: =P25+Q25 -> 0 | P25: 0 | Q25: 0 | R25: =S25+T25 -> 0 | S25: 0 | T25: 0
B26: 私立 | C26: =D26+E26 -> 0 | D26: 0 | E26: 0 | F26: =I26+L26 -> 0 | G26: =J26+M26 -> 0 | H26: =K26+N26 -> 0 | I26: =J26+K26 -> 0 | J26: 0 | K26: 0 | L26: =M26+N26 -> 0 | M26: 0 | N26: 0 | O26: =P26+Q26 -> 0 | P26: 0 | Q26: 0 | R26: =S26+T26 -> 0 | S26: 0 | T26: 0
A27: 西屯區 | B27: 合計 | C27: =D27+E27 -> 7 | D27: =D28+D29 -> 7 | E27: =E28+E29 -> 0 | F27: =I27+L27 -> 202448 | G27: =J27+M27 -> 26364 | H27: =K27+N27 -> 176084 | I27: =J27+K27 -> 114744 | J27: =J28+J29 -> 13662 | K27: =K28+K29 -> 101082 | L27: =M27+N27 -> 87704 | M27: =M28+M29 -> 12702 | N27: =N28+N29 -> 75002 | O27: =P27+Q27 -> 1912 | P27: =P28+P29 -> 22 | Q27: =Q28+Q29 -> 1890 | R27: =S27+T27 -> 169 | S27: =S28+S29 -> 35 | T27: =T28+T29 -> 134
B28: 公立 | C28: =D28+E28 -> 6 | D28: 6 | E28: 0 | F28: =I28+L28 -> 102448 | G28: =J28+M28 -> 16364 | H28: =K28+N28 -> 86084 | I28: =J28+K28 -> 78358 | J28: 11956 | K28: 66402 | L28: =M28+N28 -> 24090 | M28: 4408 | N28: 19682 | O28: =P28+Q28 -> 851 | P28: 20 | Q28: 831 | R28: =S28+T28 -> 161 | S28: 34 | T28: 127
B29: 私立 | C29: 1 | D29: 1 | E29: 0 | F29: 100000 | G29: 10000 | H29: 90000 | I29: =J29+K29 -> 36386 | J29: 1706 | K29: 34680 | L29: =M29+N29 -> 63614 | M29: 8294 | N29: 55320 | O29: =P29+Q29 -> 1061 | P29: 2 | Q29: 1059 | R29: =S29+T29 -> 8 | S29: 1 | T29: 7
A30: 南屯區 | B30: 合計 | C30: =D30+E30 -> 2 | D30: =D31+D32 -> 2 | E30: =E31+E32 -> 0 | F30: =I30+L30 -> 9984 | G30: =J30+M30 -> 281 | H30: =K30+N30 -> 9703 | I30: =J30+K30 -> 4301 | J30: =J31+J32 -> 138 | K30: =K31+K32 -> 4163 | L30: =M30+N30 -> 5683 | M30: =M31+M32 -> 143 | N30: =N31+N32 -> 5540 | O30: =P30+Q30 -> 241 | P30: =P31+P32 -> 5 | Q30: =Q31+Q32 -> 236 | R30: =S30+T30 -> 12 | S30: =S31+S32 -> 3 | T30: =T31+T32 -> 9
B31: 公立 | C31: 2 | D31: 2 | E31: 0 | F31: 9984 | G31: 281 | H31: 9703 | I31: =J31+K31 -> 4301 | J31: 138 | K31: 4163 | L31: =M31+N31 -> 5683 | M31: 143 | N31: 5540 | O31: =P31+Q31 -> 241 | P31: 5 | Q31: 236 | R31: =S31+T31 -> 12 | S31: 3 | T31: 9
B32: 私立 | C32: =D32+E32 -> 0 | D32: 0 | E32: 0 | F32: =I32+L32 -> 0 | G32: =J32+M32 -> 0 | H32: =K32+N32 -> 0 | I32: =J32+K32 -> 0 | J32: 0 | K32: 0 | L32: =M32+N32 -> 0 | M32: 0 | N32: 0 | O32: =P32+Q32 -> 0 | P32: 0 | Q32: 0 | R32: =S32+T32 -> 0 | S32: 0 | T32: 0
A33: 北屯區 | B33: 合計 | C33: =D33+E33 -> 0 | D33: =D34+D35 -> 0 | E33: =E34+E35 -> 0 | F33: =I33+L33 -> 0 | G33: =J33+M33 -> 0 | H33: =K33+N33 -> 0 | I33: =J33+K33 -> 0 | J33: =J34+J35 -> 0 | K33: =K34+K35 -> 0 | L33: =M33+N33 -> 0 | M33: =M34+M35 -> 0 | N33: =N34+N35 -> 0 | O33: =P33+Q33 -> 0 | P33: =P34+P35 -> 0 | Q33: =Q34+Q35 -> 0 | R33: =S33+T33 -> 0 | S33: =S34+S35 -> 0 | T33: =T34+T35 -> 0
B34: 公立 | C34: =D34+E34 -> 0 | D34: 0 | E34: 0 | F34: =I34+L34 -> 0 | G34: =J34+M34 -> 0 | H34: =K34+N34 -> 0 | I34: =J34+K34 -> 0 | J34: 0 | K34: 0 | L34: =M34+N34 -> 0 | M34: 0 | N34: 0 | O34: =P34+Q34 -> 0 | P34: 0 | Q34: 0 | R34: =S34+T34 -> 0 | S34: 0 | T34: 0
B35: 私立 | C35: =D35+E35 -> 0 | D35: 0 | E35: 0 | F35: =I35+L35 -> 0 | G35: =J35+M35 -> 0 | H35: =K35+N35 -> 0 | I35: =J35+K35 -> 0 | J35: 0 | K35: 0 | L35: =M35+N35 -> 0 | M35: 0 | N35: 0 | O35: =P35+Q35 -> 0 | P35: 0 | Q35: 0 | R35: =S35+T35 -> 0 | S35: 0 | T35: 0
A36: 豐原區 | B36: 合計 | C36: =D36+E36 -> 1 | D36: =D37+D38 -> 1 | E36: =E37+E38 -> 0 | F36: =I36+L36 -> 29539 | G36: =J36+M36 -> 5160 | H36: =K36+N36 -> 24379 | I36: =J36+K36 -> 26087 | J36: =J37+J38 -> 3911 | K36: =K37+K38 -> 22176 | L36: =M36+N36 -> 3452 | M36: =M37+M38 -> 1249 | N36: =N37+N38 -> 2203 | O36: =P36+Q36 -> 299 | P36: =P37+P38 -> 14 | Q36: =Q37+Q38 -> 285 | R36: =S36+T36 -> 1089 | S36: =S37+S38 -> 11 | T36: =T37+T38 -> 1078
B37: 公立 | C37: =D37+E37 -> 1 | D37: 1 | E37: 0 | F37: =I37+L37 -> 29539 | G37: =J37+M37 -> 5160 | H37: =K37+N37 -> 24379 | I37: =J37+K37 -> 26087 | J37: 3911 | K37: 22176 | L37: =M37+N37 -> 3452 | M37: 1249 | N37: 2203 | O37: =P37+Q37 -> 299 | P37: 14 | Q37: 285 | R37: =S37+T37 -> 1089 | S37: 11 | T37: 1078
B38: 私立 | C38: =D38+E38 -> 0 | D38: 0 | E38: 0 | F38: =I38+L38 -> 0 | G38: =J38+M38 -> 0 | H38: =K38+N38 -> 0 | I38: =J38+K38 -> 0 | J38: 0 | K38: 0 | L38: =M38+N38 -> 0 | M38: 0 | N38: 0 | O38: =P38+Q38 -> 0 | P38: 0 | Q38: 0 | R38: =S38+T38 -> 0 | S38: 0 | T38: 0
A39: 備註

Sheet 續1
A1: 公 開 類 | R1: 編製機關 | S1: 臺中市生命禮儀管理處
A2: 年 報 | B2: 每年終了後4個月內編報 | R2: 表 號 | S2: 30294-04-02-2
A5: 臺中市骨灰(骸)存放設施概況(續1)
A6: 中華民國114年
A7: 鄉鎮市(區)別 | B7: 公私立別 | C7: 年底處數 | F7: 年底最大容量 | I7: 年底已使用量(含本年納入數量) | L7: 年底尚未使用量 | O7: 本年納入數量 | R7: 本年遷出數量
C8: 合計 | D8: 開放中 | E8: 已停用 | F8: 合計 (位) | G8: 骨骸 (位) | H8: 骨灰 (位) | I8: 合計 (位) | J8: 骨骸 (位) | K8: 骨灰 (位) | L8: 合計 (位) | M8: 骨骸 (位) | N8: 骨灰 (位) | O8: 合計 (位) | P8: 骨骸 (位) | Q8: 骨灰 (位) | R8: 合計 (位) | S8: 骨骸 (位) | T8: 骨灰 (位)
A9: 東勢區 | B9: 合計 | C9: =D9+E9 -> 1 | D9: =D10+D11 -> 1 | E9: =E10+E11 -> 0 | F9: =I9+L9 -> 8092 | G9: =J9+M9 -> 1520 | H9: =K9+N9 -> 6572 | I9: =J9+K9 -> 8081 | J9: =J10+J11 -> 1518 | K9: =K10+K11 -> 6563 | L9: =M9+N9 -> 11 | M9: =M10+M11 -> 2 | N9: =N10+N11 -> 9 | O9: =P9+Q9 -> 22 | P9: =P10+P11 -> 2 | Q9: =Q10+Q11 -> 20 | R9: =S9+T9 -> 13 | S9: =S10+S11 -> 1 | T9: =T10+T11 -> 12
B10: 公立 | C10: =D10+E10 -> 1 | D10: 1 | E10: 0 | F10: =I10+L10 -> 8092 | G10: =J10+M10 -> 1520 | H10: =K10+N10 -> 6572 | I10: =J10+K10 -> 8081 | J10: 1518 | K10: 6563 | L10: =M10+N10 -> 11 | M10: 2 | N10: 9 | O10: =P10+Q10 -> 22 | P10: 2 | Q10: 20 | R10: =S10+T10 -> 13 | S10: 1 | T10: 12
B11: 私立 | C11: =D11+E11 -> 0 | D11: 0 | E11: 0 | F11: =I11+L11 -> 0 | G11: =J11+M11 -> 0 | H11: =K11+N11 -> 0 | I11: =J11+K11 -> 0 | J11: 0 | K11: 0 | L11: =M11+N11 -> 0 | M11: 0 | N11: 0 | O11: =P11+Q11 -> 0 | P11: 0 | Q11: 0 | R11: =S11+T11 -> 0 | S11: 0 | T11: 0
A12: 大甲區 | B12: 合計 | C12: =D12+E12 -> 2 | D12: =D13+D14 -> 2 | E12: =E13+E14 -> 0 | F12: =I12+L12 -> 29526 | G12: =J12+M12 -> 4406 | H12: =K12+N12 -> 25120 | I12: =J12+K12 -> 25504 | J12: =J13+J14 -> 3731 | K12: =K13+K14 -> 21773 | L12: =M12+N12 -> 4022 | M12: =M13+M14 -> 675 | N12: =N13+N14 -> 3347 | O12: =P12+Q12 -> 1142 | P12: =P13+P14 -> 59 | Q12: =Q13+Q14 -> 1083 | R12: =S12+T12 -> 44 | S12: =S13+S14 -> 9 | T12: =T13+T14 -> 35
B13: 公立 | C13: =D13+E13 -> 2 | D13: 2 | E13: 0 | F13: =I13+L13 -> 29526 | G13: =J13+M13 -> 4406 | H13: =K13+N13 -> 25120 | I13: =J13+K13 -> 25504 | J13: 3731 | K13: 21773 | L13: =M13+N13 -> 4022 | M13: 675 | N13: 3347 | O13: =P13+Q13 -> 1142 | P13: 59 | Q13: 1083 | R13: =S13+T13 -> 44 | S13: 9 | T13: 35
B14: 私立 | C14: =D14+E14 -> 0 | D14: 0 | E14: 0 | F14: =I14+L14 -> 0 | G14: =J14+M14 -> 0 | H14: =K14+N14 -> 0 | I14: =J14+K14 -> 0 | J14: 0 | K14: 0 | L14: =M14+N14 -> 0 | M14: 0 | N14: 0 | O14: =P14+Q14 -> 0 | P14: 0 | Q14: 0 | R14: =S14+T14 -> 0 | S14: 0 | T14: 0
A15: 清水區 | B15: 合計 | C15: =D15+E15 -> 2 | D15: =D16+D17 -> 2 | E15: =E16+E17 -> 0 | F15: =I15+L15 -> 20934 | G15: =J15+M15 -> 3330 | H15: =K15+N15 -> 17604 | I15: =J15+K15 -> 20318 | J15: =J16+J17 -> 3095 | K15: =K16+K17 -> 17223 | L15: =M15+N15 -> 616 | M15: =M16+M17 -> 235 | N15: =N16+N17 -> 381 | O15: =P15+Q15 -> 1370 | P15: =P16+P17 -> 48 | Q15: =Q16+Q17 -> 1322 | R15: =S15+T15 -> 33 | S15: =S16+S17 -> 0 | T15: =T16+T17 -> 33
B16: 公立 | C16: =D16+E16 -> 2 | D16: 2 | E16: 0 | F16: =I16+L16 -> 20934 | G16: =J16+M16 -> 3330 | H16: =K16+N16 -> 17604 | I16: =J16+K16 -> 20318 | J16: 3095 | K16: 17223 | L16: =M16+N16 -> 616 | M16: 235 | N16: 381 | O16: =P16+Q16 -> 1370 | P16: 48 | Q16: 1322 | R16: =S16+T16 -> 33 | S16: 0 | T16: 33
B17: 私立 | C17: =D17+E17 -> 0 | D17: 0 | E17: 0 | F17: =I17+L17 -> 0 | G17: =J17+M17 -> 0 | H17: =K17+N17 -> 0 | I17: =J17+K17 -> 0 | J17: 0 | K17: 0 | L17: =M17+N17 -> 0 | M17: 0 | N17: 0 | O17: =P17+Q17 -> 0 | P17: 0 | Q17: 0 | R17: =S17+T17 -> 0 | S17: 0 | T17: 0
A18: 沙鹿區 | B18: 合計 | C18: =D18+E18 -> 1 | D18: =D19+D20 -> 1 | E18: =E19+E20 -> 0 | F18: =I18+L18 -> 20651 | G18: =J18+M18 -> 4172 | H18: =K18+N18 -> 16479 | I18: =J18+K18 -> 19325 | J18: =J19+J20 -> 3841 | K18: =K19+K20 -> 15484 | L18: =M18+N18 -> 1326 | M18: =M19+M20 -> 331 | N18: =N19+N20 -> 995 | O18: =P18+Q18 -> 621 | P18: =P19+P20 -> 52 | Q18: =Q19+Q20 -> 569 | R18: =S18+T18 -> 48 | S18: =S19+S20 -> 6 | T18: =T19+T20 -> 42
B19: 公立 | C19: =D19+E19 -> 1 | D19: 1 | E19: 0 | F19: =I19+L19 -> 20651 | G19: =J19+M19 -> 4172 | H19: =K19+N19 -> 16479 | I19: =J19+K19 -> 19325 | J19: 3841 | K19: 15484 | L19: =M19+N19 -> 1326 | M19: 331 | N19: 995 | O19: =P19+Q19 -> 621 | P19: 52 | Q19: 569 | R19: =S19+T19 -> 48 | S19: 6 | T19: 42
B20: 私立 | C20: =D20+E20 -> 0 | D20: 0 | E20: 0 | F20: =I20+L20 -> 0 | G20: =J20+M20 -> 0 | H20: =K20+N20 -> 0 | I20: =J20+K20 -> 0 | J20: 0 | K20: 0 | L20: =M20+N20 -> 0 | M20: 0 | N20: 0 | O20: =P20+Q20 -> 0 | P20: 0 | Q20: 0 | R20: =S20+T20 -> 0 | S20: 0 | T20: 0
A21: 梧棲區 | B21: 合計 | C21: =D21+E21 -> 1 | D21: =D22+D23 -> 1 | E21: =E22+E23 -> 0 | F21: =I21+L21 -> 7397 | G21: =J21+M21 -> 146 | H21: =K21+N21 -> 7251 | I21: =J21+K21 -> 7392 | J21: =J22+J23 -> 144 | K21: =K22+K23 -> 7248 | L21: =M21+N21 -> 5 | M21: =M22+M23 -> 2 | N21: =N22+N23 -> 3 | O21: =P21+Q21 -> 27 | P21: =P22+P23 -> 4 | Q21: =Q22+Q23 -> 23 | R21: =S21+T21 -> 25 | S21: =S22+S23 -> 0 | T21: =T22+T23 -> 25
B22: 公立 | C22: =D22+E22 -> 1 | D22: 1 | E22: 0 | F22: =I22+L22 -> 7397 | G22: =J22+M22 -> 146 | H22: =K22+N22 -> 7251 | I22: =J22+K22 -> 7392 | J22: 144 | K22: 7248 | L22: =M22+N22 -> 5 | M22: 2 | N22: 3 | O22: =P22+Q22 -> 27 | P22: 4 | Q22: 23 | R22: =S22+T22 -> 25 | S22: 0 | T22: 25
B23: 私立 | C23: =D23+E23 -> 0 | D23: 0 | E23: 0 | F23: =I23+L23 -> 0 | G23: =J23+M23 -> 0 | H23: =K23+N23 -> 0 | I23: =J23+K23 -> 0 | J23: 0 | K23: 0 | L23: =M23+N23 -> 0 | M23: 0 | N23: 0 | O23: =P23+Q23 -> 0 | P23: 0 | Q23: 0 | R23: 0 | S23: 0 | T23: 0
A24: 后里區 | B24: 合計 | C24: =D24+E24 -> 2 | D24: =D25+D26 -> 2 | E24: =E25+E26 -> 0 | F24: =I24+L24 -> 19436 | G24: =J24+M24 -> 5181 | H24: =K24+N24 -> 14255 | I24: =J24+K24 -> 18181 | J24: =J25+J26 -> 5115 | K24: =K25+K26 -> 13066 | L24: =M24+N24 -> 1255 | M24: =M25+M26 -> 66 | N24: =N25+N26 -> 1189 | O24: =P24+Q24 -> 826 | P24: =P25+P26 -> 96 | Q24: =Q25+Q26 -> 730 | R24: =S24+T24 -> 36 | S24: =S25+S26 -> 8 | T24: =T25+T26 -> 28
B25: 公立 | C25: =D25+E25 -> 2 | D25: 2 | E25: 0 | F25: =I25+L25 -> 19436 | G25: =J25+M25 -> 5181 | H25: =K25+N25 -> 14255 | I25: =J25+K25 -> 18181 | J25: 5115 | K25: 13066 | L25: =M25+N25 -> 1255 | M25: 66 | N25: 1189 | O25: =P25+Q25 -> 826 | P25: 96 | Q25: 730 | R25: =S25+T25 -> 36 | S25: 8 | T25: 28
B26: 私立 | C26: =D26+E26 -> 0 | D26: 0 | E26: 0 | F26: =I26+L26 -> 0 | G26: =J26+M26 -> 0 | H26: =K26+N26 -> 0 | I26: =J26+K26 -> 0 | J26: 0 | K26: 0 | L26: =M26+N26 -> 0 | M26: 0 | N26: 0 | O26: =P26+Q26 -> 0 | P26: 0 | Q26: 0 | R26: =S26+T26 -> 0 | S26: 0 | T26: 0
A27: 神岡區 | B27: 合計 | C27: =D27+E27 -> 2 | D27: =D28+D29 -> 2 | E27: =E28+E29 -> 0 | F27: =I27+L27 -> 35070 | G27: =J27+M27 -> 17988 | H27: =K27+N27 -> 17082 | I27: =J27+K27 -> 32234 | J27: =J28+J29 -> 16485 | K27: =K28+K29 -> 15749 | L27: =M27+N27 -> 2836 | M27: =M28+M29 -> 1503 | N27: =N28+N29 -> 1333 | O27: =P27+Q27 -> 858 | P27: =P28+P29 -> 105 | Q27: =Q28+Q29 -> 753 | R27: =S27+T27 -> 44 | S27: =S28+S29 -> 17 | T27: =T28+T29 -> 27
B28: 公立 | C28: =D28+E28 -> 2 | D28: 2 | E28: 0 | F28: =I28+L28 -> 35070 | G28: =J28+M28 -> 17988 | H28: =K28+N28 -> 17082 | I28: =J28+K28 -> 32234 | J28: 16485 | K28: 15749 | L28: =M28+N28 -> 2836 | M28: 1503 | N28: 1333 | O28: =P28+Q28 -> 858 | P28: 105 | Q28: 753 | R28: =S28+T28 -> 44 | S28: 17 | T28: 27
B29: 私立 | C29: =D29+E29 -> 0 | D29: 0 | E29: 0 | F29: =I29+L29 -> 0 | G29: =J29+M29 -> 0 | H29: =K29+N29 -> 0 | I29: =J29+K29 -> 0 | J29: 0 | K29: 0 | L29: =M29+N29 -> 0 | M29: 0 | N29: 0 | O29: =P29+Q29 -> 0 | P29: 0 | Q29: 0 | R29: =S29+T29 -> 0 | S29: 0 | T29: 0
A30: 潭子區 | B30: 合計 | C30: =D30+E30 -> 4 | D30: =D31+D32 -> 4 | E30: =E31+E32 -> 0 | F30: =I30+L30 -> 195358 | G30: =J30+M30 -> 27498 | H30: =K30+N30 -> 167860 | I30: =J30+K30 -> 44106 | J30: =J31+J32 -> 4179 | K30: =K31+K32 -> 39927 | L30: =M30+N30 -> 151252 | M30: =M31+M32 -> 23319 | N30: =N31+N32 -> 127933 | O30: =P30+Q30 -> 3593 | P30: =P31+P32 -> 118 | Q30: =Q31+Q32 -> 3475 | R30: =S30+T30 -> 88 | S30: =S31+S32 -> 14 | T30: =T31+T32 -> 74
B31: 公立 | C31: =D31+E31 -> 2 | D31: 2 | E31: 0 | F31: =I31+L31 -> 15358 | G31: =J31+M31 -> 2498 | H31: =K31+N31 -> 12860 | I31: =J31+K31 -> 14855 | J31: 2344 | K31: 12511 | L31: =M31+N31 -> 503 | M31: 154 | N31: 349 | O31: =P31+Q31 -> 2436 | P31: 71 | Q31: 2365 | R31: 45 | S31: 11 | T31: 34
B32: 私立 | C32: =D32+E32 -> 2 | D32: 2 | E32: 0 | F32: =I32+L32 -> 180000 | G32: =J32+M32 -> 25000 | H32: =K32+N32 -> 155000 | I32: =J32+K32 -> 29251 | J32: 1835 | K32: 27416 | L32: =M32+N32 -> 150749 | M32: 23165 | N32: 127584 | O32: =P32+Q32 -> 1157 | P32: 47 | Q32: 1110 | R32: =S32+T32 -> 43 | S32: 3 | T32: 40
A33: 大雅區 | B33: 合計 | C33: =D33+E33 -> 3 | D33: =D34+D35 -> 3 | E33: =E34+E35 -> 0 | F33: =I33+L33 -> 126040 | G33: =J33+M33 -> 9595 | H33: =K33+N33 -> 116445 | I33: =J33+K33 -> 62915 | J33: =J34+J35 -> 8426 | K33: =K34+K35 -> 54489 | L33: =M33+N33 -> 63125 | M33: =M34+M35 -> 1169 | N33: =N34+N35 -> 61956 | O33: =P33+Q33 -> 3052 | P33: =P34+P35 -> 154 | Q33: =Q34+Q35 -> 2898 | R33: =S33+T33 -> 62 | S33: =S34+S35 -> 3 | T33: =T34+T35 -> 59
B34: 公立 | C34: =D34+E34 -> 2 | D34: 2 | E34: 0 | F34: =I34+L34 -> 26040 | G34: =J34+M34 -> 6595 | H34: =K34+N34 -> 19445 | I34: =J34+K34 -> 24143 | J34: 5954 | K34: 18189 | L34: =M34+N34 -> 1897 | M34: 641 | N34: 1256 | O34: =P34+Q34 -> 2109 | P34: 147 | Q34: 1962 | R34: =S34+T34 -> 62 | S34: 3 | T34: 59
B35: 私立 | C35: 1 | D35: 1 | E35: 0 | F35: =I35+L35 -> 100000 | G35: =J35+M35 -> 3000 | H35: =K35+N35 -> 97000 | I35: =J35+K35 -> 38772 | J35: 2472 | K35: 36300 | L35: =M35+N35 -> 61228 | M35: 528 | N35: 60700 | O35: =P35+Q35 -> 943 | P35: 7 | Q35: 936 | R35: 0 | S35: 0 | T35: 0
A36: 新社區 | B36: 合計 | C36: =D36+E36 -> 0 | D36: =D37+D38 -> 0 | E36: =E37+E38 -> 0 | F36: =I36+L36 -> 0 | G36: =J36+M36 -> 0 | H36: =K36+N36 -> 0 | I36: =J36+K36 -> 0 | J36: =J37+J38 -> 0 | K36: =K37+K38 -> 0 | L36: =M36+N36 -> 0 | M36: =M37+M38 -> 0 | N36: =N37+N38 -> 0 | O36: =P36+Q36 -> 0 | P36: =P37+P38 -> 0 | Q36: =Q37+Q38 -> 0 | R36: =S36+T36 -> 0 | S36: =S37+S38 -> 0 | T36: =T37+T38 -> 0
B37: 公立 | C37: =D37+E37 -> 0 | D37: 0 | E37: 0 | F37: =I37+L37 -> 0 | G37: =J37+M37 -> 0 | H37: =K37+N37 -> 0 | I37: =J37+K37 -> 0 | J37: 0 | K37: 0 | L37: =M37+N37 -> 0 | M37: 0 | N37: 0 | O37: =P37+Q37 -> 0 | P37: 0 | Q37: 0 | R37: =S37+T37 -> 0 | S37: 0 | T37: 0
B38: 私立 | C38: =D38+E38 -> 0 | D38: 0 | E38: 0 | F38: =I38+L38 -> 0 | G38: =J38+M38 -> 0 | H38: =K38+N38 -> 0 | I38: =J38+K38 -> 0 | J38: 0 | K38: 0 | L38: =M38+N38 -> 0 | M38: 0 | N38: 0 | O38: =P38+Q38 -> 0 | P38: 0 | Q38: 0 | R38: =S38+T38 -> 0 | S38: 0 | T38: 0
A39: 備註 | B39: 一、沙鹿區114年增設1,521個骨灰櫃。 二、潭子區114年增設756個骨灰櫃。

Sheet 續2
A1: 公 開 類 | R1: 編製機關 | S1: 臺中市生命禮儀管理處
A2: 年 報 | B2: 每年終了後4個月內編報 | R2: 表 號 | S2: 30294-04-02-2
A5: 臺中市骨灰(骸)存放設施概況(續2完)
A6: 中華民國114年
A7: 鄉鎮市(區)別 | B7: 公私立別 | C7: 年底處數 | F7: 年底最大容量 | I7: 年底已使用量(含本年納入數量) | L7: 年底尚未使用量 | O7: 本年納入數量 | R7: 本年遷出數量
C8: 合計 | D8: 開放中 | E8: 已停用 | F8: 合計 (位) | G8: 骨骸 (位) | H8: 骨灰 (位) | I8: 合計 (位) | J8: 骨骸 (位) | K8: 骨灰 (位) | L8: 合計 (位) | M8: 骨骸 (位) | N8: 骨灰 (位) | O8: 合計 (位) | P8: 骨骸 (位) | Q8: 骨灰 (位) | R8: 合計 (位) | S8: 骨骸 (位) | T8: 骨灰 (位)
A9: 石岡區 | B9: 合計 | C9: =D9+E9 -> 0 | D9: =D10+D11 -> 0 | E9: =E10+E11 -> 0 | F9: =I9+L9 -> 0 | G9: =J9+M9 -> 0 | H9: =K9+N9 -> 0 | I9: =J9+K9 -> 0 | J9: =J10+J11 -> 0 | K9: =K10+K11 -> 0 | L9: =M9+N9 -> 0 | M9: =M10+M11 -> 0 | N9: =N10+N11 -> 0 | O9: =P9+Q9 -> 0 | P9: =P10+P11 -> 0 | Q9: =Q10+Q11 -> 0 | R9: =S9+T9 -> 0 | S9: =S10+S11 -> 0 | T9: =T10+T11 -> 0
B10: 公立 | C10: =D10+E10 -> 0 | D10: 0 | E10: 0 | F10: =I10+L10 -> 0 | G10: =J10+M10 -> 0 | H10: =K10+N10 -> 0 | I10: =J10+K10 -> 0 | J10: 0 | K10: 0 | L10: =M10+N10 -> 0 | M10: 0 | N10: 0 | O10: =P10+Q10 -> 0 | P10: 0 | Q10: 0 | R10: =S10+T10 -> 0 | S10: 0 | T10: 0
B11: 私立 | C11: =D11+E11 -> 0 | D11: 0 | E11: 0 | F11: =I11+L11 -> 0 | G11: =J11+M11 -> 0 | H11: =K11+N11 -> 0 | I11: =J11+K11 -> 0 | J11: 0 | K11: 0 | L11: =M11+N11 -> 0 | M11: 0 | N11: 0 | O11: =P11+Q11 -> 0 | P11: 0 | Q11: 0 | R11: =S11+T11 -> 0 | S11: 0 | T11: 0
A12: 外埔區 | B12: 合計 | C12: =D12+E12 -> 3 | D12: =D13+D14 -> 3 | E12: =E13+E14 -> 0 | F12: =I12+L12 -> 21041 | G12: =J12+M12 -> 9638 | H12: =K12+N12 -> 11403 | I12: =J12+K12 -> 16810 | J12: =J13+J14 -> 8061 | K12: =K13+K14 -> 8749 | L12: =M12+N12 -> 4231 | M12: =M13+M14 -> 1577 | N12: =N13+N14 -> 2654 | O12: =P12+Q12 -> 568 | P12: =P13+P14 -> 53 | Q12: =Q13+Q14 -> 515 | R12: =S12+T12 -> 41 | S12: =S13+S14 -> 23 | T12: =T13+T14 -> 18
B13: 公立 | C13: 3 | D13: 3 | E13: 0 | F13: =I13+L13 -> 21041 | G13: =J13+M13 -> 9638 | H13: =K13+N13 -> 11403 | I13: =J13+K13 -> 16810 | J13: 8061 | K13: 8749 | L13: =M13+N13 -> 4231 | M13: 1577 | N13: 2654 | O13: =P13+Q13 -> 568 | P13: 53 | Q13: 515 | R13: =S13+T13 -> 41 | S13: 23 | T13: 18
B14: 私立 | C14: =D14+E14 -> 0 | D14: 0 | E14: 0 | F14: =I14+L14 -> 0 | G14: =J14+M14 -> 0 | H14: =K14+N14 -> 0 | I14: =J14+K14 -> 0 | J14: 0 | K14: 0 | L14: =M14+N14 -> 0 | M14: 0 | N14: 0 | O14: =P14+Q14 -> 0 | P14: 0 | Q14: 0 | R14: =S14+T14 -> 0 | S14: 0 | T14: 0
A15: 大安區 | B15: 合計 | C15: 1 | D15: 1 | E15: =E16+E17 -> 0 | F15: =I15+L15 -> 4456 | G15: =J15+M15 -> 1536 | H15: =K15+N15 -> 2920 | I15: =J15+K15 -> 3249 | J15: =J16+J17 -> 1525 | K15: =K16+K17 -> 1724 | L15: =M15+N15 -> 1207 | M15: =M16+M17 -> 11 | N15: =N16+N17 -> 1196 | O15: =P15+Q15 -> 20 | P15: =P16+P17 -> 2 | Q15: =Q16+Q17 -> 18 | R15: =S15+T15 -> 5 | S15: =S16+S17 -> 4 | T15: =T16+T17 -> 1
B16: 公立 | C16: 1 | D16: 1 | E16: 0 | F16: =I16+L16 -> 4456 | G16: =J16+M16 -> 1536 | H16: =K16+N16 -> 2920 | I16: =J16+K16 -> 3249 | J16: 1525 | K16: 1724 | L16: =M16+N16 -> 1207 | M16: 11 | N16: 1196 | O16: =P16+Q16 -> 20 | P16: 2 | Q16: 18 | R16: =S16+T16 -> 5 | S16: 4 | T16: 1
B17: 私立 | C17: =D17+E17 -> 0 | D17: 0 | E17: 0 | F17: =I17+L17 -> 0 | G17: =J17+M17 -> 0 | H17: =K17+N17 -> 0 | I17: =J17+K17 -> 0 | J17: 0 | K17: 0 | L17: =M17+N17 -> 0 | M17: 0 | N17: 0 | O17: =P17+Q17 -> 0 | P17: 0 | Q17: 0 | R17: =S17+T17 -> 0 | S17: 0 | T17: 0
A18: 烏日區 | B18: 合計 | C18: =D18+E18 -> 3 | D18: =D19+D20 -> 3 | E18: =E19+E20 -> 0 | F18: =I18+L18 -> 32804 | G18: =J18+M18 -> 10301 | H18: =K18+N18 -> 22503 | I18: =J18+K18 -> 31355 | J18: =J19+J20 -> 9868 | K18: =K19+K20 -> 21487 | L18: =M18+N18 -> 1449 | M18: =M19+M20 -> 433 | N18: =N19+N20 -> 1016 | O18: =P18+Q18 -> 1073 | P18: =P19+P20 -> 24 | Q18: =Q19+Q20 -> 1049 | R18: =S18+T18 -> 87 | S18: =S19+S20 -> 25 | T18: =T19+T20 -> 62
B19: 公立 | C19: =D19+E19 -> 3 | D19: 3 | E19: 0 | F19: =I19+L19 -> 32804 | G19: =J19+M19 -> 10301 | H19: =K19+N19 -> 22503 | I19: =J19+K19 -> 31355 | J19: 9868 | K19: 21487 | L19: =M19+N19 -> 1449 | M19: 433 | N19: 1016 | O19: =P19+Q19 -> 1073 | P19: 24 | Q19: 1049 | R19: =S19+T19 -> 87 | S19: 25 | T19: 62
B20: 私立 | C20: =D20+E20 -> 0 | D20: 0 | E20: 0 | F20: =I20+L20 -> 0 | G20: =J20+M20 -> 0 | H20: =K20+N20 -> 0 | I20: =J20+K20 -> 0 | J20: 0 | K20: 0 | L20: =M20+N20 -> 0 | M20: 0 | N20: 0 | O20: =P20+Q20 -> 0 | P20: 0 | Q20: 0 | R20: =S20+T20 -> 0 | S20: 0 | T20: 0
A21: 大肚區 | B21: 合計 | C21: =D21+E21 -> 3 | D21: =D22+D23 -> 2 | E21: =E22+E23 -> 1 | F21: =I21+L21 -> 3561 | G21: =J21+M21 -> 855 | H21: =K21+N21 -> 2706 | I21: =J21+K21 -> 3189 | J21: =J22+J23 -> 855 | K21: =K22+K23 -> 2334 | L21: =M21+N21 -> 372 | M21: =M22+M23 -> 0 | N21: =N22+N23 -> 372 | O21: =P21+Q21 -> 23 | P21: =P22+P23 -> 0 | Q21: =Q22+Q23 -> 23 | R21: =S21+T21 -> 10 | S21: =S22+S23 -> 0 | T21: =T22+T23 -> 10
B22: 公立 | C22: =D22+E22 -> 1 | D22: 1 | E22: 0 | F22: =I22+L22 -> 2459 | G22: =J22+M22 -> 855 | H22: =K22+N22 -> 1604 | I22: =J22+K22 -> 2090 | J22: 855 | K22: 1235 | L22: =M22+N22 -> 369 | M22: 0 | N22: 369 | O22: =P22+Q22 -> 21 | P22: 0 | Q22: 21 | R22: =S22+T22 -> 10 | S22: 0 | T22: 10
B23: 私立 | C23: =D23+E23 -> 2 | D23: 1 | E23: 1 | F23: =I23+L23 -> 1102 | G23: =J23+M23 -> 0 | H23: =K23+N23 -> 1102 | I23: =J23+K23 -> 1099 | J23: 0 | K23: 1099 | L23: =M23+N23 -> 3 | M23: 0 | N23: 3 | O23: =P23+Q23 -> 2 | P23: 0 | Q23: 2 | R23: 0 | S23: 0 | T23: 0
A24: 龍井區 | B24: 合計 | C24: =D24+E24 -> 0 | D24: =D25+D26 -> 0 | E24: =E25+E26 -> 0 | F24: =I24+L24 -> 0 | G24: =J24+M24 -> 0 | H24: =K24+N24 -> 0 | I24: =J24+K24 -> 0 | J24: =J25+J26 -> 0 | K24: =K25+K26 -> 0 | L24: =M24+N24 -> 0 | M24: =M25+M26 -> 0 | N24: =N25+N26 -> 0 | O24: =P24+Q24 -> 0 | P24: =P25+P26 -> 0 | Q24: =Q25+Q26 -> 0 | R24: =S24+T24 -> 0 | S24: =S25+S26 -> 0 | T24: =T25+T26 -> 0
B25: 公立 | C25: =D25+E25 -> 0 | D25: 0 | E25: 0 | F25: =I25+L25 -> 0 | G25: =J25+M25 -> 0 | H25: =K25+N25 -> 0 | I25: =J25+K25 -> 0 | J25: 0 | K25: 0 | L25: =M25+N25 -> 0 | M25: 0 | N25: 0 | O25: =P25+Q25 -> 0 | P25: 0 | Q25: 0 | R25: =S25+T25 -> 0 | S25: 0 | T25: 0
B26: 私立 | C26: =D26+E26 -> 0 | D26: 0 | E26: 0 | F26: =I26+L26 -> 0 | G26: =J26+M26 -> 0 | H26: =K26+N26 -> 0 | I26: =J26+K26 -> 0 | J26: 0 | K26: 0 | L26: =M26+N26 -> 0 | M26: 0 | N26: 0 | O26: =P26+Q26 -> 0 | P26: 0 | Q26: 0 | R26: =S26+T26 -> 0 | S26: 0 | T26: 0
A27: 霧峰區 | B27: 合計 | C27: =D27+E27 -> 3 | D27: =D28+D29 -> 3 | E27: =E28+E29 -> 0 | F27: =I27+L27 -> 501530 | G27: =J27+M27 -> 14563 | H27: =K27+N27 -> 486967 | I27: =J27+K27 -> 9702 | J27: =J28+J29 -> 755 | K27: =K28+K29 -> 8947 | L27: =M27+N27 -> 491828 | M27: =M28+M29 -> 13808 | N27: =N28+N29 -> 478020 | O27: =P27+Q27 -> 422 | P27: =P28+P29 -> 11 | Q27: =Q28+Q29 -> 411 | R27: =S27+T27 -> 11 | S27: =S28+S29 -> 0 | T27: =T28+T29 -> 11
B28: 公立 | C28: =D28+E28 -> 1 | D28: 1 | E28: 0 | F28: =I28+L28 -> 936 | G28: =J28+M28 -> 115 | H28: =K28+N28 -> 821 | I28: 936 | J28: 115 | K28: 821 | L28: =M28+N28 -> 0 | M28: 0 | N28: 0 | O28: =P28+Q28 -> 3 | P28: 0 | Q28: 3 | R28: =S28+T28 -> 1 | S28: 0 | T28: 1
B29: 私立 | C29: =D29+E29 -> 2 | D29: 2 | E29: 0 | F29: =I29+L29 -> 500594 | G29: =J29+M29 -> 14448 | H29: =K29+N29 -> 486146 | I29: =J29+K29 -> 8766 | J29: 640 | K29: 8126 | L29: =M29+N29 -> 491828 | M29: 13808 | N29: 478020 | O29: =P29+Q29 -> 419 | P29: 11 | Q29: 408 | R29: =S29+T29 -> 10 | S29: 0 | T29: 10
A30: 太平區 | B30: 合計 | C30: 3 | D30: =D31+D32 -> 2 | E30: =E31+E32 -> 1 | F30: =I30+L30 -> 39717 | G30: =J30+M30 -> 8168 | H30: =K30+N30 -> 31549 | I30: =J30+K30 -> 15726 | J30: =J31+J32 -> 7623 | K30: =K31+K32 -> 8103 | L30: =M30+N30 -> 23991 | M30: =M31+M32 -> 545 | N30: =N31+N32 -> 23446 | O30: =P30+Q30 -> 222 | P30: =P31+P32 -> 16 | Q30: =Q31+Q32 -> 206 | R30: =S30+T30 -> 42 | S30: =S31+S32 -> 17 | T30: =T31+T32 -> 25
B31: 公立 | C31: 2 | D31: 1 | E31: 1 | F31: =I31+L31 -> 13280 | G31: =J31+M31 -> 8036 | H31: =K31+N31 -> 5244 | I31: =J31+K31 -> 12764 | J31: 7522 | K31: 5242 | L31: =M31+N31 -> 516 | M31: 514 | N31: 2 | O31: =P31+Q31 -> 40 | P31: 16 | Q31: 24 | R31: =S31+T31 -> 41 | S31: 17 | T31: 24
B32: 私立 | C32: =D32+E32 -> 1 | D32: 1 | E32: 0 | F32: =I32+L32 -> 26437 | G32: =J32+M32 -> 132 | H32: =K32+N32 -> 26305 | I32: =J32+K32 -> 2962 | J32: 101 | K32: 2861 | L32: =M32+N32 -> 23475 | M32: 31 | N32: 23444 | O32: =P32+Q32 -> 182 | P32: 0 | Q32: 182 | R32: =S32+T32 -> 1 | S32: 0 | T32: 1
A33: 大里區 | B33: 合計 | C33: =D33+E33 -> 0 | D33: =D34+D35 -> 0 | E33: =E34+E35 -> 0 | F33: =I33+L33 -> 0 | G33: =J33+M33 -> 0 | H33: =K33+N33 -> 0 | I33: =J33+K33 -> 0 | J33: =J34+J35 -> 0 | K33: =K34+K35 -> 0 | L33: =M33+N33 -> 0 | M33: =M34+M35 -> 0 | N33: =N34+N35 -> 0 | O33: =P33+Q33 -> 0 | P33: =P34+P35 -> 0 | Q33: =Q34+Q35 -> 0 | R33: =S33+T33 -> 0 | S33: =S34+S35 -> 0 | T33: =T34+T35 -> 0
B34: 公立 | C34: =D34+E34 -> 0 | D34: 0 | E34: 0 | F34: =I34+L34 -> 0 | G34: =J34+M34 -> 0 | H34: =K34+N34 -> 0 | I34: =J34+K34 -> 0 | J34: 0 | K34: 0 | L34: =M34+N34 -> 0 | M34: 0 | N34: 0 | O34: =P34+Q34 -> 0 | P34: 0 | Q34: 0 | R34: =S34+T34 -> 0 | S34: 0 | T34: 0
B35: 私立 | C35: =D35+E35 -> 0 | D35: 0 | E35: 0 | F35: =I35+L35 -> 0 | G35: =J35+M35 -> 0 | H35: =K35+N35 -> 0 | I35: =J35+K35 -> 0 | J35: 0 | K35: 0 | L35: =M35+N35 -> 0 | M35: 0 | N35: 0 | O35: =P35+Q35 -> 0 | P35: 0 | Q35: 0 | R35: =S35+T35 -> 0 | S35: 0 | T35: 0
A36: 和平區 | B36: 合計 | C36: =D36+E36 -> 1 | D36: =D37+D38 -> 1 | E36: =E37+E38 -> 0 | F36: =I36+L36 -> 2148 | G36: =J36+M36 -> 678 | H36: =K36+N36 -> 1470 | I36: =J36+K36 -> 1120 | J36: =J37+J38 -> 346 | K36: =K37+K38 -> 774 | L36: =M36+N36 -> 1028 | M36: =M37+M38 -> 332 | N36: =N37+N38 -> 696 | O36: =P36+Q36 -> 72 | P36: =P37+P38 -> 5 | Q36: =Q37+Q38 -> 67 | R36: =S36+T36 -> 5 | S36: =S37+S38 -> 1 | T36: =T37+T38 -> 4
B37: 公立 | C37: =D37+E37 -> 1 | D37: 1 | E37: 0 | F37: =I37+L37 -> 2148 | G37: =J37+M37 -> 678 | H37: =K37+N37 -> 1470 | I37: =J37+K37 -> 1120 | J37: 346 | K37: 774 | L37: =M37+N37 -> 1028 | M37: 332 | N37: 696 | O37: =P37+Q37 -> 72 | P37: 5 | Q37: 67 | R37: =S37+T37 -> 5 | S37: 1 | T37: 4
B38: 私立 | C38: =D38+E38 -> 0 | D38: 0 | E38: 0 | F38: =I38+L38 -> 0 | G38: =J38+M38 -> 0 | H38: =K38+N38 -> 0 | I38: =J38+K38 -> 0 | J38: 0 | K38: 0 | L38: 0 | M38: 0 | N38: 0 | O38: =P38+Q38 -> 0 | P38: 0 | Q38: 0 | R38: =S38+T38 -> 0 | S38: 0 | T38: 0
A39: 備註 | B39: 一、烏日區114年增設1,107個骨灰櫃。 二、大肚區114年增設336個骨灰櫃。
A40: 填表 | D40: 審核 | G40: 業務主管人員 | K40: 機關首長
G41: 主辦統計人員 | R41: 中華民國115年3月27日編製
A42: 資料來源：本處墓政管理課依據殯葬設施使用狀況月報表資料彙編。
A43: 填表說明：本表編製1份，並依統計法規定永久保存，資料透過網際網路上傳至「臺中市公務統計行政管理系統」與內政部統計處統計資料庫。
