Workbook

Sheet 表一
A1: 公 開 類 | H1: 編製機關 | I1: 臺中市政府環境保護局
A2: 半 年 報 | B2: 期間終了1個月內編報 | H2: 表 號 | I2: 30990-00-01-2
A3: 臺中市環保人員概況(修正表)
A4: 一、本市環保單位 | B4: 中華民國113年下半年底 | I4: 單位:人
A5: 類 別 | B5: 總 計 | E5: 環境保護局 (不包括廢棄物清運處理單位) | H5: 廢棄物清運處理單位
B6: 計 | C6: 男 | D6: 女 | E6: 計 | F6: 男 | G6: 女 | H6: 計 | I6: 男 | J6: 女
A7: 總計 | B7: =C7+D7 -> 4330 | C7: =SUM(C9:C16) -> 3238 | D7: =SUM(D9:D16) -> 1092 | E7: =SUM(F7:G7) -> 349 | F7: =IF(F9+F10+F11+F12+F13+F14+F15+F16=表二!B18, F9+F10+F11+F12+F13+F15+F14+F16, "F") -> 171 | G7: =IF(G9+G10+G11+G12+G13+G14+G15+G16=表二!B19, G9+G10+G11+G12+G13+G15+G14+G16, "F") -> 178 | H7: =SUM(I7:J7) -> 3981 | I7: =IF(I9+I10+I11+I12+I13+I14+I15+I16=表三!B24, I9+I10+I11+I12+I13+I15+I14+I16, "F") -> 3067 | J7: =IF(J9+J10+J11+J12+J13+J14+J15+J16=表三!B25, J9+J10+J11+J12+J13+J15+J14+J16, "F") -> 914
A8: 職員 | B8: =SUM(C8:D8) -> 258 | C8: =SUM(C9:C13) -> 143 | D8: =SUM(D9:D13) -> 115 | E8: =SUM(F8:G8) -> 220 | F8: =SUM(F9:F13) -> 118 | G8: =SUM(G9:G13) -> 102 | H8: =SUM(I8:J8) -> 38 | I8: =SUM(I9:I13) -> 25 | J8: =SUM(J9:J13) -> 13
A9: 特任、比照簡任 | B9: =SUM(C9:D9) -> 1 | C9: =F9+I9 -> 1 | D9: =G9+J9 -> 0 | E9: =IF(F9+G9=表二!B9, F9+G9, "F") -> 1 | F9: 1 | G9: 0 | H9: =IF(I9+J9=表三!B10, I9+J9, "F") -> 0 | I9: 0 | J9: 0
A10: 簡任(10職等以上) | B10: =SUM(C10:D10) -> 7 | C10: =F10+I10 -> 6 | D10: =G10+J10 -> 1 | E10: =IF(F10+G10=表二!B10, F10+G10, "F") -> 7 | F10: 6 | G10: 1 | H10: =IF(I10+J10=表三!B11, I10+J10, "F") -> 0 | I10: 0 | J10: 0
A11: 薦任(6-9職等) | B11: =SUM(C11:D11) -> 191 | C11: =F11+I11 -> 106 | D11: =G11+J11 -> 85 | E11: =IF(F11+G11=表二!B11, F11+G11, "F") -> 153 | F11: 81 | G11: 72 | H11: =IF(I11+J11=表三!B12, I11+J11, "F") -> 38 | I11: 25 | J11: 13
A12: 委任(1-5職等) | B12: =SUM(C12:D12) -> 59 | C12: =F12+I12 -> 30 | D12: =G12+J12 -> 29 | E12: =IF(F12+G12=表二!B12, F12+G12, "F") -> 59 | F12: 30 | G12: 29 | H12: =IF(I12+J12=表三!B13, I12+J12, "F") -> 0 | I12: 0 | J12: 0
A13: 雇員 | B13: =SUM(C13:D13) -> 0 | C13: =F13+I13 -> 0 | D13: =G13+J13 -> 0 | E13: =IF(F13+G13=表二!B13, F13+G13, "F") -> 0 | F13: 0 | G13: 0 | H13: =IF(I13+J13=表三!B14, I13+J13, "F") -> 0 | I13: 0 | J13: 0
A14: 約聘(僱) | B14: =SUM(C14:D14) -> 73 | C14: =F14+I14 -> 35 | D14: =G14+J14 -> 38 | E14: =IF(F14+G14=表二!B14, F14+G14, "F") -> 73 | F14: 35 | G14: 38 | H14: =IF(I14+J14=表三!B15, I14+J14, "F") -> 0 | I14: 0 | J14: 0
A15: 工員 | B15: =SUM(C15:D15) -> 3999 | C15: =F15+I15 -> 3060 | D15: =G15+J15 -> 939 | E15: =IF(F15+G15=表二!B15, F15+G15, "F") -> 56 | F15: 18 | G15: 38 | H15: =IF(I15+J15=表三!B16, I15+J15, "F") -> 3943 | I15: 3042 | J15: 901
A16: 其他 | B16: =SUM(C16:D16) -> 0 | C16: =F16+I16 -> 0 | D16: =G16+J16 -> 0 | E16: =IF(F16+G16=表二!B16, F16+G16, "F") -> 0 | F16: 0 | G16: 0 | H16: =IF(I16+J16=表三!B22, I16+J16, "F") -> 0 | I16: 0 | J16: 0

Sheet 表二
A1: 公 開 類 | L1: 編製機關 | M1: 臺中市政府環境保護局
A2: 半 年 報 | B2: 期間終了1個月內編報 | L2: 表號 | M2: 30990-00-01-2
A3: 臺中市環保人員概況(續1)(修正表)
A4: 二、環境保護局 單位:人 | B4: 中華民國113年下半年底 | O4: 單位:人
A5: 項 目 別 | B5: 總 計 | C5: 行政輔助 | D5: 綜合規劃 | E5: 空氣品質保護 | F5: 氣候變遷 因應 | G5: 噪音及 振動防制 | H5: 水質保護 | I5: 土壤及地下水污染整治 | J5: 廢棄物 管理 | K5: 環境衛生、 毒化物管理 | L5: 陳情、稽查、糾紛處理 | M5: 監測及檢驗 | N5: 研究發展 | O5: 其他業務
A6: 總計：A=B=C=D | B6: =IF(AND(B7=B17, B17=B20, B20=B7), B7, "F") -> 349 | C6: =IF(AND(C7=C17, C17=C20, C20=C7), C7, "F") -> 79 | D6: =IF(AND(D7=D17, D17=D20, D20=D7), D7, "F") -> 24 | E6: =IF(AND(E7=E17, E17=E20, E20=E7), E7, "F") -> 25 | F6: =IF(AND(F7=F17, F17=F20, F20=F7), F7, "F") -> 10 | G6: =IF(AND(G7=G17, G17=G20, G20=G7), G7, "F") -> 10 | H6: =IF(AND(H7=H17, H17=H20, H20=H7), H7, "F") -> 14 | I6: =IF(AND(I7=I17, I17=I20, I20=I7), I7, "F") -> 8 | ... O6: =IF(AND(O7=O17, O17=O20, O20=O7), O7, "F") -> 11
A7: 按類別分：B=(1)+(2)+(3)+(4) | B7: =B8+B14+B15+B16 -> 349 | C7: =C8+C14+C15+C16 -> 79 | D7: =D8+D14+D15+D16 -> 24 | E7: =E8+E14+E15+E16 -> 25 | F7: =F8+F14+F15+F16 -> 10 | G7: =G8+G14+G15+G16 -> 10 | H7: =H8+H14+H15+H16 -> 14 | I7: =I8+I14+I15+I16 -> 8 | ... O7: =O8+O14+O15+O16 -> 11
A8: 職員(1) | B8: =SUM(B9:B13) -> 220 | C8: =SUM(C9:C13) -> 48 | D8: =SUM(D9:D13) -> 17 | E8: =SUM(E9:E13) -> 15 | F8: =SUM(F9:F13) -> 1 | G8: =SUM(G9:G13) -> 3 | H8: =SUM(H9:H13) -> 11 | I8: =SUM(I9:I13) -> 4 | ... O8: =SUM(O9:O13) -> 7
A9: 特任、比照簡任 | B9: =SUM(C9:O9) -> 1 | C9: 1 | D9: 0 | E9: 0 | F9: 0 | G9: 0 | H9: 0 | I9: 0 | J9: 0 | K9: 0 | L9: 0 | M9: 0 | N9: 0 | O9: 0
A10: 簡任(10-14職等) | B10: =SUM(C10:O10) -> 7 | C10: 7 | D10: 0 | E10: 0 | F10: 0 | G10: 0 | H10: 0 | I10: 0 | J10: 0 | K10: 0 | L10: 0 | M10: 0 | N10: 0 | O10: 0
A11: 薦任(6-9職等) | B11: =SUM(C11:O11) -> 153 | C11: 29 | D11: 13 | E11: 12 | F11: 1 | G11: 3 | H11: 11 | I11: 1 | J11: 37 | K11: 9 | L11: 22 | M11: 11 | N11: 0 | O11: 4
A12: 委任(1-5職等) | B12: =SUM(C12:O12) -> 59 | C12: 11 | D12: 4 | E12: 3 | F12: 0 | G12: 0 | H12: 0 | I12: 3 | J12: 20 | K12: 5 | L12: 7 | M12: 3 | N12: 0 | O12: 3
A13: 雇員 | B13: =SUM(C13:O13) -> 0 | C13: 0 | D13: 0 | E13: 0 | F13: 0 | G13: 0 | H13: 0 | I13: 0 | J13: 0 | K13: 0 | L13: 0 | M13: 0 | N13: 0 | O13: 0
A14: 約聘(僱)(2) | B14: =SUM(C14:O14) -> 73 | C14: 7 | D14: 6 | E14: 10 | F14: 3 | G14: 4 | H14: 3 | I14: 4 | J14: 8 | K14: 5 | L14: 19 | M14: 3 | N14: 0 | O14: 1
A15: 工員(3) | B15: =SUM(C15:O15) -> 56 | C15: 24 | D15: 1 | E15: 0 | F15: 6 | G15: 3 | H15: 0 | I15: 0 | J15: 11 | K15: 2 | L15: 6 | M15: 0 | N15: 0 | O15: 3
A16: 其他(4) | B16: =SUM(C16:O16) -> 0 | C16: 0 | D16: 0 | E16: 0 | F16: 0 | G16: 0 | H16: 0 | I16: 0 | J16: 0 | K16: 0 | L16: 0 | M16: 0 | N16: 0 | O16: 0
A17: 按性別分：C=(5)+(6) | B17: =SUM(C17:O17) -> 349 | C17: =SUM(C18:C19) -> 79 | D17: =SUM(D18:D19) -> 24 | E17: =SUM(E18:E19) -> 25 | F17: =SUM(F18:F19) -> 10 | G17: =SUM(G18:G19) -> 10 | H17: =SUM(H18:H19) -> 14 | I17: =SUM(I18:I19) -> 8 | J17: =SUM(J18:J19) -> 76 | ... O17: =SUM(O18:O19) -> 11
A18: 男 (5) | B18: =SUM(C18:O18) -> 171 | C18: 24 | D18: 7 | E18: 14 | F18: 4 | G18: 4 | H18: 7 | I18: 3 | J18: 46 | K18: 9 | L18: 37 | M18: 9 | N18: 0 | O18: 7
A19: 女 (6) | B19: =SUM(C19:O19) -> 178 | C19: 55 | D19: 17 | E19: 11 | F19: 6 | G19: 6 | H19: 7 | I19: 5 | J19: 30 | K19: 12 | L19: 17 | M19: 8 | N19: 0 | O19: 4
A20: 按年齡別分：D=(7)+…+(12) | B20: =SUM(C20:O20) -> 349 | C20: =SUM(C21:C26) -> 79 | D20: =SUM(D21:D26) -> 24 | E20: =SUM(E21:E26) -> 25 | F20: =SUM(F21:F26) -> 10 | G20: =SUM(G21:G26) -> 10 | H20: =SUM(H21:H26) -> 14 | I20: =SUM(I21:I26) -> 8 | J20: =SUM(J21:J26) -> 76 | ... O20: =SUM(O21:O26) -> 11
A21: 29歲以下 (7) | B21: =SUM(C21:O21) -> 41 | C21: 6 | D21: 2 | E21: 5 | F21: 1 | G21: 2 | H21: 0 | I21: 2 | J21: 12 | K21: 5 | L21: 4 | M21: 2 | N21: 0 | O21: 0
A22: 30-39歲 (8) | B22: =SUM(C22:O22) -> 111 | C22: 17 | D22: 11 | E22: 7 | F22: 4 | G22: 6 | H22: 4 | I22: 4 | J22: 24 | K22: 5 | L22: 25 | M22: 4 | N22: 0 | O22: 0
A23: 40-49歲 (9) | B23: =SUM(C23:O23) -> 96 | C23: 24 | D23: 2 | E23: 7 | F23: 2 | G23: 2 | H23: 8 | I23: 2 | J23: 21 | K23: 7 | L23: 11 | M23: 6 | N23: 0 | O23: 4
A24: 50-59歲 (10) | B24: =SUM(C24:O24) -> 74 | C24: 24 | D24: 8 | E24: 5 | F24: 2 | G24: 0 | H24: 1 | I24: 0 | J24: 15 | K24: 4 | L24: 9 | M24: 3 | N24: 0 | O24: 3
A25: 60-65歲 (11) | B25: =SUM(C25:O25) -> 27 | C25: 8 | D25: 1 | E25: 1 | F25: 1 | G25: 0 | H25: 1 | I25: 0 | J25: 4 | K25: 0 | L25: 5 | M25: 2 | N25: 0 | O25: 4
A26: 65歲以上 (12) | B26: =SUM(C26:O26) -> 0 | C26: 0 | D26: 0 | E26: 0 | F26: 0 | G26: 0 | H26: 0 | I26: 0 | J26: 0 | K26: 0 | L26: 0 | M26: 0 | N26: 0 | O26: 0

Sheet 表三
A1: 公 開 類 | I1: 編製機關 | J1: 臺中市政府環境保護局
A2: 半 年 報 | B2: 期間終了1個月內編報 | I2: 表 號 | J2: 30990-00-01-2
A3: 臺中市環保人員概況(續2完)(修正表)
A4: 三、廢棄物清運處理單位 | B4: 中華民國113年下半年底 | J4: 單位:人
A5: 項 目 別 | B5: 總 計 | C5: 清 運 單 位 | H5: 處 理 單 位
C6: 計 | D6: 垃圾清運 | E6: 水肥清運 | F6: 資源回收 | G6: 其他 | H6: 計 | I6: 垃圾焚化廠 、掩埋場 | J6: 水肥處理廠
A7: 總計：A=B=C=D | B7: =IF(AND(B8=B23, B23=B26, B26=B8), B8, "F") -> 3981 | C7: =C9+C15+C16+C22 -> 3888 | D7: =IF(AND(D8=D23, D23=D26, D26=D8), D8, "F") -> 1670 | E7: =IF(AND(E8=E23, E23=E26, E26=E8), E8, "F") -> 74 | F7: =IF(AND(F8=F23, F23=F26, F26=F8), F8, "F") -> 1099 | G7: =IF(AND(G8=G23, G23=G26, G26=G8), G8, "F") -> 1045 | H7: =H9+H15+H16+H22 -> 93 | I7: =IF(AND(I8=I23, I23=I26, I26=I8), I8, "F") -> 89 | J7: =IF(AND(J8=J23, J23=J26, J26=J8), J8, "F") -> 4
A8: 按類別分：B=(1)+(2)+(3)+(4) | B8: =B9+B15+B16+B22 -> 3981 | C8: =SUM(D8:G8) -> 3888 | D8: =SUM(D10:D16)+D22 -> 1670 | E8: =SUM(E10:E16)+E22 -> 74 | F8: =SUM(F10:F16)+F22 -> 1099 | G8: =SUM(G10:G16)+G22 -> 1045 | H8: =SUM(I8:J8) -> 93 | I8: =SUM(I10:I16)+I22 -> 89 | J8: =SUM(J10:J16)+J22 -> 4
A9: 職員(1) | B9: =C9+H9 -> 38 | C9: =SUM(D9:G9) -> 38 | D9: =SUM(D10:D14) -> 0 | E9: =SUM(E10:E14) -> 0 | F9: =SUM(F10:F14) -> 0 | G9: =SUM(G10:G14) -> 38 | H9: =SUM(I9:J9) -> 0 | I9: =SUM(I10:I14) -> 0 | J9: =SUM(J10:J14) -> 0
A10: 特任、比照簡任 | B10: =C10+H10 -> 0 | C10: =SUM(D10:G10) -> 0 | D10: 0 | E10: 0 | F10: 0 | G10: 0 | H10: =SUM(I10:J10) -> 0 | I10: 0 | J10: 0
A11: 簡任(10-14職等) | B11: =C11+H11 -> 0 | C11: =SUM(D11:G11) -> 0 | D11: 0 | E11: 0 | F11: 0 | G11: 0 | H11: =SUM(I11:J11) -> 0 | I11: 0 | J11: 0
A12: 薦任(6-9職等) | B12: =C12+H12 -> 38 | C12: =SUM(D12:G12) -> 38 | D12: 0 | E12: 0 | F12: 0 | G12: 38 | H12: =SUM(I12:J12) -> 0 | I12: 0 | J12: 0
A13: 委任(1-5職等) | B13: =C13+H13 -> 0 | C13: =SUM(D13:G13) -> 0 | D13: 0 | E13: 0 | F13: 0 | G13: 0 | H13: =SUM(I13:J13) -> 0 | I13: 0 | J13: 0
A14: 雇員 | B14: =C14+H14 -> 0 | C14: =SUM(D14:G14) -> 0 | D14: 0 | E14: 0 | F14: 0 | G14: 0 | H14: =SUM(I14:J14) -> 0 | I14: 0 | J14: 0
A15: 約聘(僱)(2) | B15: =C15+H15 -> 0 | C15: =SUM(D15:G15) -> 0 | D15: 0 | E15: 0 | F15: 0 | G15: 0 | H15: =SUM(I15:J15) -> 0 | I15: 0 | J15: 0
A16: 工員(3) | B16: =C16+H16 -> 3943 | C16: =SUM(D16:G16) -> 3850 | D16: =SUM(D17:D21) -> 1670 | E16: =SUM(E17:E21) -> 74 | F16: =SUM(F17:F21) -> 1099 | G16: =SUM(G17:G21) -> 1007 | H16: =SUM(I16:J16) -> 93 | I16: =SUM(I17:I21) -> 89 | J16: =SUM(J17:J21) -> 4
A17: 隊員 | B17: =C17+H17 -> 1785 | C17: =SUM(D17:G17) -> 1716 | D17: 716 | E17: 34 | F17: 303 | G17: 663 | H17: =SUM(I17:J17) -> 69 | I17: 65 | J17: 4
A18: 駕駛 | B18: =C18+H18 -> 1028 | C18: =SUM(D18:G18) -> 1006 | D18: 469 | E18: 33 | F18: 327 | G18: 177 | H18: =SUM(I18:J18) -> 22 | I18: 22 | J18: 0
A19: 技工、工友 | B19: =C19+H19 -> 2 | C19: =SUM(D19:G19) -> 2 | D19: 0 | E19: 0 | F19: 0 | G19: 2 | H19: =SUM(I19:J19) -> 0 | I19: 0 | J19: 0
A20: 臨時工 | B20: =C20+H20 -> 1128 | C20: =SUM(D20:G20) -> 1126 | D20: 485 | E20: 7 | F20: 469 | G20: 165 | H20: =SUM(I20:J20) -> 2 | I20: 2 | J20: 0
A21: 代賑工 | B21: =C21+H21 -> 0 | C21: =SUM(D21:G21) -> 0 | D21: 0 | E21: 0 | F21: 0 | G21: 0 | H21: =SUM(I21:J21) -> 0 | I21: 0 | J21: 0
A22: 其他(4) | B22: =C22+H22 -> 0 | C22: =SUM(D22:G22) -> 0 | D22: 0 | E22: 0 | F22: 0 | G22: 0 | H22: =SUM(I22:J22) -> 0 | I22: 0 | J22: 0
A23: 按性別分：C=(5)+(6) | B23: =C23+H23 -> 3981 | C23: =SUM(D23:G23) -> 3888 | D23: =SUM(D24:D25) -> 1670 | E23: =SUM(E24:E25) -> 74 | F23: =SUM(F24:F25) -> 1099 | G23: =SUM(G24:G25) -> 1045 | H23: =SUM(I23:J23) -> 93 | I23: =SUM(I24:I25) -> 89 | J23: =SUM(J24:J25) -> 4
A24: 男 (5) | B24: =C24+H24 -> 3067 | C24: =SUM(D24:G24) -> 2990 | D24: 1293 | E24: 59 | F24: 930 | G24: 708 | H24: =SUM(I24:J24) -> 77 | I24: 74 | J24: 3
A25: 女 (6) | B25: =C25+H25 -> 914 | C25: =SUM(D25:G25) -> 898 | D25: 377 | E25: 15 | F25: 169 | G25: 337 | H25: =SUM(I25:J25) -> 16 | I25: 15 | J25: 1
A26: 按年齡別分：D=(7)+…+(12) | B26: =C26+H26 -> 3981 | C26: =SUM(D26:G26) -> 3888 | D26: =SUM(D27:D32) -> 1670 | E26: =SUM(E27:E32) -> 74 | F26: =SUM(F27:F32) -> 1099 | G26: =SUM(G27:G32) -> 1045 | H26: =SUM(I26:J26) -> 93 | I26: =SUM(I27:I32) -> 89 | J26: =SUM(J27:J32) -> 4
A27: 29歲以下 (7) | B27: =C27+H27 -> 349 | C27: =SUM(D27:G27) -> 349 | D27: 147 | E27: 0 | F27: 135 | G27: 67 | H27: =SUM(I27:J27) -> 0 | I27: 0 | J27: 0
A28: 30-39歲 (8) | B28: =C28+H28 -> 1074 | C28: =SUM(D28:G28) -> 1058 | D28: 416 | E28: 17 | F28: 352 | G28: 273 | H28: =SUM(I28:J28) -> 16 | I28: 15 | J28: 1
A29: 40-49歲 (9) | B29: =C29+H29 -> 1308 | C29: =SUM(D29:G29) -> 1286 | D29: 529 | E29: 29 | F29: 345 | G29: 383 | H29: =SUM(I29:J29) -> 22 | I29: 21 | J29: 1
A30: 50-59歲 (10) | B30: =C30+H30 -> 871 | C30: =SUM(D30:G30) -> 832 | D30: 390 | E30: 18 | F30: 195 | G30: 229 | H30: =SUM(I30:J30) -> 39 | I30: 37 | J30: 2
A31: 60-65歲 (11) | B31: =C31+H31 -> 379 | C31: =SUM(D31:G31) -> 363 | D31: 188 | E31: 10 | F31: 72 | G31: 93 | H31: =SUM(I31:J31) -> 16 | I31: 16 | J31: 0
A32: 65歲以上 (12) | B32: =C32+H32 -> 0 | C32: =SUM(D32:G32) -> 0 | D32: 0 | E32: 0 | F32: 0 | G32: 0 | H32: =SUM(I32:J32) -> 0 | I32: 0 | J32: 0
A33: 資料來源：由本局人事室彙整本局各類人員在職人數等相關資料編製。 | I33: 中華民國 114 年 3 月 24 日編製
A34: 填表說明：本表編製2份，1份送環境部統計處，1份依統計法規定永久保存，資料透過網際路上傳至「臺中市公務統計行政管理系統」。
A35: 修正原因：處理單位_垃圾焚化廠、掩埋場之技工、工友及臨時工項目歸類有誤，故修正。
A36: 填表 | B36: 審核 | D36: 業務主管人員 | G36: 機關首長
D37: 主辦統計人員
